Workbook
Name BUDJET: 'F_Advance(งานอาคาร)'!$A$5:$A$29
Name FBUILD: 'F_Advance(งานอาคาร)'!$A$2:$Q$29
Name RET_0: 'F_Advance(งานอาคาร)'!$A$4:$E$29
Name RET_10: 'F_Advance(งานอาคาร)'!$A$4:$A$29,'F_Advance(งานอาคาร)'!$J$4:$L$29
Name RET_5: 'F_Advance(งานอาคาร)'!$A$4:$A$29,'F_Advance(งานอาคาร)'!$F$4:$I$29

Sheet แบบ ปร.6
A1: แบบสรุปราคากลาง งานก่อสร้าง
A2: ชื่อโครงการ/ | B2: งานจ้างก่อสร้างโรงเลี้ยง ศฝ.สอ.รฝ. ขนาด 500 คน จำนวน 1 หลัง
A3: สถานที่ก่อสร้าง | B3: อ.สัตหีบ จว.ชลบุรี
A4: แบบเลขที่ | B4: 62-2-107,62-4-029,62-5-045,35-2-062
A5: หน่วยงานเจ้าของโครงการ/งานก่อสร้าง | C5: ศฝ.สอ.รฝ.
A6: แบบ ปร.4 และ ปร.5 ที่แนบ | C6: 27
A9: ลำดับที่ | B9: รายการ | C9: ค่าก่อสร้าง | D9: หมายเหตุ
C10: ( บาท )
A11: 1 | B11: งานก่อสร้างโรงเลี้ยง ศฝ.สอ.รฝ. ขนาด 500 คน | C11: =+'ใบสรุปแบบ ปร.5 (ก) '!H26 -> 12184884
A12: 2 | B12: ครุภัณฑ์ | C12: =+'ใบสรุปแบบ ปร.5 (ข)'!H27 -> 1075355.4
B26: รวมค่าก่อสร้างทั้งโครงการ | C26: =SUM(C11:C25) -> 13260239
B27: สรุปราคา(ปัดเศษ) | C27: 13260000 | E27: =+C27-C26 -> -239.36606
B28: ="ราคา ( "&BAHTTEXT(C27)&" )" -> ราคา ( สิบสามล้านสองแสนหกหมื่นบาทถ้วน )
B30: คณะกรรมการกำหนดราคากลาง
A31: น.อ.หญิง | B31: ประภาศรี ตั้งจิตรเจริญ | C31: ประธานกรรมการ
A33: น.ท. | B33: อนวัช วรรณศรี | C33: กรรมการ
A35: ร.อ.หญิง | B35: พัทธยากร ด้วงอ่ำ | C35: กรรมการและเลขานุการ

Sheet ใบสรุปแบบ ปร.5 (ก) 
A1: =+'แบบ ปร.6'!A1 -> แบบสรุปราคากลาง งานก่อสร้าง
A2: กลุ่มงาน | B2: งานอาคาร
A3: ชื่อโครงการ | B3: ='แบบ ปร.6'!B2 -> งานจ้างก่อสร้างโรงเลี้ยง ศฝ.สอ.รฝ. ขนาด 500 คน จำนวน 1 หลัง
A4: สถานที่ก่อสร้าง | B4: =+'แบบ ปร.6'!B3 -> อ.สัตหีบ จว.ชลบุรี | D4: แบบเลขที่ | E4: =+'แบบ ปร.6'!B4 -> 62-2-107,62-4-029,62-5-045,35-2-062
A5: หน่วยงานเจ้าของโครงการ/งานก่อสร้าง | D5: =+'แบบ ปร.6'!C5 -> ศฝ.สอ.รฝ. | F5: แบบ ปร. 4 ที่แนบ จำนวน | H5: 23
A7: ลำดับที่ | B7: รายการ | F7: ค่างานต้นทุน | G7: FACTOR F | H7: ค่าก่อสร้าง | I7: หมายเหตุ
F8: ( บาท ) | H8: ( บาท )
A9: 1 | B9: งานโรงเลี้ยง 500 คน | F9: =+'แบบ ปร.4_อาคาร '!I185 -> 5849274.7
A10: 2 | B10: งานระบบไฟฟ้าภายในและระบบโทรศัพท์ | F10: =+ฟฟ.!K74 -> 427409
A11: 3 | B11: งานระบบประปาภายใน | F11: =+ปป.ภายใน!K121 -> 718924.6
A12: 4 | B12: งานภูมิทัศน์ | F12: =+'ถนน+ลาน+ภูมิทัศน์'!K45 -> 1792215
A13: 5 | B13: งานระบบไฟฟ้าภายนอก | F13: =+ฟฟ.ภนอ.!I28 -> 137644
A14: 6 | B14: งานระบบประปาภายนอก | F14: =+ปป.ภายนอก!K64 -> 529707.72
B19: ราคารวม วัสดุ + แรงงาน | F19: =SUM(F9:F18) -> 9455175 | G19: =+O24 -> 1.2887 | H19: =F19*G19 -> 12184884
B21: เงื่อนไขการใช้ตาราง Factor F | K21: =+B2 -> งานอาคาร | N21: ส่วนต่างวงเงิน | O21: ค่าเปลี่ยนแปลง | R21: RETENSION
B22: เงินล่วงหน้าจ่าย | F22: 0.15 | K22: วงเงิน | L22: FACTOR F | N22: =IF( K24="> 500",0,F19-K23*1000000) -> 4455175 | O22: =IF( K24="> 500",L23,L23-L24) -> 0.0076 | Q22: วงเงิน | R22: 0 | S22: 0.05 | T22: 0.1
B23: เงินประกันผลงานหัก | F23: 0 | K23: 5 | L23: =+HLOOKUP(F23,R22:T24,2) -> 1.2955 | N23: =IF(K23="> 500",0,K24*1000000-K23*1000000) -> 5000000 | O23: =IF( K24="> 500",0,O22*N22/N23) -> 0.006771866 | Q23: =+K23 -> 5 | R23: =IF(F23=0,IF(F22=0%,VLOOKUP(K23,FBUILD,2),IF(F22=5%,VLOOKUP(K23,FBUILD,3),IF(F22=10%,VLOOKUP(K23,FBUILD,4),IF(F22=15%,VLOOKUP(K23,FBUILD,5),"ERROR"))))) -> 1.2955 | S23: =+IF(F23=5%,IF(F22=0%,VLOOKUP(K23,FBUILD,6),IF(F22=5%,VLOOKUP(K23,FBUILD,7),IF(F22=10%,VLOOKUP(K23,FBUILD,8),IF(F22=15%,VLOOKUP(K23,FBUILD,9),"ERROR"))))) -> FALSE | T23: =+IF(F23=10%,IF(F22=0%,VLOOKUP(K23,FBUILD,10),IF(F22=5%,VLOOKUP(K23,FBUILD,11),IF(F22=10%,VLOOKUP(K23,FBUILD,12),IF(F22=15%,VLOOKUP(K23,FBUILD,13),"ERROR"))))) -> FALSE
B24: ดอกเบี้ยเงินกู้ | F24: 0.06 | K24: 10 | L24: =+HLOOKUP(F23,R22:T24,3) -> 1.2879 | N24: FACTOR F -> | O24: =ROUND(L23-O23,4) -> 1.2887 | Q24: =+K24 -> 10 | R24: =IF(F23=0,IF(F22=0%,VLOOKUP(K24,FBUILD,2),IF(F22=5%,VLOOKUP(K24,FBUILD,3),IF(F22=10%,VLOOKUP(K24,FBUILD,4),IF(F22=15%,VLOOKUP(K24,FBUILD,5),"ERROR"))))) -> 1.2879 | S24: =+IF(F23=5%,IF(F22=0%,VLOOKUP(K24,FBUILD,6),IF(F22=5%,VLOOKUP(K24,FBUILD,7),IF(F22=10%,VLOOKUP(K24,FBUILD,8),IF(F22=15%,VLOOKUP(K24,FBUILD,9),"ERROR"))))) -> FALSE | T24: =+IF(F23=10%,IF(F22=0%,VLOOKUP(K24,FBUILD,10),IF(F22=5%,VLOOKUP(K24,FBUILD,11),IF(F22=10%,VLOOKUP(K24,FBUILD,12),IF(F22=15%,VLOOKUP(K24,FBUILD,13),"ERROR"))))) -> FALSE
B25: VAT | F25: 0.07 | K25: หมายเหตุ : ใช้ FACTOR F ที่ปรับปรุงและทบทวน ของ กรมบัญชีกลาง ล่าสุด ตามหนังสือเวียน
A26: รวมราคาก่อสร้าง | H26: =SUM(H9:H25) -> 12184884 | L26: ที่ กค.0405.3/ ว.364 เมื่อวันที่ 15 ก.ย. 2559
C28: คณะกรรมการกำหนดราคากลาง
B29: น.อ.หญิง | C29: ประภาศรี ตั้งจิตรเจริญ | E29: ประธานกรรมการ
B31: น.ท. | C31: อนวัช วรรณศรี | E31: กรรมการ
B33: ร.อ.หญิง | C33: พัทธยากร ด้วงอ่ำ | E33: กรรมการและเลขานุการ

Sheet ใบสรุปแบบ ปร.5 (ข)
A1: แบบสรุปค่าครุภัณฑ์ จัดซื้อ
A2: กลุ่มงาน | B2: งานอาคาร
A3: ชื่อโครงการ | B3: ='แบบ ปร.6'!B2 -> งานจ้างก่อสร้างโรงเลี้ยง ศฝ.สอ.รฝ. ขนาด 500 คน จำนวน 1 หลัง
A4: สถานที่ก่อสร้าง | B4: =+'แบบ ปร.6'!B3 -> อ.สัตหีบ จว.ชลบุรี | D4: แบบเลขที่ | E4: =+'แบบ ปร.6'!B4 -> 62-2-107,62-4-029,62-5-045,35-2-062
A5: หน่วยงานเจ้าของโครงการ/งานก่อสร้าง | D5: =+'แบบ ปร.6'!C5 -> ศฝ.สอ.รฝ. | F5: แบบ ปร. 4 ที่แนบ จำนวน | H5: 2
A7: ลำดับที่ | B7: รายการ | F7: ค่างาน | G7: ภาษี | H7: ค่าก่อสร้าง | I7: หมายเหตุ
F8: ( บาท ) | G8: มูลค่าเพิ่ม | H8: ( บาท )
A9: 1 | B9: ครุภัณฑ์ประจำอาคาร | F9: =+ครุภัณฑ์!I25 -> 665000
A10: 2 | B10: ครุภัณฑ์ประปา | F10: =+ครุภัณฑ์!I43 -> 340005
B25: ราคารวม ค่าครุภัณฑ์ | F25: =SUM(F9:F21) -> 1005005 | G25: 1.07 | H25: =F25*G25 -> 1075355.4
A27: รวมราคา ค่าครุภัณฑ์ จัดซื้อ | H27: =SUM(H9:H26) -> 1075355.4
C29: คณะกรรมการกำหนดราคากลาง
B30: น.อ.หญิง | C30: ประภาศรี ตั้งจิตรเจริญ | E30: ประธานกรรมการ
B32: น.ท. | C32: อนวัช วรรณศรี | E32: กรรมการ
B34: ร.อ.หญิง | C34: พัทธยากร ด้วงอ่ำ | E34: กรรมการและเลขานุการ

Sheet แบบ ปร.4_อาคาร 
A1: แบบแสดงรายการปริมาณงานและราคา
A2: กลุ่มงาน | B2: งานอาคาร
A3: ชื่อโครงการ | B3: =+'แบบ ปร.6'!B2 -> งานจ้างก่อสร้างโรงเลี้ยง ศฝ.สอ.รฝ. ขนาด 500 คน จำนวน 1 หลัง | F3: แบบเลขที่ | G3: 35-2-062,62-2-107
A4: สถานที่ | B4: =+'แบบ ปร.6'!B3 -> อ.สัตหีบ จว.ชลบุรี | C4: หน่วยงานเจ้าของโครงการ | F4: =+'แบบ ปร.6'!C5 -> ศฝ.สอ.รฝ.
A6: ลำดับที่ | B6: รายการ | C6: จำนวน | D6: หน่วย | E6: ค่าวัสดุ (บาท ) | G6: ค่าแรงงาน (บาท ) | I6: รวม (บาท ) | J6: หมายเหตุ
E7: ราคาหน่วยละ | F7: จำนวนเงิน | G7: ราคาหน่วยละ | H7: จำนวนเงิน | I7: วัสดุและแรงงาน
B8: งานเสาเข็ม และฐานราก ค.ส.ล.
B9: - เสาเข็ม ค.อ.ร. [] 0.35x0.35 ม. ยาว 8 .00 ม. Safe load 20 ตัน/ต้น | C9: 96 | D9: ต้น | E9: 4120 | F9: =SUM(C9*E9) -> 395520 | G9: 790 | H9: =C9*G9 -> 75840 | I9: =SUM(F9+H9) -> 471360
B10: - BORNING TEST | C10: 2 | D10: หลุม | E10: 15000 | F10: =SUM(C10*E10) -> 30000 | G10: วัสดุ + แรงงาน | I10: =SUM(F10+H10) -> 30000
B11: - Dynamic Load Test | C11: 2 | D11: ต้น | E11: 30000 | F11: =SUM(C11*E11) -> 60000 | G11: วัสดุ + แรงงาน | I11: =SUM(F11+H11) -> 60000
B12: - ขุดดินและถมคืน | C12: 83 | D12: ลบ.ม. | E12: - | F12: - | G12: 99 | H12: =C12*G12 -> 8217 | I12: =SUM(H12) -> 8217
B13: - ทรายหยาบ | C13: 6 | D13: ลบ.ม. | E13: 538 | F13: =SUM(C13*E13) -> 3228 | G13: 91 | H13: =C13*G13 -> 546 | I13: =SUM(F13+H13) -> 3774
B14: - คอนกรีตหยาบ | C14: 3 | D14: ลบ.ม. | E14: 2065 | F14: =SUM(C14*E14) -> 6195 | G14: 398 | H14: =C14*G14 -> 1194 | I14: =SUM(F14+H14) -> 7389
B15: - คอนกรีตโครงสร้าง | C15: 35 | D15: ลบ.ม. | E15: 2140 | F15: =SUM(C15*E15) -> 74900 | G15: 391 | H15: =C15*G15 -> 13685 | I15: =SUM(F15+H15) -> 88585
B16: - แบบหล่อคอนกรีต | C16: 189 | D16: ตร.ม. | E16: 200 | F16: =SUM(C16*E16) -> 37800 | G16: 133 | H16: =C16*G16 -> 25137 | I16: =SUM(F16+H16) -> 62937
B17: - เหล็กเสริมคอนกรีต
B18: RB 9 mm. (RB 24 ) | C18: 0.44 | D18: ตัน | E18: 21379 | F18: =SUM(C18*E18) -> 9406.76 | G18: 4100 | H18: =C18*G18 -> 1804 | I18: =SUM(F18+H18) -> 11210.76
B19: DB 16 mm. (DB 40 ) | C19: 3.54 | D19: ตัน | E19: 21540 | F19: =SUM(C19*E19) -> 76251.6 | G19: 3300 | H19: =C19*G19 -> 11682 | I19: =SUM(F19+H19) -> 87933.6
B20: - ลวดผูกเหล็ก | C20: 119 | D20: กก. | E20: 31 | F20: =SUM(C20*E20) -> 3689 | G20: - | H20: - | I20: =SUM(F20) -> 3689 | K20: =+C18+C19 -> 3.98 | L20: =+K20*30 -> 119.4
B21: - ตะปู | C21: 48 | D21: กก. | E21: 47 | F21: =SUM(C21*E21) -> 2256 | G21: - | H21: - | I21: =SUM(F21) -> 2256 | K21: =+C16 -> 189 | L21: =+K21*0.25 -> 47.25
B28: รวม | F28: =SUM(F8:F27) -> 699246.36 | H28: =SUM(H8:H27) -> 138105 | K28: =+H28+F28 -> 837351.36
B29: รวมเงินหน้านี้ | I29: =SUM(I8:I28) -> 837351.36
B30: งานเสาตอม่อและ โครงสร้าง ค.ส.ล.
B31: - ทรายหยาบ | C31: 24 | D31: ลบ.ม. | E31: 537 | F31: =SUM(C31*E31) -> 12888 | G31: 91 | H31: =C31*G31 -> 2184 | I31: =SUM(F31+H31) -> 15072
B32: - คอนกรีตโครงสร้าง | C32: =103+8 -> 111 | D32: ลบ.ม. | E32: 2140 | F32: =SUM(C32*E32) -> 237540 | G32: 391 | H32: =C32*G32 -> 43401 | I32: =SUM(F32+H32) -> 280941
B33: - แบบหล่อคอนกรีต | C33: =853+139 -> 992 | D33: ตร.ม. | E33: 200 | F33: =SUM(C33*E33) -> 198400 | G33: 133 | H33: =C33*G33 -> 131936 | I33: =SUM(F33+H33) -> 330336
B34: - เหล็กเสริมคอนกรีต
B35: RB 6 mm. (RB 24 ) | C35: =1.39+0.21 -> 1.6 | D35: ตัน | E35: 21980 | F35: =SUM(C35*E35) -> 35168 | G35: 4100 | H35: =C35*G35 -> 6560 | I35: =SUM(F35+H35) -> 41728
B36: RB 9 mm. (RB 24 ) | C36: 0.925 | D36: ตัน | E36: 21379 | F36: =SUM(C36*E36) -> 19775.575 | G36: 4100 | H36: =C36*G36 -> 3792.5 | I36: =SUM(F36+H36) -> 23568.075
B37: DB 12 mm. (DB 40 ) | C37: =3.12+0.4 -> 3.52 | D37: ตัน | E37: 21307 | F37: =SUM(C37*E37) -> 75000.64 | G37: 3300 | H37: =C37*G37 -> 11616 | I37: =SUM(F37+H37) -> 86616.64
B38: DB 16 mm. (DB 40 ) | C38: =2.735+0.83 -> 3.565 | D38: ตัน | E38: 21540 | F38: =SUM(C38*E38) -> 76790.1 | G38: 3300 | H38: =C38*G38 -> 11764.5 | I38: =SUM(F38+H38) -> 88554.6
B39: - พื้นสำเร็จรูป หนา 5 ซม.รับน้ำหนักไม่น้อยกว่า 300 กก./ตร.ม. | C39: 889 | D39: ตร.ม. | E39: 280 | F39: =SUM(C39*E39) -> 248920 | G39: 25 | H39: =C39*G39 -> 22225 | I39: =SUM(F39+H39) -> 271145
B40: - เหล็ก WIRE MESH ø 4 มม. @ 0.20# | C40: 1070 | D40: ตร.ม. | E40: 47 | F40: =SUM(C40*E40) -> 50290 | G40: 5 | H40: =C40*G40 -> 5350 | I40: =SUM(F40+H40) -> 55640
B41: - คอนกรีตทับหน้า | C41: 47 | D41: ลบ.ม. | E41: 2140 | F41: =SUM(C41*E41) -> 100580 | G41: 391 | H41: =C41*G41 -> 18377 | I41: =SUM(F41+H41) -> 118957
B42: - ลวดผูกเหล็ก | C42: 245 | D42: กก. | E42: 31 | F42: =SUM(C42*E42) -> 7595 | G42: - | H42: - | I42: =SUM(F42) -> 7595
B43: - ตะปู | C43: 188 | D43: กก. | E43: 47 | F43: =SUM(C43*E43) -> 8836 | G43: - | H43: - | I43: =SUM(F43) -> 8836
B44: - ดินเดิมบดอัดแน่น | C44: 184 | D44: ตร.ม. | E44: - | F44: - | G44: 20 | H44: =C44*G44 -> 3680 | I44: =SUM(H44) -> 3680
B45: - รอยต่อคอนกรีตคั้นด้วยโฟม หนา 2 ซม. ลึกประมาณ 15 ซม.
B46: ยาแนวด้วยแอสฟัลท์ผสมทราย | C46: 116 | D46: ม. | E46: 35 | F46: =SUM(C46*E46) -> 4060 | G46: วัสดุ+ | H46: แรงงาน | I46: =SUM(F46) -> 4060
B47: - งานกำจัดปลวก | C47: 1601 | D47: ตร.ม. | E47: 55 | F47: =SUM(C47*E47) -> 88055 | G47: วัสดุ + แรงงาน | I47: =SUM(F47+H47) -> 88055
B48: - เส้น PVC ฝังพื้น | C48: 350 | D48: ม. | E48: 15 | F48: =SUM(C48*E48) -> 5250 | G48: วัสดุ + แรงงาน | I48: =SUM(F48+H48) -> 5250
B50: รวม | F50: =SUM(F31:F48) -> 1169148.3 | H50: =SUM(H31:H48) -> 260886 | K50: =+F50+H50 -> 1430034.3
B51: รวมเงินหน้านี้ | I51: =SUM(I31:I50) -> 1430034.3
B52: งานโครงหลังคาเหล็ก
B53: - เหล็ก []100 x 50 x 3.2 มม. | C53: 4460 | D53: กก. | E53: 21 | F53: =SUM(C53*E53) -> 93660 | G53: - | H53: - | I53: =SUM(F53) -> 93660
B54: - เหล็ก [] 50 x 50 x 3.2 มม. | C54: 2720 | D54: กก. | E54: 21 | F54: =SUM(C54*E54) -> 57120 | G54: - | H54: - | I54: =SUM(F54) -> 57120
B55: - เหล็ก [ 100 x 50 x 20 x 3.2 มม. | C55: 7580 | D55: กก. | E55: 21 | F55: =SUM(C55*E55) -> 159180 | G55: - | H55: - | I55: =SUM(F55) -> 159180
B56: - เหล็กแผ่น หนา 8 มม. | C56: 104 | D56: แผ่น | E56: 200 | F56: =SUM(C56*E56) -> 20800 | G56: - | H56: - | I56: =SUM(F56) -> 20800
B57: - เหล็กแผ่นขนาด 200 x 200 x 6 มม.4 ø 15 มม.ANCHOR BOLT | C57: 26 | D57: ชุด | E57: 350 | F57: =SUM(C57*E57) -> 9100 | G57: - | H57: - | I57: =SUM(F57) -> 9100
B58: - เหล็กแผ่นขนาด 200 x 200 x 6 มม.DB 16 มม.ANCHOR BOLT | C58: 13 | D58: ชุด | E58: 300 | F58: =SUM(C58*E58) -> 3900 | G58: - | H58: - | I58: =SUM(F58) -> 3900
B59: - เหล็ก L 50 x 50 x 4 มม. | C59: 19 | D59: กก. | E59: 23 | F59: =SUM(C59*E59) -> 437 | G59: - | H59: - | I59: =SUM(F59) -> 437
B60: - TIE ROD ø 12 มม.พร้อมเกลียวผ่อนเร่ง | C60: 24 | D60: ชุด | E60: 500 | F60: =SUM(C60*E60) -> 12000 | G60: - | H60: - | I60: =SUM(F60) -> 12000
B61: - ค่าแรงประกอบและติดตั้งโครงหลังคาเหล็ก | C61: 14760 | D61: กก. | E61: - | F61: - | G61: 12 | H61: =SUM(C61*G61) -> 177120 | I61: =SUM(H61) -> 177120 | K61: =+C53+C54+C55 -> 14760
B62: - งานทาสีกันสนิมและสีน้ำมัน | C62: 936 | D62: ตร.ม. | E62: 150 | F62: =SUM(C62*E62) -> 140400 | G62: วัสดุ + แรงงาน | I62: =SUM(F62+H62) -> 140400
B72: รวม | F72: =SUM(F53:F70) -> 496597 | H72: =SUM(H53:H70) -> 177120 | K72: =+H72+F72 -> 673717
B73: รวมเงินหน้านี้ | I73: =SUM(I53:I72) -> 673717
B74: งานมุงหลังคา
B75: - หลังคาเหล็กรีดลอนเคลือบสี หนา 0.50 มม. ฉนวนกันความร้อน หนา 5 มม. | C75: 1102 | D75: ตร.ม. | E75: =420+20+125 -> 565 | F75: =SUM(C75*E75) -> 622630 | G75: 70 | H75: =SUM(C75*G75) -> 77140 | I75: =SUM(F75+H75) -> 699770
B76: - ปิดจั่ว 2 ด้าน เหล็กรีดลอนเคลือบสี หนา 0.50 มม. พร้อมโครงคร่าว | C76: 64 | D76: ตร.ม. | E76: 650 | F76: =SUM(C76*E76) -> 41600 | G76: วัสดุ + | H76: แรงงาน | I76: =SUM(F76) -> 41600
B77: - FLASHING(ครอบสัน) | C77: 50 | D77: ม. | E77: 340 | F77: =SUM(C77*E77) -> 17000 | G77: 50 | H77: =SUM(C77*G77) -> 2500 | I77: =SUM(F77+H77) -> 19500
B78: - FLASHING(ครอบข้าง) | C78: 45 | D78: ม. | E78: 220 | F78: =SUM(C78*E78) -> 9900 | G78: 50 | H78: =SUM(C78*G78) -> 2250 | I78: =SUM(F78+H78) -> 12150
B81: งานฝ้าเพดาน
B82: - ฝ้ายิบซั่มบอร์ด หนา 9 มม.ฉาบรอยต่อเรียบ โครงคร่าวเหล็ก ชุบสังกะสี | C82: 850 | D82: ตร.ม. | E82: 305 | F82: =SUM(C82*E82) -> 259250 | G82: 75 | H82: =SUM(C82*G82) -> 63750 | I82: =SUM(F82+H82) -> 323000 | K82: =18.2*48 -> 873.6 | L82: =+K82-24 -> 849.6
B83: - ฝ้ายิบซั่มบอร์ด หนา 9 มม.ชนิดทนชื้น ฉาบรอยต่อเรียบ
B84: โครงคร่าวเหล็กชุบสังกะสี | C84: 25 | D84: ตร.ม. | E84: 335 | F84: =SUM(C84*E84) -> 8375 | G84: 75 | H84: =SUM(C84*G84) -> 1875 | I84: =SUM(F84+H84) -> 10250
B85: - ฝ้าเพดานเหล็กรีดลอนเคลือบสี ความหนาเหล็กรวมชั้นเคลือบไม่น้อยกว่า
B86: 0.50 มม. ติดตั้งโดยระบบสกรูโครงคร่าวเหล็กชุบสังกะสี | C86: 207 | D86: ตร.ม. | E86: 445 | F86: =SUM(C86*E86) -> 92115 | G86: 70 | H86: =C86*G86 -> 14490 | I86: =SUM(F86+H86) -> 106605
B87: - BOTTOM TRIM | C87: 143 | D87: ม. | E87: 260 | F87: =SUM(C87*E87) -> 37180 | G87: 50 | H87: =C87*G87 -> 7150 | I87: =SUM(F87+H87) -> 44330 | K87: 242
B88: - FLASHING CEILING | C88: 133 | D88: ม. | E88: 260 | F88: =SUM(C88*E88) -> 34580 | G88: 50 | H88: =C88*G88 -> 6650 | I88: =SUM(F88+H88) -> 41230
B89: - EAVES FLASHING + DRLLING | C89: 143 | D89: ม. | E89: 260 | F89: =SUM(C89*E89) -> 37180 | G89: 50 | H89: =C89*G89 -> 7150 | I89: =SUM(F89+H89) -> 44330
B94: รวม | F94: =SUM(F75:F93) -> 1159810 | H94: =SUM(H75:H92) -> 182955 | K94: =+H94+F94 -> 1342765
B95: รวมเงินหน้านี้ | I95: =SUM(I75:I94) -> 1342765
B96: งานผนังและฝา
B97: - ผนังก่ออิฐมวลเบา | C97: 319 | D97: ตร.ม. | E97: 250 | F97: =SUM(C97*E97) -> 79750 | G97: 56 | H97: =SUM(C97*G97) -> 17864 | I97: =SUM(F97+H97) -> 97614
B98: - ผนังก่ออิฐบล็อคโชว์แนว | C98: 71 | D98: ตร.ม. | E98: 170 | F98: =SUM(C98*E98) -> 12070 | G98: =80+30 -> 110 | H98: =SUM(C98*G98) -> 7810 | I98: =SUM(F98+H98) -> 19880
B99: - ผนังก่ออิฐบล็อคระบายอากาศ | C99: 57 | D99: ตร.ม. | E99: 210 | F99: =SUM(C99*E99) -> 11970 | G99: 80 | H99: =SUM(C99*G99) -> 4560 | I99: =SUM(F99+H99) -> 16530
B100: - ผนังฉาบปูนเรียบ | C100: 798 | D100: ตร.ม. | E100: 90 | F100: =SUM(C100*E100) -> 71820 | G100: 82 | H100: =SUM(C100*G100) -> 65436 | I100: =SUM(F100+H100) -> 137256
B101: - ผนังกรุกระเบื้องเซรามิค ขนาด 0.20 x 0.20 ม. | C101: 228 | D101: ตร.ม. | E101: 250 | F101: =SUM(C101*E101) -> 57000 | G101: 166 | H101: =SUM(C101*G101) -> 37848 | I101: =SUM(F101+H101) -> 94848
B102: - งานเสาเอ็นและทับหลัง ค.ส.ล. | C102: 195 | D102: ม. | E102: 70 | F102: =SUM(C102*E102) -> 13650 | G102: 44 | H102: =SUM(C102*G102) -> 8580 | I102: =SUM(F102+H102) -> 22230 | K102: =6.1*6 -> 36.6
B104: งานผิวพื้น
B105: - พื้นปูกระเบื้องเซรามิค ขนาด 0.20 x 0.20 ม. | C105: 25 | D105: ตร.ม. | E105: 250 | F105: =SUM(C105*E105) -> 6250 | G105: 158 | H105: =SUM(C105*G105) -> 3950 | I105: =SUM(F105+H105) -> 10200
B106: - พื้นผิวซีเมนต์ขัดมัน | C106: 833 | D106: ตร.ม. | E106: 100 | F106: =SUM(C106*E106) -> 83300 | G106: 82 | H106: =SUM(C106*G106) -> 68306 | I106: =SUM(F106+H106) -> 151606
B107: - พื้นผิวซีเมนต์ขัดหยาบ | C107: 281 | D107: ตร.ม. | E107: 80 | F107: =SUM(C107*E107) -> 22480 | G107: 61 | H107: =SUM(C107*G107) -> 17141 | I107: =SUM(F107+H107) -> 39621
B108: - พื้นผิวซีเมนต์ขัดมันตีเส้น | C108: 16 | D108: ตร.ม. | E108: 100 | F108: =SUM(C108*E108) -> 1600 | G108: 127 | H108: =SUM(C108*G108) -> 2032 | I108: =SUM(F108+H108) -> 3632
B109: - บัวเชิงผนังขัดมัน สูง 0.20 ม. | C109: 139 | D109: ม. | E109: 200 | F109: =SUM(C109*E109) -> 27800 | G109: วัสดุ + แรงงาน | I109: =SUM(F109+H109) -> 27800
B116: รวม | F116: =SUM(F97:F115) -> 387690 | H116: =SUM(H97:H115) -> 233527 | K116: =+H116+F116 -> 621217
B117: รวมเงินหน้านี้ | I117: =SUM(I97:I116) -> 621217
B118: งานประตู - หน้าต่าง
B119: - ป 1 | C119: 6 | D119: ชุด | E119: 15500 | F119: =SUM(C119*E119) -> 93000 | G119: วัสดุ + แรงงาน | I119: =SUM(F119+H119) -> 93000
B120: - ป 2 | C120: 1 | D120: ชุด | E120: 15500 | F120: =SUM(C120*E120) -> 15500 | G120: วัสดุ + แรงงาน | I120: =SUM(F120+H120) -> 15500
B121: - ป 3 | C121: 1 | D121: ชุด | E121: 3500 | F121: =SUM(C121*E121) -> 3500 | G121: วัสดุ + แรงงาน | I121: =SUM(F121+H121) -> 3500
B122: - ป 4 | C122: 5 | D122: ชุด | E122: 4500 | F122: =SUM(C122*E122) -> 22500 | G122: วัสดุ + แรงงาน | I122: =SUM(F122+H122) -> 22500
B123: - น 1 | C123: 16 | D123: ชุด | E123: 6000 | F123: =SUM(C123*E123) -> 96000 | G123: วัสดุ + แรงงาน | I123: =SUM(F123+H123) -> 96000
B124: - น 1' | C124: 4 | D124: ชุด | E124: 10000 | F124: =SUM(C124*E124) -> 40000 | G124: วัสดุ + แรงงาน | I124: =SUM(F124+H124) -> 40000
B125: - น 2 | C125: 2 | D125: ชุด | E125: 14500 | F125: =SUM(C125*E125) -> 29000 | G125: วัสดุ + แรงงาน | I125: =SUM(F125+H125) -> 29000
B126: - น 3 | C126: 2 | D126: ชุด | E126: 5000 | F126: =SUM(C126*E126) -> 10000 | G126: วัสดุ + แรงงาน | I126: =SUM(F126+H126) -> 10000
B127: - น 4 | C127: 4 | D127: ชุด | E127: 3000 | F127: =SUM(C127*E127) -> 12000 | G127: วัสดุ + แรงงาน | I127: =SUM(F127+H127) -> 12000
B138: รวม | F138: =SUM(F119:F136) -> 321500 | H138: =SUM(H119:H136) -> 0 | K138: =+H138+F138 -> 321500
B139: รวมเงินหน้านี้ | I139: =SUM(I119:I138) -> 321500
B140: งานสุขภัณฑ์
...

Sheet ฟฟ.
A1: แบบแสดงรายการปริมาณงานและราคา
A2: กลุ่มงาน | B2: งานอาคาร
A3: ชื่อโครงการ | B3: =+'แบบ ปร.6'!B2 -> งานจ้างก่อสร้างโรงเลี้ยง ศฝ.สอ.รฝ. ขนาด 500 คน จำนวน 1 หลัง | F3: แบบเลขที่ | G3: =+'แบบ ปร.4_อาคาร '!G3 -> 35-2-062,62-2-107
A4: สถานที่ | B4: =+'แบบ ปร.6'!B3 -> อ.สัตหีบ จว.ชลบุรี | C4: หน่วยงานเจ้าของโครงการ | F4: =+'แบบ ปร.6'!C5 -> ศฝ.สอ.รฝ.
A6: ลำดับที่ | B6: รายการ | C6: จำนวน | D6: หน่วย | E6: ค่าวัสดุ (บาท ) | G6: ค่าแรงงาน (บาท ) | I6: รวม (บาท ) | J6: หมายเหตุ
E7: ราคาหน่วยละ | F7: จำนวนเงิน | G7: ราคาหน่วยละ | H7: จำนวนเงิน | I7: วัสดุและแรงงาน
B8: งานระบบไฟฟ้าภายใน
B9: - TAPER LUMINAIRE 2x~16-18W. LED TUBE LAMP | C9: 54 | D9: ชุด | E9: 2200 | F9: =SUM(C9*E9) -> 118800 | G9: 150 | H9: =SUM(C9*G9) -> 8100 | I9: =SUM(F9+H9) -> 126900
B10: - ACRYLIC DIFFUSER LUMINAIRE (RECESS TYPE)
B11: 2x~16-20W. LED TUBE LAMP | C11: 6 | D11: ชุด | E11: 1990 | F11: =SUM(C11*E11) -> 11940 | G11: 150 | H11: =SUM(C11*G11) -> 900 | I11: =SUM(F11+H11) -> 12840
B12: - DOWNLIGHT LUMINAI (RERECESS TYPE) 1X ~12 W. LED BULB
B13: LAMP (REPLACEME OF 100W GLS LAMP) | C13: 8 | D13: ชุด | E13: 500 | F13: =SUM(C13*E13) -> 4000 | G13: 115 | H13: =SUM(C13*G13) -> 920 | I13: =SUM(F13+H13) -> 4920
B14: - WATER PROOF LUMINAIRE 1x~8-10W. LED TUBE LAMP IP65 | C14: 10 | D14: ชุด | E14: 1000 | F14: =SUM(C14*E14) -> 10000 | G14: 135 | H14: =SUM(C14*G14) -> 1350 | I14: =SUM(F14+H14) -> 11350
B15: - 16A. 250 V.AC. ONE WAY SWITCH NUMBER "X" /w. BOX | C15: 28 | D15: ชุด | E15: 60 | F15: =C15*E15 -> 1680 | G15: 80 | H15: =SUM(G15*C15) -> 2240 | I15: =SUM(H15+F15) -> 3920
B16: - 16A. 250V.AC. DUPLEX RECEPTACLE (2P+G)
B17: UNIVERSAL TYPE | C17: 24 | D17: ชุด | E17: 200 | F17: =SUM(C17*E17) -> 4800 | G17: 90 | H17: =SUM(G17*C17) -> 2160 | I17: =SUM(H17+F17) -> 6960
B18: - 16" CEILING FAN | C18: 35 | D18: ชุด | E18: 1920 | F18: =SUM(C18*E18) -> 67200 | G18: 400 | H18: =SUM(G18*C18) -> 14000 | I18: =SUM(H18+F18) -> 81200
B19: ตู้ LC-1
B20: - ตู้ LOAD CENTER ชนิดมี 36 ช่อง พร้อม MAIN CIRCUIT
B21: BREAKER 63AT. 3P. MCCB. 15kA.IC. at.416 V.AC. | C21: 1 | D21: ชุด | E21: 12530 | F21: =C21*E21 -> 12530 | G21: 1500 | H21: =SUM(C21*G21) -> 1500 | I21: =SUM(F21+H21) -> 14030
B22: - BRANCH BREAKER 10AT. 1P. 6kA. | C22: 5 | D22: ชุด | E22: 158 | F22: =C22*E22 -> 790 | G22: - | H22: - | I22: =SUM(F22) -> 790
B23: - BRANCH BREAKER 20AT. 1P. 6kA. | C23: 12 | D23: ชุด | E23: 158 | F23: =C23*E23 -> 1896 | G23: - | H23: - | I23: =SUM(F23) -> 1896
B24: - BRANCH BREAKER 20AT. 1P. 6kA. RCBO | C24: 4 | D24: ชุด | E24: 1533 | F24: =C24*E24 -> 6132 | G24: - | H24: - | I24: =SUM(F24) -> 6132
B25: - GROUND SYSTEM | C25: 1 | D25: ชุด | E25: 2200 | F25: =SUM(C25*E25) -> 2200 | G25: 300 | H25: =SUM(C25*G25) -> 300 | I25: =SUM(F25+H25) -> 2500
B26: - MCB 32AT. 3P. 10 kA. | C26: 1 | D26: ชุด | E26: 2170 | F26: =C26*E26 -> 2170 | G26: 100 | H26: =SUM(C26*G26) -> 100 | I26: =SUM(F26+H26) -> 2270
B29: รวม | F29: =SUM(F9:F26) -> 244138 | H29: =SUM(H9:H26) -> 31570 | K29: =+H29+F29 -> 275708
B30: รวมเงินหน้านี้ | I30: =SUM(I9:I26) -> 275708
B31: สายไฟฟ้าและท่อร้อยสายไฟฟ้า
B32: - 1.5 Sq.mm. IEC-01 | C32: 1076 | D32: เมตร | E32: 6 | F32: =C32*E32 -> 6456 | G32: 5 | H32: =SUM(C32*G32) -> 5380 | I32: =SUM(F32+H32) -> 11836
B33: - 2.5 Sq.mm. IEC-01 | C33: 1340 | D33: เมตร | E33: 8 | F33: =C33*E33 -> 10720 | G33: 7 | H33: =SUM(C33*G33) -> 9380 | I33: =SUM(F33+H33) -> 20100
B34: - 4 Sq.mm. IEC-01 | C34: 1123 | D34: เมตร | E34: 12 | F34: =C34*E34 -> 13476 | G34: 10 | H34: =SUM(C34*G34) -> 11230 | I34: =SUM(F34+H34) -> 24706
B35: - 6 Sq.mm. IEC-01 | C35: 253 | D35: เมตร | E35: 20 | F35: =C35*E35 -> 5060 | G35: 12 | H35: =SUM(C35*G35) -> 3036 | I35: =SUM(F35+H35) -> 8096
B36: - ท่อ ø 15 mm. EMT. | C36: 355 | D36: ท่อน | E36: 76 | F36: =C36*E36 -> 26980 | G36: 66 | H36: =SUM(C36*G36) -> 23430 | I36: =SUM(F36+H36) -> 50410
B37: - ท่อ ø 15 mm. IMC. | C37: 87 | D37: ท่อน | E37: 162 | F37: =C37*E37 -> 14094 | G37: 78 | H37: =SUM(C37*G37) -> 6786 | I37: =SUM(F37+H37) -> 20880
B38: - ท่อ ø 20 mm. IMC. | C38: 20 | D38: ท่อน | E38: 216 | F38: =C38*E38 -> 4320 | G38: 84 | H38: =SUM(C38*G38) -> 1680 | I38: =SUM(F38+H38) -> 6000
B39: - JUNCTION BOX | C39: 1 | D39: ชุด | E39: 70 | F39: =C39*E39 -> 70 | G39: 60 | H39: =SUM(C39*G39) -> 60 | I39: =SUM(F39+H39) -> 130
B40: - อุปกรณ์ประกอบและอื่น ๆ | C40: 1 | D40: งาน | F40: =SUM(C40*E40) -> 0 | G40: - | H40: - | I40: =SUM(F40) -> 0 | L40: 323,074x10% | N40: =SUM(#REF!+F19+#REF!) -> #REF!
B51: รวม | F51: =SUM(F32:F49) -> 81176 | H51: =SUM(H32:H49) -> 60982 | K51: =+H51+F51 -> 142158
B52: รวมเงินหน้านี้ | I52: =SUM(I32:I50) -> 142158 | L52: รวมเงิน | M52: =SUM(K29+K51) -> 417866
B53: ระบบโทรศัพท์
B54: - 10 Pairs TELEPHONE DISCONNECTION BOX | C54: 1 | D54: ตู้ | E54: 3000 | F54: =SUM(C54*E54) -> 3000 | G54: 500 | H54: =SUM(C54*G54) -> 500 | I54: =SUM(F54+H54) -> 3500
B55: - BACK MOUNT FRAME 3 POS. | C55: 1 | D55: ชุด | E55: 75 | F55: =SUM(C55*E55) -> 75 | G55: - | H55: - | I55: =SUM(F55) -> 75
B56: - CONNECTION TERMINAL/w SURGE ARRESTOR | C56: 1 | D56: ชุด | E56: 370 | F56: =SUM(C56*E56) -> 370 | G56: - | H56: - | I56: =SUM(F56) -> 370
B57: - CONNECTION TERMINAL | C57: 2 | D57: ชุด | E57: 550 | F57: =SUM(C57*E57) -> 1100 | G57: - | H57: - | I57: =SUM(F57) -> 1100
B58: - TELEPHONE OUTLET (MODULAR JACK TYPE) 6P4C | C58: 2 | D58: ชุด | E58: 180 | F58: =SUM(C58*E58) -> 360 | G58: 90 | H58: =SUM(C58*G58) -> 180 | I58: =SUM(F58+H58) -> 540
B59: - สายโทรศัพท์ 6C - 0.65 mm. TIEV. | C59: 48 | D59: เมตร | E59: 14 | F59: =SUM(C59*E59) -> 672 | G59: 7 | H59: =SUM(C59*G59) -> 336 | I59: =SUM(F59+H59) -> 1008
B60: - ท่อ Ø 15 mm. EMT | C60: 15 | D60: ท่อน | E60: 76 | F60: =SUM(C60*E60) -> 1140 | G60: 54 | H60: =SUM(C60*G60) -> 810 | I60: =SUM(F60+H60) -> 1950
B61: - อุปกรณ์ประกอบและอื่น ๆ | C61: 1 | D61: งาน | E61: 1000 | F61: =SUM(C61*E61) -> 1000 | G61: - | H61: - | I61: =SUM(F61) -> 1000 | K61: 0.15
B73: รวม | F73: =SUM(F54:F71) -> 7717 | H73: =SUM(H54:H71) -> 1826 | K73: =+H73+F73 -> 9543
B74: รวมเงินหน้านี้ | I74: =SUM(I54:I72) -> 9543 | K74: =+I74+I52+I30 -> 427409 | L74: รวมเงิน | M74: =SUM(I74) -> 9543

Sheet ปป.ภายใน
A1: แบบแสดงรายการปริมาณงานและราคา | L1: 304000
A2: กลุ่มงาน | B2: งานอาคาร
A3: ชื่อโครงการ | B3: =+'แบบ ปร.6'!B2 -> งานจ้างก่อสร้างโรงเลี้ยง ศฝ.สอ.รฝ. ขนาด 500 คน จำนวน 1 หลัง | F3: แบบเลขที่ | G3: =+ฟฟ.!G3 -> 35-2-062,62-2-107
A4: สถานที่ | B4: =+'แบบ ปร.6'!B3 -> อ.สัตหีบ จว.ชลบุรี | C4: หน่วยงานเจ้าของโครงการ | F4: =+'แบบ ปร.6'!C5 -> ศฝ.สอ.รฝ.
A6: ลำดับที่ | B6: รายการ | C6: จำนวน | D6: หน่วย | E6: ค่าวัสดุ (บาท ) | G6: ค่าแรงงาน (บาท ) | I6: รวม (บาท ) | J6: หมายเหตุ
E7: ราคาหน่วยละ | F7: จำนวนเงิน | G7: ราคาหน่วยละ | H7: จำนวนเงิน | I7: วัสดุและแรงงาน
B8: งานระบบประปาภายใน
B9: PVC 13.5
B10: - Ø 1/2" | C10: 88 | D10: ม. | E10: 13 | F10: =SUM(E10*C10) -> 1144 | G10: 30 | H10: =SUM(G10*C10) -> 2640 | I10: =SUM(H10+F10) -> 3784
B11: - Ø 3/4" | C11: 18 | D11: ม. | E11: 16 | F11: =SUM(E11*C11) -> 288 | G11: 30 | H11: =SUM(G11*C11) -> 540 | I11: =SUM(H11+F11) -> 828
B12: - Ø 1" | C12: 6 | D12: ม. | E12: 25 | F12: =SUM(E12*C12) -> 150 | G12: 30 | H12: =SUM(G12*C12) -> 180 | I12: =SUM(H12+F12) -> 330
B13: - Ø 1 1/2" | C13: 6 | D13: ม. | E13: 37 | F13: =SUM(E13*C13) -> 222 | G13: 30 | H13: =SUM(G13*C13) -> 180 | I13: =SUM(H13+F13) -> 402
B14: HDPE PN 10,PE 100
B15: - Ø 50 mm. | C15: 42 | D15: เมตร | E15: 54 | F15: =SUM(E15*C15) -> 2268 | G15: 50 | H15: =SUM(G15*C15) -> 2100 | I15: =SUM(H15+F15) -> 4368
B16: - Ø 63 mm. | C16: 46 | D16: เมตร | E16: 86 | F16: =SUM(E16*C16) -> 3956 | G16: 75 | H16: =SUM(G16*C16) -> 3450 | I16: =SUM(H16+F16) -> 7406 | K16: =SUM(F10:F16) -> 8028
B17: - Fitting & Accessories | C17: 1 | D17: งาน | E17: 2408 | F17: =SUM(E17*C17) -> 2408 | G17: 723 | H17: =SUM(G17*C17) -> 723 | I17: =SUM(H17+F17) -> 3131 | K17: =SUM(K16*30%) -> 2408.4 | L17: =SUM(K17*30%) -> 722.52
B18: - Support & Hanger | C18: 1 | D18: งาน | E18: 803 | F18: =SUM(E18*C18) -> 803 | G18: 240 | H18: =SUM(G18*C18) -> 240 | I18: =SUM(H18+F18) -> 1043 | K18: =SUM(K16*10%) -> 802.8 | L18: =SUM(K18*30%) -> 240.84
B19: STOP VALVE
B20: - Ø 1/2" | C20: 10 | D20: ตัว | E20: 250 | F20: =SUM(E20*C20) -> 2500 | G20: 50 | H20: =SUM(G20*C20) -> 500 | I20: =SUM(H20+F20) -> 3000
B21: HOSEE BIBB
B22: - Ø 1" (ติดใต้ SINK) | C22: 1 | D22: ชุด | E22: 345 | F22: =SUM(E22*C22) -> 345 | G22: 50 | H22: =SUM(G22*C22) -> 50 | I22: =SUM(H22+F22) -> 395
B25: รวม | F25: =SUM(F9:F24) -> 14084 | H25: =SUM(H9:H24) -> 10603 | K25: =+H25+F25 -> 24687
B26: รวมเงินหน้านี้ | I26: =SUM(I9:I24) -> 24687
B27: งานระบบประปาภายใน
B28: อุปกรณ์ประกอบ
B29: มาตรวัดน้ำประปา
B30: - WATER METER Ø 1 1/2" | C30: 1 | D30: ชุด | E30: 4425 | F30: =SUM(E30*C30) -> 4425 | G30: 300 | H30: =SUM(G30*C30) -> 300 | I30: =SUM(H30+F30) -> 4725
B31: - GATE VALVE Ø 1 1/2" | C31: 2 | D31: ชุด | E31: 1205 | F31: =SUM(E31*C31) -> 2410 | G31: 300 | H31: =SUM(G31*C31) -> 600 | I31: =SUM(H31+F31) -> 3010
B32: - CHECK VALVE Ø 1 1/2" | C32: 1 | D32: ชุด | E32: 1445 | F32: =SUM(E32*C32) -> 1445 | G32: 300 | H32: =SUM(G32*C32) -> 300 | I32: =SUM(H32+F32) -> 1745
B33: - STRAINER Ø 1 1/2" | C33: 1 | D33: ชุด | E33: 1985 | F33: =SUM(E33*C33) -> 1985 | G33: 300 | H33: =SUM(G33*C33) -> 300 | I33: =SUM(H33+F33) -> 2285
B34: - UNION Ø 1 1/2" | C34: 2 | D34: อัน | E34: 94.8 | F34: =SUM(E34*C34) -> 189.6 | G34: - | H34: - | I34: =SUM(F34) -> 189.6
B35: - SUPPORT ค.ส.ล. | C35: 1 | D35: งาน | E35: 1500 | F35: =SUM(E35*C35) -> 1500 | G35: วัสดุ+แรงงาน | I35: =SUM(H35+F35) -> 1500
B36: GATE VALVE
B37: - Ø 1 1/2" w/ หีบกุญแจสำเร็จรูป | C37: 1 | D37: ชุด | E37: 2705 | F37: =SUM(E37*C37) -> 2705 | G37: - | H37: - | I37: =SUM(F37) -> 2705
B38: MODULATING FLOAT VALVE
B39: - Ø 1 1/2" | C39: 1 | D39: ชุด | E39: 19000 | F39: =SUM(E39*C39) -> 19000 | G39: - | H39: - | I39: =SUM(F39) -> 19000
B40: BY PASS (ต่อ)
B41: - Gate Valve Ø 1 1/2" | C41: 2 | D41: ชุด | E41: 1205 | F41: =SUM(E41*C41) -> 2410 | G41: 300 | H41: =SUM(G41*C41) -> 600 | I41: =SUM(H41+F41) -> 3010
B42: - Check Valve Ø 1 1/2" | C42: 1 | D42: ชุด | E42: 1445 | F42: =SUM(E42*C42) -> 1445 | G42: 300 | H42: =SUM(G42*C42) -> 300 | I42: =SUM(H42+F42) -> 1745
B44: รวม | F44: =SUM(F28:F43) -> 37514.6 | H44: =SUM(H28:H43) -> 2400 | K44: =+H44+F44 -> 39914.6
B45: รวมเงินหน้านี้ | I45: =SUM(I28:I43) -> 39914.6
B46: งานระบบประปาภายใน
B47: อุปกรณ์ประกอบชุด PACKGED BOOSTER PUMP SET
B48: - ถังอัดแรงดันชนิดไดอะแฟรม ปริมาตรถังไม่น้อยกว่า 500 ลิตร/ถัง | C48: 1 | D48: ถัง | E48: 38400 | F48: =SUM(E48*C48) -> 38400 | G48: - | H48: - | I48: =SUM(F48) -> 38400
B49: (ตามรายการประกอบแบบ)
B50: - Gate Valve Ø 1 1/2"(ปกติปิด) | C50: 1 | D50: ชุด | E50: 1205 | F50: =SUM(E50*C50) -> 1205 | G50: 300 | H50: =SUM(G50*C50) -> 300 | I50: =SUM(H50+F50) -> 1505 | K50: =SUM(I48:I54) -> 77625 | L50: =SUM(H50:H54) -> 5000
B51: - Gate Valve Ø 2" | C51: 2 | D51: ชุด | E51: 1915 | F51: =SUM(E51*C51) -> 3830 | G51: 400 | H51: =SUM(G51*C51) -> 800 | I51: =SUM(H51+F51) -> 4630
B52: - Gate Valve Ø 2 1/2" | C52: 5 | D52: ชุด | E52: 4350 | F52: =SUM(E52*C52) -> 21750 | G52: 500 | H52: =SUM(G52*C52) -> 2500 | I52: =SUM(H52+F52) -> 24250
B53: - Check Valve Ø 1 1/2" | C53: 2 | D53: ชุด | E53: 1445 | F53: =SUM(E53*C53) -> 2890 | G53: 300 | H53: =SUM(G53*C53) -> 600 | I53: =SUM(H53+F53) -> 3490
B54: - Check Valve Ø 2" | C54: 2 | D54: ชุด | E54: 2275 | F54: =SUM(E54*C54) -> 4550 | G54: 400 | H54: =SUM(G54*C54) -> 800 | I54: =SUM(H54+F54) -> 5350
B55: - ท่อประกอบชุด PACKGED BOOSTER PUMP+อื่นๆ | C55: 1 | D55: งาน | E55: 3500 | F55: =SUM(E55*C55) -> 3500 | G55: วัสดุ+แรงงาน | I55: =SUM(H55+F55) -> 3500
B56: - แท่น ค.ส.ล. รองรับ | C56: 1 | D56: งาน | E56: 1500 | F56: =SUM(E56*C56) -> 1500 | G56: วัสดุ+แรงงาน | I56: =SUM(H56+F56) -> 1500
B57: - ฐานรองรับถังเก็บน้ำขนาดความจุ 25 ลบ.ม.+รัดฝาถัง (MEDIUM DUTY) | C57: 1 | D57: งาน | E57: 37640 | F57: =SUM(E57*C57) -> 37640 | G57: วัสดุ+แรงงาน | I57: =SUM(H57+F57) -> 37640
B58: ถังดับเพลิง
B59: - ถังดับเพลิงเคมีแห้ง ชนิด ABC อัตราการดับไฟ 6A:20B ขนาด 15 ปอนด์ | C59: 3 | D59: ถัง | E59: 2000 | F59: =SUM(E59*C59) -> 6000 | G59: 200 | H59: =SUM(G59*C59) -> 600 | I59: =SUM(H59+F59) -> 6600
B60: พร้อมติดตั้ง (ตามรายการประกอบแบบ)
B63: รวม | F63: =SUM(F47:F62) -> 121265 | H63: =SUM(H47:H62) -> 5600 | K63: =+H63+F63 -> 126865
B64: รวมเงินหน้านี้ | I64: =SUM(I47:I62) -> 126865
B65: งานระบบสุขาภิบาลภายใน
B66: ท่อโสโครก
B67: PVC 8.5
B68: - Ø 2" | C68: 7 | D68: เมตร | E68: 39 | F68: =SUM(E68*C68) -> 273 | G68: 40 | H68: =SUM(G68*C68) -> 280 | I68: =SUM(H68+F68) -> 553
B69: - Ø 3" | C69: 9 | D69: เมตร | E69: 85 | F69: =SUM(E69*C69) -> 765 | G69: 75 | H69: =SUM(G69*C69) -> 675 | I69: =SUM(H69+F69) -> 1440
B70: - Ø 4" | C70: 20 | D70: ม. | E70: 138 | F70: =SUM(E70*C70) -> 2760 | G70: 100 | H70: =SUM(G70*C70) -> 2000 | I70: =SUM(H70+F70) -> 4760
B71: - Ø 6" | C71: 7 | D71: ม. | E71: 291 | F71: =SUM(E71*C71) -> 2037 | G71: 200 | H71: =SUM(G71*C71) -> 1400 | I71: =SUM(H71+F71) -> 3437 | K71: =SUM(F68:F71) -> 5835
B72: FLOOR CLEAN OUT
B73: - Ø 3" | C73: 1 | D73: ตัว | E73: 540 | F73: =SUM(E73*C73) -> 540 | G73: - | H73: - | I73: =SUM(F73) -> 540
B74: - Ø 4" | C74: 1 | D74: ตัว | E74: 780 | F74: =SUM(C74*E74) -> 780 | G74: - | H74: - | I74: =SUM(F74) -> 780
B75: - Ø 6" | C75: 1 | D75: ตัว | E75: 1500 | F75: =SUM(E75*C75) -> 1500 | G75: - | H75: - | I75: =SUM(F75) -> 1500
B76: FLEXIBLE CONNECTION
B77: - Ø 6" | C77: 1 | D77: ชุด | E77: 1360 | F77: =SUM(E77*C77) -> 1360 | G77: 300 | H77: =SUM(G77*C77) -> 300 | I77: =SUM(H77+F77) -> 1660
B78: ชุดถังบำบัด
B79: - ถังบำบัดน้ำเสียสำเร็จรูป แบบที่ 6 (80 คน) | C79: 1 | D79: ถัง | E79: 341330 | F79: =SUM(C79*E79) -> 341330 | G79: - | H79: - | I79: =SUM(F79) -> 341330 | K79: ราคาเต็ม 341,330-30%
B80: - ฐาน ค.ส.ล.รองรับ+รัดฝาถัง (MEDIUM DUTY) | C80: 1 | D80: ฐาน | E80: 33860 | F80: =SUM(E80*C80) -> 33860 | G80: วัสดุ+แรงงาน | I80: =SUM(H80+F80) -> 33860
B82: รวม | F82: =SUM(F66:F81) -> 385205 | H82: =SUM(H66:H81) -> 4655 | K82: =+H82+F82 -> 389860
B83: รวมเงินหน้านี้ | I83: =SUM(I66:I81) -> 389860
B84: งานระบบสุขาภิบาลภายใน
B85: ท่อน้ำทิ้ง
B86: PVC 8.5
B87: - Ø 1 1/2" | C87: 26 | D87: เมตร | E87: 25 | F87: =SUM(E87*C87) -> 650 | G87: 30 | H87: =SUM(G87*C87) -> 780 | I87: =SUM(H87+F87) -> 1430
B88: - Ø 2" | C88: 55 | D88: เมตร | E88: 39 | F88: =SUM(E88*C88) -> 2145 | G88: 40 | H88: =SUM(G88*C88) -> 2200 | I88: =SUM(H88+F88) -> 4345
B89: - Ø 2 1/2" | C89: 27 | D89: เมตร | E89: 61 | F89: =SUM(E89*C89) -> 1647 | G89: 50 | H89: =SUM(G89*C89) -> 1350 | I89: =SUM(H89+F89) -> 2997 | K89: =SUM(F87:F89) -> 4442
B90: FLOOR CLEAN OUT
B91: - Ø 2" | C91: 3 | D91: ตัว | E91: 380 | F91: =SUM(C91*E91) -> 1140 | G91: - | H91: - | I91: =SUM(F91) -> 1140
B92: - Ø 2 1/2" | C92: 2 | D92: ตัว | E92: 480 | F92: =SUM(C92*E92) -> 960 | G92: - | H92: - | I92: =SUM(F92) -> 960
B93: FLOOR DRAIN
B94: - Ø 2" | C94: 5 | D94: ตัว | E94: 455 | F94: =SUM(C94*E94) -> 2275 | G94: - | H94: - | I94: =SUM(F94) -> 2275
B95: - Ø 2 1/2" | C95: 2 | D95: ตัว | E95: 520 | F95: =SUM(C95*E95) -> 1040 | G95: - | H95: - | I95: =SUM(F95) -> 1040
B96: P-TRAP
B97: - Ø 1 1/2" | C97: 5 | D97: ตัว | E97: 160 | F97: =SUM(C97*E97) -> 800 | G97: - | H97: - | I97: =SUM(F97) -> 800
B98: - Ø 2" | C98: 2 | D98: ตัว | E98: 222 | F98: =SUM(C98*E98) -> 444 | G98: - | H98: - | I98: =SUM(F98) -> 444
B101: รวม | F101: =SUM(F85:F100) -> 11101 | H101: =SUM(H85:H100) -> 4330 | K101: =+H101+F101 -> 15431
B102: รวมเงินหน้านี้ | I102: =SUM(I85:I100) -> 15431
B103: งานระบบสุขาภิบาลภายใน
B104: บ่อดักไขมัน
B105: - บ่อดักไขมัน (ตามรายการประกอบแบบ) | C105: 2 | D105: ถัง | E105: 35000 | F105: =SUM(C105*E105) -> 70000 | G105: วัสดุ+แรงงาน | I105: =SUM(H105+F80) -> 33860
B106: บ่อดักขยะ
B107: - บ่อดักขยะ (ตามรายการประกอบแบบ) | C107: 2 | D107: ถัง | E107: 25000 | F107: =SUM(C107*E107) -> 50000 | G107: วัสดุ+แรงงาน | I107: =SUM(F107) -> 50000
B108: ท่ออากาศ
B109: PVC 8.5
...

Sheet ถนน+ลาน+ภูมิทัศน์
A1: แบบแสดงรายการปริมาณงานและราคา | L1: 304000
A2: กลุ่มงาน | B2: งานอาคาร
A3: ชื่อโครงการ | B3: =+'แบบ ปร.6'!B2 -> งานจ้างก่อสร้างโรงเลี้ยง ศฝ.สอ.รฝ. ขนาด 500 คน จำนวน 1 หลัง | F3: แบบเลขที่ | G3: 62-2-107
A4: สถานที่ | B4: =+'แบบ ปร.6'!B3 -> อ.สัตหีบ จว.ชลบุรี | C4: หน่วยงานเจ้าของโครงการ | F4: =+'แบบ ปร.6'!C5 -> ศฝ.สอ.รฝ.
A6: ลำดับที่ | B6: รายการ | C6: จำนวน | D6: หน่วย | E6: ค่าวัสดุ (บาท ) | G6: ค่าแรงงาน (บาท ) | I6: รวม (บาท ) | J6: หมายเหตุ
E7: ราคาหน่วยละ | F7: จำนวนเงิน | G7: ราคาหน่วยละ | H7: จำนวนเงิน | I7: วัสดุและแรงงาน
B8: งานถนนและลาน ค.ส.ล.
B9: - งานถากถาง กำจัดวัชพืช | C9: 3036 | D9: ตร.ม. | E9: 0 | F9: =+E9*C9 -> 0 | G9: 10 | H9: =+G9*C9 -> 30360 | I9: =+H9+F9 -> 30360
B10: - งานถมดิน | C10: 4038 | D10: ลบ.ม. | E10: 250 | F10: =+E10*C10 -> 1009500 | G10: 99 | H10: =+G10*C10 -> 399762 | I10: =+H10+F10 -> 1409262 | K10: ถมดินสูง 1 ม.
B11: - ทดสอบความหนาแน่น ชั้นละ 2 จุด | C11: 12 | D11: จุด | E11: 500 | F11: =+E11*C11 -> 6000 | G11: วัสดุ + แรงงาน | I11: =+H11+F11 -> 6000
B12: - บดอัดชั้นดิน | C12: 3808 | D12: ตร.ม. | E12: 0 | F12: =+E12*C12 -> 0 | G12: 20 | H12: =+G12*C12 -> 76160 | I12: =+H12+F12 -> 76160 | K12: =242+302 -> 544 | L12: =+K12*7 -> 3808 | M12: =1/0.15 -> 6.6666667
B13: - หินคลุก | C13: 59 | D13: ลบ.ม. | E13: 230 | F13: =+E13*C13 -> 13570 | G13: 99 | H13: =+G13*C13 -> 5841 | I13: =+H13+F13 -> 19411
B14: - บดอัดหินคลุก | C14: 242 | D14: ตร.ม. | E14: 0 | F14: =+E14*C14 -> 0 | G14: 20 | H14: =+G14*C14 -> 4840 | I14: =+H14+F14 -> 4840
B15: - ทรายปรับระดับบดอัดแน่น | C15: 34 | D15: ลบ.ม. | E15: 538 | F15: =+E15*C15 -> 18292 | G15: 99 | H15: =+G15*C15 -> 3366 | I15: =+H15+F15 -> 21658
B16: - คอนกรีตโครงสร้าง (240 ksc) | C16: 39 | D16: ลบ.ม. | E16: 2141 | F16: =+E16*C16 -> 83499 | G16: 306 | H16: =+G16*C16 -> 11934 | I16: =+H16+F16 -> 95433
B17: - เหล็ก wire mesh Ø 4 mm. @ 0.20 ม. | C17: 242 | D17: ตร.ม. | E17: 47 | F17: =+E17*C17 -> 11374 | G17: 5 | H17: =+G17*C17 -> 1210 | I17: =+H17+F17 -> 12584
B18: - ปูแผ่นพลาสติก | C18: 96 | D18: ตร.ม. | E18: 70 | F18: =+E18*C18 -> 6720 | G18: วัสดุ + แรงงาน | I18: =+H18+F18 -> 6720
B19: - เหล็ก RB 15 mm. DOWEL BAR ยาว 0.40 ม. | C19: 135 | D19: ท่อน | E19: 25 | F19: =+E19*C19 -> 3375 | G19: วัสดุ + แรงงาน | I19: =+H19+F19 -> 3375
B20: - SAWED JOIND หยอดรอยต่อด้วยแอสฟัลท์ผสมทราย | C20: 80 | D20: ม. | E20: 35 | F20: =SUM(C20*E20) -> 2800 | G20: วัสดุ + แรงงาน | I20: =+H20+F20 -> 2800
B25: รวม | F25: =SUM(F9:F24) -> 1155130 | H25: =SUM(H9:H24) -> 533473 | K25: =+H25+F25 -> 1688603
B26: รวมเงินหน้านี้ | I26: =SUM(I9:I25) -> 1688603
B27: งานภูมิทัศน์
B28: - งานปลูกหญ้านวลน้อย | C28: 960 | D28: ตร.ม. | E28: 60 | F28: =+E28*C28 -> 57600 | G28: วัสดุ + แรงงาน | I28: =+H28+F28 -> 57600
B29: - คันขอบสำเร็จรูป | C29: 125 | D29: ม. | E29: 250 | F29: =+E29*C29 -> 31250 | G29: วัสดุ + แรงงาน | I29: =+H29+F29 -> 31250
B30: - พื้นผิวขัดเรียบ | C30: 242 | D30: ตร.ม. | E30: 0 | F30: =+E30*C30 -> 0 | G30: 61 | H30: =+G30*C30 -> 14762 | I30: =+H30+F30 -> 14762
B44: รวม | F44: =SUM(F27:F42) -> 88850 | H44: =SUM(H27:H42) -> 14762 | K44: =+H44+F44 -> 103612
B45: รวมเงินหน้านี้ | I45: =SUM(I27:I44) -> 103612 | K45: =+I45+I26 -> 1792215

Sheet ฟฟ.ภนอ.
A1: แบบแสดงรายการปริมาณงานและราคา
A2: กลุ่มงาน | B2: งานอาคาร
A3: ชื่อโครงการ | B3: =+'แบบ ปร.6'!B2 -> งานจ้างก่อสร้างโรงเลี้ยง ศฝ.สอ.รฝ. ขนาด 500 คน จำนวน 1 หลัง | F3: แบบเลขที่ | G3: 62-5-045
A4: สถานที่ | B4: =+'แบบ ปร.6'!B3 -> อ.สัตหีบ จว.ชลบุรี | C4: หน่วยงานเจ้าของโครงการ | F4: =+'แบบ ปร.6'!C5 -> ศฝ.สอ.รฝ.
A6: ลำดับที่ | B6: รายการ | C6: จำนวน | D6: หน่วย | E6: ค่าวัสดุ (บาท ) | G6: ค่าแรงงาน (บาท ) | I6: รวม (บาท ) | J6: หมายเหตุ
E7: ราคาหน่วยละ | F7: จำนวนเงิน | G7: ราคาหน่วยละ | H7: จำนวนเงิน | I7: วัสดุและแรงงาน
B8: ระบบไฟฟ้าภายนอกอาคาร
B9: - เสาไฟฟ้าแรงต่ำ คอร. ขนาด 08.00 ม. | C9: 4 | E9: 2100 | F9: =C9*E9 -> 8400 | G9: - | H9: - | I9: =SUM(F9) -> 8400
B10: - 5 mm. THICK HEAVY TYPE RACK 2 SPOOL | C10: 4 | D10: ชุด | E10: 180 | F10: =C10*E10 -> 720 | G10: - | H10: - | I10: =SUM(F10) -> 720
B11: - SPOOL INSULATOR (53-2) | C11: 4 | D11: ชุด | E11: 30 | F11: =C11*E11 -> 120 | G11: - | H11: - | I11: =SUM(F11) -> 120
B12: - 5 mm. THICK HEAVY TYPE RACK 4 SPOOL | C12: 7 | D12: ชุด | E12: 380 | F12: =C12*E12 -> 2660 | G12: - | H12: - | I12: =SUM(F12) -> 2660
B13: - SPOOL INSULATOR (53-2) | C13: 7 | D13: ชุด | E13: 30 | F13: =C13*E13 -> 210 | G13: - | H13: - | I13: =SUM(F13) -> 210
B14: - สายไฟฟ้า 10 Sq.mm. IEC-01 | C14: 138 | D14: เมตร | E14: 35 | F14: =SUM(C14*E14) -> 4830 | G14: - | H14: - | I14: =SUM(F14) -> 4830
B15: - สายไฟฟ้า 35 Sq.mm. IEC-01 | C15: 594 | D15: เมตร | E15: 114 | F15: =SUM(C15*E15) -> 67716 | G15: - | H15: - | I15: =SUM(F15) -> 67716
B16: - ท่อ 40 mm. IMC | C16: 6 | D16: ท่อน | E16: 461 | F16: =SUM(C16*E16) -> 2766 | G16: - | H16: - | I16: =SUM(F16) -> 2766
B17: - STREET LIGHT 2~16-18 W.LED TUBE /w. 1.5" Dia 1.5m. Long Bracket | C17: 4 | D17: ชุด | E17: 2980 | F17: =SUM(C17*E17) -> 11920 | G17: - | H17: - | I17: =SUM(F17) -> 11920
B18: - สายยึดโยง (GUY WIRE) | C18: 1 | D18: ชุด | E18: 3500 | F18: =SUM(C18*E18) -> 3500 | G18: - | H18: - | I18: =SUM(F18) -> 3500
B19: - PREFORMED 35 Sq.mm. | C19: 16 | D19: ชุด | E19: 107 | F19: =C19*E19 -> 1712 | G19: - | H19: - | I19: =SUM(F19) -> 1712
B20: - SERVICE ENTRANCE 40 mm. | C20: 1 | D20: ชุด | E20: 90 | F20: =C20*E20 -> 90 | G20: - | H20: - | I20: =SUM(F20) -> 90
B21: - อุปกรณ์ประกอบและอื่น ๆ | C21: 1 | D21: งาน | E21: 13000 | F21: =SUM(C21*E21) -> 13000 | G21: - | H21: - | I21: =SUM(F21) -> 13000 | L21: x12%
B22: - ค่าแรงระบบไฟฟ้าภายนอกอาคาร | C22: 1 | D22: งาน | E22: - | F22: - | G22: 20000 | H22: =SUM(G22*C22) -> 20000 | I22: =SUM(H22) -> 20000 | L22: x18%
B27: รวม | F27: =SUM(F9:F26) -> 117644 | H27: =SUM(H8:H26) -> 20000 | K27: =+H27+F27 -> 137644
B28: รวมเงินหน้านี้ | I28: =SUM(I8:I27) -> 137644

Sheet ปป.ภายนอก
A1: แบบแสดงรายการปริมาณงานและราคา | L1: 304000
A2: กลุ่มงาน | B2: งานอาคาร
A3: ชื่อโครงการ | B3: =+'แบบ ปร.6'!B2 -> งานจ้างก่อสร้างโรงเลี้ยง ศฝ.สอ.รฝ. ขนาด 500 คน จำนวน 1 หลัง | F3: แบบเลขที่ | G3: 62-4-029
A4: สถานที่ | B4: =+'แบบ ปร.6'!B3 -> อ.สัตหีบ จว.ชลบุรี | C4: หน่วยงานเจ้าของโครงการ | F4: =+'แบบ ปร.6'!C5 -> ศฝ.สอ.รฝ.
A6: ลำดับที่ | C6: จำนวน | D6: หน่วย | E6: ค่าวัสดุ (บาท ) | G6: ค่าแรงงาน (บาท ) | I6: รวม (บาท ) | J6: หมายเหตุ
E7: ราคาหน่วยละ | F7: จำนวนเงิน | G7: ราคาหน่วยละ | H7: จำนวนเงิน | I7: วัสดุและแรงงาน
B8: งานประปาภายนอก
B9: HDPE PN 10,PE 100
B10: - Ø 50 mm. | C10: 17 | D10: เมตร | E10: 54 | F10: =SUM(E10*C10) -> 918 | G10: 50 | H10: =SUM(G10*C10) -> 850 | I10: =SUM(H10+F10) -> 1768
B11: - Ø 110 mm. | C11: 22 | D11: เมตร | E11: 248 | F11: =SUM(E11*C11) -> 5456 | G11: 150 | H11: =SUM(G11*C11) -> 3300 | I11: =SUM(H11+F11) -> 8756
B12: ท่อ SLEEVE (SP)
B13: - Ø 4" | C13: 8 | D13: เมตร | E13: 693.34 | F13: =SUM(E13*C13) -> 5546.72 | G13: 280 | H13: =SUM(G13*C13) -> 2240 | I13: =SUM(H13+F13) -> 7786.72
B14: - Ø 6" (ใช้วิธีดันลอด ท่อยาวประมาณ 6 m.) | C14: 1 | D14: งาน | E14: 150000 | F14: =SUM(E14*C14) -> 150000 | G14: วัสดุ+แรงงาน | I14: =SUM(H14+F14) -> 150000 | K14: (ถ้าต้องมี Sheet pile +27000)
B15: - Fitting & Accessories | C15: 1 | D15: งาน | E15: 3576 | F15: =SUM(E15*C15) -> 3576 | G15: 1073 | H15: =SUM(G15*C15) -> 1073 | I15: =SUM(H15+F15) -> 4649 | K15: =SUM(F10:F13) -> 11920.72
B16: - Support & Hanger | C16: 1 | D16: งาน | E16: 1192 | F16: =SUM(E16*C16) -> 1192 | G16: 357 | H16: =SUM(G16*C16) -> 357 | I16: =SUM(H16+F16) -> 1549 | K16: =SUM(K15*30%) -> 3576.216 | L16: =SUM(K16*30%) -> 1072.8648
B17: อุปกรณ์ประกอบ | K17: =SUM(K15*10%) -> 1192.072 | L17: =SUM(K17*30%) -> 357.6216
B18: GATE VALVE
B19: - Ø 4" w/ หีบกุญแจสำเร็จรูป | C19: 1 | D19: ชุด | E19: 17840 | F19: =SUM(E19*C19) -> 17840 | G19: - | H19: - | I19: =SUM(F19) -> 17840
B25: รวม | F25: =SUM(F10:F22) -> 184528.72 | H25: =SUM(H10:H22) -> 7820 | K25: =+H25+F25 -> 192348.72
B26: รวมเงินหน้านี้ | I26: =SUM(I10:I22) -> 192348.72
B27: งานระบบดับเพลิง
B28: หัวดับเพลิง (ตามรายการประกอบแบบ)
B29: - ท่อ GSP Ø 4" | C29: 2 | D29: เมตร | E29: 383 | F29: =SUM(E29*C29) -> 766 | G29: 250 | H29: =SUM(G29*C29) -> 500 | I29: =SUM(H29+F29) -> 1266
B30: - ท่อ HDPE Ø 110 mm. | C30: 1 | D30: เมตร | E30: 248 | F30: =SUM(E30*C30) -> 248 | G30: 150 | H30: =SUM(G30*C30) -> 150 | I30: =SUM(H30+F30) -> 398
B31: - FIRE HYDRANT Ø 4"x4"x4" พร้อมข้อต่อต่อสวมเร็ว ฝาปิดและโซ่คล้อง | C31: 1 | D31: ชุด | E31: 16900 | F31: =SUM(E31*C31) -> 16900 | G31: - | H31: - | I31: =SUM(F31) -> 16900
B32: - SURFACE BOX | C32: 1 | D32: อัน | E32: 280 | F32: =SUM(E32*C32) -> 280 | G32: - | H32: - | I32: =SUM(F32) -> 280
B33: - หลอดกันดิน | C33: 1 | D33: อัน | E33: 950 | F33: =SUM(E33*C33) -> 950 | G33: - | H33: - | I33: =SUM(F33) -> 950
B34: - Ø 4" GATE VALVE NON-RISING STEM | C34: 1 | D34: ชุด | E34: 32000 | F34: =SUM(E34*C34) -> 32000 | G34: - | H34: - | I34: =SUM(F34) -> 32000 | K34: ราคาเต็ม 32000-20%
B35: - ท่อโค้งตีนเป็ด 90° x 100 mm. | C35: 1 | D35: อัน | E35: 2400 | F35: =SUM(E35*C35) -> 2400 | G35: - | H35: - | I35: =SUM(F35) -> 2400
B36: - ท่อสั้นหน้าจานคู่ Ø 4" | C36: 1 | D36: อัน | E36: 1390 | F36: =SUM(E36*C36) -> 1390 | G36: - | H36: - | I36: =SUM(F36) -> 1390
B37: - แท่น ค.ส.ล. ขนาด 0.50×1.0.×0.1 m.เสริมเหล็ก Ø 9 mm.@ 0.15 m. | C37: 1 | D37: งาน | E37: 1000 | F37: =SUM(E37*C37) -> 1000 | G37: วัสดุ+แรงงาน | I37: =SUM(H37+F37) -> 1000
B38: - แท่น ค.ส.ล.ขนาด 0.40×0.40×0.15 m.เสริมเหล็ก Ø 9 mm.@ 0.15 m. | C38: 1 | D38: งาน | E38: 800 | F38: =SUM(E38*C38) -> 800 | G38: วัสดุ+แรงงาน | I38: =SUM(H38+F38) -> 800
B39: - แท่น ค.ส.ล. รองรับประตูน้ำ เสริมเหล็ก Ø 9 mm.@ 0.15 m. | C39: 1 | D39: งาน | E39: 500 | F39: =SUM(E39*C39) -> 500 | G39: วัสดุ+แรงงาน | I39: =SUM(H39+F39) -> 500
B40: - ตัดบรรจบ | C40: 1 | D40: งาน | E40: 1200 | F40: =SUM(C40*E40) -> 1200 | G40: - | H40: - | I40: =SUM(F40) -> 1200 | K40: =SUM(C10:C11) -> 39
B41: - ดินขุด กลบคืน | C41: 18 | D41: ลบ.ม. | E41: - | F41: - | G41: 99 | H41: =SUM(G41*C41) -> 1782 | I41: =SUM(H41) -> 1782
B42: - ทรายหยาบ อัดแน่น | C42: 5 | D42: ลบ.ม. | E42: 537 | F42: =SUM(C42*E42) -> 2685 | G42: 91 | H42: =SUM(G42*C42) -> 455 | I42: =SUM(F42+H42) -> 3140
B44: รวม | F44: =SUM(F29:F43) -> 61119 | H44: =SUM(H29:H43) -> 2887 | K44: =+H44+F44 -> 64006
B45: รวมเงินหน้านี้ | I45: =SUM(I29:I43) -> 64006
B46: งานระบายน้ำภายนอก
B47: รางระบายน้ำ
B48: - รางระบายน้ำ ค.ส.ล. ขนาดกว้างภายใน 0.20 ม. ฝา D2 (ตามแบบ) | C48: 149 | D48: เมตร | E48: 990 | F48: =SUM(E48*C48) -> 147510 | G48: วัสดุ+แรงงาน | I48: =SUM(H48+F48) -> 147510
B49: - รางระบายน้ำดินขุด (ตามรายการประกอบแบบ) | C49: 135 | D49: เมตร | E49: 520 | F49: =SUM(E49*C49) -> 70200 | G49: วัสดุ+แรงงาน | I49: =SUM(H49+F49) -> 70200
B50: - ท่อ ค.ส.ล. ขนาด 0.30 m. (ความยาวประมาณ 5 m./จุด) | C50: 1 | D50: งาน | E50: 25000 | F50: =SUM(E50*C50) -> 25000 | G50: วัสดุ+แรงงาน | I50: =SUM(H50+F50) -> 25000
B51: พร้อมกำแพงกันน้ำเซาะที่ปลายท่อ จำนวน 3 ชุด (ตามรายการประกอบแบบ)
B52: บ่อพักน้ำ
B53: บ่อพักน้ำ ค.ส.ล. ฝาคอนกรีต
B54: - MH 3 | C54: 5 | D54: บ่อ | E54: 4510 | F54: =SUM(E54*C54) -> 22550 | G54: วัสดุ+แรงงาน | I54: =SUM(H54+F54) -> 22550
B55: - ดินขุดกลบคืน | C55: 31 | D55: ลบ.ม. | E55: - | F55: - | G55: 99 | H55: =SUM(G55*C55) -> 3069 | I55: =SUM(H55) -> 3069
B56: - ทรายหยาบอัดแน่น | C56: 8 | D56: ลบ.ม. | E56: 537 | F56: =SUM(E56*C56) -> 4296 | G56: 91 | H56: =SUM(G56*C56) -> 728 | I56: =SUM(H56+F56) -> 5024
B63: รวม | F63: =SUM(F48:F62) -> 269556 | H63: =SUM(H48:H62) -> 3797 | K63: =+H63+F63 -> 273353
B64: รวมเงินหน้านี้ | I64: =SUM(I48:I62) -> 273353 | K64: =+I64+I45+I26 -> 529707.72 | L64: >>ปป ภายนอก
B82: รวม | F82: =SUM(F66:F79) -> 0 | H82: =SUM(H67:H80) -> 0 | K82: =SUM(H82+F82) -> 0
B83: รวมเงินหน้านี้ | I83: =SUM(I67:I82) -> 0
B101: รวม | F101: =SUM(F85:F100) -> 0 | H101: =SUM(H85:H100) -> 0 | K101: =SUM(H101+F101) -> 0
B102: รวมเงินหน้านี้ | I102: =SUM(I85:I101) -> 0
B120: รวม | F120: =SUM(F104:F118) -> 0 | H120: =SUM(H104:H118) -> 0 | K120: =+H120+F120 -> 0
B121: รวมเงินหน้านี้ | I121: =SUM(I104:I120) -> 0
B139: รวม | F139: =SUM(F123:F137) -> 0 | H139: =SUM(H123:H137) -> 0 | K139: =+H139+F139 -> 0
B140: รวมเงินหน้านี้ | I140: =SUM(I123:I139) -> 0
B158: รวม | F158: =SUM(F143:F156) -> 0 | H158: =SUM(H143:H156) -> 0 | K158: =+H158+F158 -> 0
B159: รวมเงินหน้านี้ | I159: =SUM(I142:I158) -> 0
B177: รวม | F177: =SUM(F160:F175) -> 0 | H177: =SUM(H160:H175) -> 0 | K177: =+H177+F177 -> 0
B178: รวมเงินหน้านี้ | I178: =SUM(I162:I177) -> 0

Sheet แบบ ปร.4(พ)
A1: แบบแสดงรายการปริมาณงานและราคา
A2: (ค่าใช้จ่ายพิเศษตามข้อกำหนดและค่าใช้จ่ายอื่นที่จำเป็นต้องมี)
A3: กลุ่มงาน | B3: งานอาคาร
A4: ชื่อโครงการ | B4: =+'แบบ ปร.6'!B2 -> งานจ้างก่อสร้างโรงเลี้ยง ศฝ.สอ.รฝ. ขนาด 500 คน จำนวน 1 หลัง | C4: แบบเลขที่ | D4: =+ฟฟ.!G3 -> 35-2-062,62-2-107
A5: สถานที่ | B5: =+'แบบ ปร.6'!B3 -> อ.สัตหีบ จว.ชลบุรี | C5: หน่วยงานเจ้าของโครงการ | E5: =+'แบบ ปร.6'!C5 -> ศฝ.สอ.รฝ.
A6: คำนวณราคาโดย | B6: =+ฟฟ.ภนอ.!B5 -> 0 | C6: =+'แบบ ปร.6'!B7 -> 0
A7: ลำดับที่ | B7: รายการ | C7: จำนวน | D7: หน่วย | E7: ค่าใช้จ่ายรวม (บาท ) | F7: หมายเหตุ
E8: ( ค่าก่อสร้าง )
B23: รวมเงิน ค่าใช้จ่ายพิเศษตามข้อกำหนดทุกรายการ | E23: =SUM(E9:E22) -> 0

Sheet แบบแสดงการคำนวณ ฯ(พ)ตามข้อกำหนด
A1: หน้าที่ 11
A2: แบบแสดงการคำนวณและเหตุผลความจำเป็น
A3: สำหรับค่าใช้จ่ายพิเศษตามข้อกำหนดฯ
A4: รายการ (ระบุรายการค่าใช้จ่ายพิเศษตามข้อกำหนด)
A5: ชื่อโครงการ | D5: =+'แบบ ปร.6'!B2 -> งานจ้างก่อสร้างโรงเลี้ยง ศฝ.สอ.รฝ. ขนาด 500 คน จำนวน 1 หลัง
A6: สถานที่ก่อสร้าง | D6: =+'แบบ ปร.6'!B3 -> อ.สัตหีบ จว.ชลบุรี | G6: แบบเลขที่ | H6: =+'แบบ ปร.4(พ)'!D4 -> 35-2-062,62-2-107
A7: หน่วยงานเจ้าของโครงการ | D7: =+'แบบ ปร.6'!C5 -> ศฝ.สอ.รฝ.
A8: คำนวณราคากลางโดย | D8: =+'แบบ ปร.4(พ)'!B6 -> 0 | H8: =+'แบบ ปร.6'!B7 -> 0
A9: 1. เหตุผลและความจำเป็นที่ต้องมีค่าใช้จ่ายพิเศษตามข้อกำหนดฯ รายการนี้
A16: 2. รายละเอียดการคำนวณ
A17: ที่ | B17: รายการค่าใช้จ่าย | H17: จำนวน | I17: หน่วย | J17: ราคาต่อหน่วย | K17: ราคารวม | L17: หมายเหตุ
M28: ค่าเครน 15,000 ค่าธรรมเนียม 10,000
M29: ประมาณ 5 % ของค่าวัสดุ ทั้งโครงการ ( ค่าวัสดุทั้งหมด 10.4 ล้าน )
M30: ค่าแรงเพิ่มอีก 35 % ของค่าแรงปกติ เฉพาะงานโครงสร้างท่าเรือ (ค่าแรง = 600,000)
M32: ค่าเช่า 15,000/ เดือน ค่าน้ำมัน 1,200 / วัน
E35: รวมค่าใช้จ่าย | K35: =+K20 -> 0
E36: ค่าภาษีมูลค่าเพิ่ม
E37: สรปค่าใช้จ่ายพิเศษ | K37: =+K35 -> 0

Sheet ครุภัณฑ์
A1: แบบแสดงรายการปริมาณงานและราคา | L1: 304000
A2: กลุ่มงาน | B2: งานอาคาร
A3: ชื่อโครงการ | B3: =+'แบบ ปร.6'!B2 -> งานจ้างก่อสร้างโรงเลี้ยง ศฝ.สอ.รฝ. ขนาด 500 คน จำนวน 1 หลัง | G3: แบบเลขที่ | H3: 62-2-107
A4: สถานที่ | B4: =+'แบบ ปร.6'!B3 -> อ.สัตหีบ จว.ชลบุรี | C4: หน่วยงานเจ้าของโครงการ | F4: =+'แบบ ปร.6'!C5 -> ศฝ.สอ.รฝ.
A6: ลำดับที่ | B6: รายการ | C6: จำนวน | D6: หน่วย | E6: ค่าวัสดุ (บาท ) | G6: ค่าแรงงาน (บาท ) | I6: รวม (บาท ) | J6: หมายเหตุ
E7: ราคาหน่วยละ | F7: จำนวนเงิน | G7: ราคาหน่วยละ | H7: จำนวนเงิน | I7: วัสดุและแรงงาน
B8: ครุภัณฑ์อาคาร
B9: - โต๊ะอาหาร พร้อมเก้าอี้ (โต๊ะ 1 ชุด + เก้าอี้ 2 ชุด) รายละเอียดตามแบบ | C9: 70 | D9: ชุด | E9: 9500 | F9: =+E9*C9 -> 665000 | G9: 0 | H9: =+G9*C9 -> 0 | I9: =+H9+F9 -> 665000
B24: รวม | F24: =SUM(F9:F23) -> 665000 | H24: =SUM(H9:H23) -> 0 | L24: =SUM(F24+H24) -> 665000
B25: รวมเงินหน้านี้ | I25: =SUM(I9:I24) -> 665000
B26: ครุภัณฑ์ประปา
B27: เครื่องสูบน้ำ
B28: - เครื่องสูบน้ำ BOOSTER PUMP 1 ชุด ประกอบด้วย เครื่องสูบน้ำ (PUMP) | C28: 1 | D28: ชุด | E28: 116375 | F28: =SUM(E28*C28) -> 116375 | G28: - | H28: - | I28: =SUM(F28) -> 116375
B29: จำนวน 2 ตัว พร้อมตู้ควบคุมไฟฟ้า
B30: อัตราการสูบจ่ายไม่น้อยกว่า 10 ลบ./ม. ต่อชั่วโมง ที่ TDH 20 ม.
B31: ขับด้วยมอเตอร์ไฟฟ้า (TEFC) ขนาดไม่น้อยกว่า 2.2 กิโลวัตต์
B32: (รายละเอียดตามรายการประกอบแบบ)
B33: ถังเก็บน้ำ (ใต้ดิน)
B34: - ถังเก็บน้ำสำเร็จรูป (ไฟเบอร์กลาสเสริมแรง) ขนาดความจุไม่น้อยกว่า - | C34: 1 | D34: ถัง | E34: 223630 | F34: =SUM(E34*C34) -> 223630 | G34: - | H34: - | I34: =SUM(F34) -> 223630 | K34: ราคาเต็ม 223630-30%
B35: 25 ลบ.ม.
B42: รวม | F42: =SUM(F27:F41) -> 340005 | H42: =SUM(H27:H41) -> 0 | K42: =+H42+F42 -> 340005 | L42: >>ครุภัณฑ์
B43: รวมเงินหน้านี้ | I43: =SUM(I27:I41) -> 340005

Sheet F_Advance(งานอาคาร)
A1: 1 | B1: 2 | C1: 3 | D1: 4 | E1: 5 | F1: 6 | G1: 7 | H1: 8 | I1: 9 | J1: 10 | K1: 11 | L1: 12 | M1: 13 | N1: 14 | O1: 15 | P1: 16 | Q1: 17
A2: ประกันผลงาน | B2: 0 | F2: 0.05 | J2: 0.1
B3: Advance | F3: Advance | J3: Advance
A4: BUDJET | B4: 0 | C4: 0.05 | D4: 0.1 | E4: 0.15 | F4: 0 | G4: 0.05 | H4: 0.1 | I4: 0.15 | J4: 0 | K4: 0.05 | L4: 0.1 | M4: 0.15
A5: 0 | B5: 1.3074 | C5: 1.3065 | D5: 1.3055 | E5: 1.3046 | F5: 1.3078 | G5: 1.3069 | H5: 1.3059 | I5: 1.305 | J5: 1.3082 | K5: 1.3073 | L5: 1.3063 | M5: 1.3054
A6: 0.5 | B6: 1.3074 | C6: 1.3065 | D6: 1.3055 | E6: 1.3046 | F6: 1.3078 | G6: 1.3069 | H6: 1.3059 | I6: 1.305 | J6: 1.3082 | K6: 1.3073 | L6: 1.3063 | M6: 1.3054
A7: 1 | B7: 1.305 | C7: 1.304 | D7: 1.3029 | E7: 1.3018 | F7: 1.3056 | G7: 1.3045 | H7: 1.3034 | I7: 1.3024 | J7: 1.3061 | K7: 1.305 | L7: 1.304 | M7: 1.3029
A8: 2 | B8: 1.3035 | C8: 1.3023 | D8: 1.3011 | E8: 1.2999 | F8: 1.3042 | G8: 1.303 | H8: 1.3018 | I8: 1.3006 | J8: 1.3049 | K8: 1.3036 | L8: 1.3024 | M8: 1.3012
A9: 5 | B9: 1.3003 | C9: 1.2987 | D9: 1.2971 | E9: 1.2955 | F9: 1.3014 | G9: 1.2998 | H9: 1.2982 | I9: 1.2966 | J9: 1.3025 | K9: 1.3009 | L9: 1.2993 | M9: 1.2976
A10: 10 | B10: 1.2943 | C10: 1.2922 | D10: 1.2901 | E10: 1.2879 | F10: 1.296 | G10: 1.2938 | H10: 1.2917 | I10: 1.2895 | J10: 1.2976 | K10: 1.2954 | L10: 1.2933 | M10: 1.2911
A11: 15 | B11: 1.2594 | C11: 1.2573 | D11: 1.2551 | E11: 1.253 | F11: 1.261 | G11: 1.2589 | H11: 1.2567 | I11: 1.2546 | J11: 1.2626 | K11: 1.2605 | L11: 1.2583 | M11: 1.2562
A12: 20 | B12: 1.2518 | C12: 1.2495 | D12: 1.2472 | E12: 1.245 | F12: 1.2535 | G12: 1.2513 | H12: 1.249 | I12: 1.2467 | J12: 1.2553 | K12: 1.253 | L12: 1.2057 | M12: 1.2484
A13: 25 | B13: 1.2248 | C13: 1.2225 | D13: 1.2203 | E13: 1.218 | F13: 1.2266 | G13: 1.2243 | H13: 1.222 | I13: 1.2197 | J13: 1.2283 | K13: 1.226 | L13: 1.2237 | M13: 1.2215
A14: 30 | B14: 1.2164 | C14: 1.214 | D14: 1.2116 | E14: 1.2092 | F14: 1.2183 | G14: 1.2159 | H14: 1.2135 | I14: 1.2111 | J14: 1.2202 | K14: 1.2178 | L14: 1.2154 | M14: 1.213
A15: 40 | B15: 1.2161 | C15: 1.2136 | D15: 1.2112 | E15: 1.2088 | F15: 1.2179 | G15: 1.2155 | H15: 1.2131 | I15: 1.2107 | J15: 1.2198 | K15: 1.2174 | L15: 1.215 | M15: 1.2126
A16: 50 | B16: 1.2159 | C16: 1.2133 | D16: 1.2106 | E16: 1.2079 | F16: 1.2181 | G16: 1.2154 | H16: 1.2127 | I16: 1.2101 | J16: 1.2202 | K16: 1.2175 | L16: 1.2149 | M16: 1.2122
... A28: 500 | B28: 1.1853 | C28: 1.1801 | D28: 1.1749 | E28: 1.1696 | F28: 1.19 | G28: 1.1848 | H28: 1.1795 | I28: 1.1743 | J28: 1.1946 | K28: 1.1894 | L28: 1.1842 | M28: 1.179
A29: > 500 | B29: 1.1788 | C29: 1.1733 | D29: 1.1678 | E29: 1.1624 | F29: 1.1838 | G29: 1.1783 | H29: 1.1728 | I29: 1.1673 | J29: 1.1887 | K29: 1.1832 | L29: 1.1777 | M29: 1.1723

Sheet F_Advance(สะพาน)
A1: 1 | B1: 2 | C1: 3 | D1: 4 | E1: 5 | F1: 6 | G1: 7 | H1: 8 | I1: 9 | J1: 10 | K1: 11 | L1: 12 | M1: 13 | N1: 14 | O1: 15 | P1: 16 | Q1: 17
A2: ประกันผลงาน | B2: 0 | F2: 0.05 | J2: 0.1
B3: Advance | F3: Advance | J3: Advance | N3: Advance
A4: BUDJET | B4: 0 | C4: 0.05 | D4: 0.1 | E4: 0.15 | F4: 0 | G4: 0.05 | H4: 0.1 | I4: 0.15 | J4: 0 | K4: 0.05 | L4: 0.1 | M4: 0.15 | N4: 0 | O4: 0.05 | P4: 0.1 | Q4: 0.15
A5: 0 | B5: 1.2782 | C5: 1.2772 | D5: 1.2761 | E5: 1.275
A6: 0.5 | B6: 1.2782 | C6: 1.2772 | D6: 1.2761 | E6: 1.275
A7: 10 | B7: 1.2446 | C7: 1.12432 | D7: 1.2419 | E7: 1.2406
A8: 15 | B8: 1.2375 | C8: 1.2359 | D8: 1.2342 | E8: 1.2326
A9: 20 | B9: 1.2304 | C9: 1.2286 | D9: 1.2266 | E9: 1.2248
A10: 25 | B10: 1.2145 | C10: 1.2125 | D10: 1.2107 | E10: 1.2088
A11: 30 | B11: 1.2133 | C11: 1.211 | D11: 1.2088 | E11: 1.2064
A12: 35 | B12: 1.2079 | C12: 1.2055 | D12: 1.2031 | E12: 1.2006
A13: 40 | B13: 1.2001 | C13: 1.1977 | D13: 1.1953 | E13: 1.1928
A14: 45 | B14: 1.1887 | C14: 1.1863 | D14: 1.1838 | E14: 1.1815
A15: 50 | B15: 1.1838 | C15: 1.1814 | D15: 1.179 | E15: 1.1766
A16: 55 | B16: 1.1826 | C16: 1.1801 | D16: 1.1777 | E16: 1.1753
... A44: 195 | B44: 1.1505 | C44: 1.1474 | D44: 1.1443 | E44: 1.1413
A45: >200 | B45: 1.1499 | C45: 1.1468 | D45: 1.1438 | E45: 1.1407

Sheet งวดงาน
E1: 23253000
B2: มูลค่างานในงวด | C2: ค่าใช้จ่ายพิเศษ | D2: รวมมูลค่างวด | E2: คิดเป็น | F2: ปรับเป็น
A3: 1 | B3: =1.2352*1000000 -> 1235200 | C3: 650000 | D3: =+C3+B3 -> 1885200 | E3: =+D3/$E$1 -> 0.08107341 | F3: 0.1
A4: 2 | B4: =2100000*1.2352 -> 2593920 | C4: 650000 | D4: =+C4+B4 -> 3243920 | E4: =+D4/$E$1 -> 0.13950544 | F4: 0.1
A5: 3 | B5: =1.2352*850000 -> 1049920 | C5: 400000 | D5: =+C5+B5 -> 1449920 | E5: =+D5/$E$1 -> 0.062354105 | F5: 0.08
A6: 4 | B6: =1.2352*1250000 -> 1544000 | C6: 400000 | D6: =+C6+B6 -> 1944000 | E6: =+D6/$E$1 -> 0.083602116 | F6: 0.08
A7: 5 | B7: =1.2352*1250000 -> 1544000 | C7: 400000 | D7: =+C7+B7 -> 1944000 | E7: =+D7/$E$1 -> 0.083602116 | F7: 0.08
A8: 6 | B8: =1.2352*1300000 -> 1605760 | C8: 400000 | D8: =+C8+B8 -> 2005760 | E8: =+D8/$E$1 -> 0.086258117 | F8: 0.08
A9: 7 | B9: =1.2352*800000 -> 988160 | C9: 400000 | D9: =+C9+B9 -> 1388160 | E9: =+D9/$E$1 -> 0.059698103 | F9: 0.06
A10: 8 | B10: =1.2352*400000 -> 494080 | C10: 400000 | D10: =+C10+B10 -> 894080 | E10: =+D10/$E$1 -> 0.038450092 | F10: 0.04
A11: 9 | B11: =1.2352*400000 -> 494080 | C11: 300000 | D11: =+C11+B11 -> 794080 | E11: =+D11/$E$1 -> 0.034149572 | F11: 0.04
A12: 10 | B12: =1.2352*1350000 -> 1667520 | C12: 300000 | D12: =+C12+B12 -> 1967520 | E12: =+D12/$E$1 -> 0.084613598 | F12: 0.08
A13: 11 | B13: =1.2352*1350000 -> 1667520 | C13: 300000 | D13: =+C13+B13 -> 1967520 | E13: =+D13/$E$1 -> 0.084613598 | F13: 0.08
A14: 12 | B14: =1.2352*1580000 -> 1951616 | C14: 300000 | D14: =+C14+B14 -> 2251616 | E14: =+D14/$E$1 -> 0.096831205 | F14: 0.08
A15: 13 | B15: =1.2352*1000000 -> 1235200 | C15: 300000 | D15: =+C15+B15 -> 1535200 | E15: =+D15/$E$1 -> 0.066021589 | F15: 0.1
B16: =SUM(B3:B15) -> 18070976 | C16: =SUM(C3:C15) -> 5200000 | D16: =+C16+B16 -> 23270976 | E16: =SUM(E3:E15) -> 1.0007731 | F16: =SUM(F3:F15) -> 1
