Workbook
Name BUDJET: 'F_Advance(งานอาคาร)'!$A$5:$A$29
Name FBUILD: 'F_Advance(งานอาคาร)'!$A$2:$Q$29
Name RET_0: 'F_Advance(งานอาคาร)'!$A$4:$E$29
Name RET_10: 'F_Advance(งานอาคาร)'!$A$4:$A$29,'F_Advance(งานอาคาร)'!$J$4:$L$29
Name RET_5: 'F_Advance(งานอาคาร)'!$A$4:$A$29,'F_Advance(งานอาคาร)'!$F$4:$I$29

Sheet แบบ ปร.6
A1: แบบสรุปราคากลาง งานก่อสร้าง
A2: ชื่อโครงการ/ | B2: งานก่อสร้างอาคารกองบังคับการ กอง รปภ.สพ.ทร. จำนวน 1 หลัง
A3: สถานที่ก่อสร้าง | B3: อ.สัตหีบ จว.ชลบุรี
A4: แบบเลขที่ | B4: 62 - 2 - 094, 62 - 4 - 016,62 - 4 - 017,62 - 5 - 036,62 - 5 - 034,62 - 6 - 009,59 - 2 - 103,59 - 2 - 104
A5: หน่วยงานเจ้าของโครงการ/งานก่อสร้าง | C5: สพ.ทร.
A6: แบบ ปร.4 และ ปร.5 ที่แนบ | C6: 56
A9: ลำดับที่ | B9: รายการ | C9: ค่าก่อสร้าง | D9: หมายเหตุ
C10: ( บาท )
A11: 1 | B11: งานก่อสร้างอาคารกองบังคับการ กอง รปภ.สพ.ทร. | C11: =SUM('ใบสรุปแบบ ปร.5 (ก) '!H26) -> 15174302
A12: 2 | B12: ครุภัณฑ์ | C12: =SUM('ใบสรุปแบบ ปร.5 (ข)'!H25) -> 2326034.5
B24: รวมค่าก่อสร้างทั้งโครงการ | C24: =SUM(C11:C23) -> 17500337
B25: สรุปราคา(ปัดเศษ) | C25: 17500000 | E25: =SUM(C25-C24) -> -336.88556
B26: ="ราคา ( "&BAHTTEXT(C25)&" )" -> ราคา ( สิบเจ็ดล้านห้าแสนบาทถ้วน )
B28: คณะกรรมการกำหนดราคากลาง
A29: น.อ.หญิง | B29: ประภาศรี ตั้งจิตรเจริญ | C29: ประธานกรรมการ
A31: น.ต. | B31: ธีรทัต กงทอง | C31: กรรมการ
A33: น.ต. | B33: นิเวศ ปริยานนท์ | C33: กรรมการ
A35: น.ต. | B35: ขวัญชัย จันทร์ทอง | C35: กรรมการ
A37: ร.อ.หญิง | B37: พัทธยากร ด้วงอ่ำ | C37: กรรมการและเลขานุการ

Sheet ใบสรุปแบบ ปร.5 (ก) 
A1: =+'แบบ ปร.6'!A1 -> แบบสรุปราคากลาง งานก่อสร้าง
A2: กลุ่มงาน | B2: งานอาคาร
A3: ชื่อโครงการ | B3: ='แบบ ปร.6'!B2 -> งานก่อสร้างอาคารกองบังคับการ กอง รปภ.สพ.ทร. จำนวน 1 หลัง
A4: สถานที่ก่อสร้าง | B4: =+'แบบ ปร.6'!B3 -> อ.สัตหีบ จว.ชลบุรี
A5: แบบเลขที่ | B5: 62 - 2 - 094, 2 - 4 - 016,62 - 4 - 017,62 - 5 - 036,62 - 5 - 034,62 - 6 - 009,59 - 2 - 103,59 - 2 - 104
A6: หน่วยงานเจ้าของโครงการ/งานก่อสร้าง | D6: =+'แบบ ปร.6'!C5 -> สพ.ทร. | F6: แบบ ปร. 4 ที่แนบ จำนวน | H6: 49
A8: ลำดับที่ | B8: รายการ | F8: ค่างานต้นทุน | G8: FACTOR F | H8: ค่าก่อสร้าง | I8: หมายเหตุ
F9: ( บาท ) | H9: ( บาท )
A10: 1 | B10: งานอาคารกองบังคับการ กอง รปภ.สพ.ทร. | F10: =SUM('แบบ ปร.4_อาคาร '!I28+'แบบ ปร.4_อาคาร '!I50+'แบบ ปร.4_อาคาร '!I71+'แบบ ปร.4_อาคาร '!I92+'แบบ ปร.4_อาคาร '!I114+'แบบ ปร.4_อาคาร '!I135+'แบบ ปร.4_อาคาร '!I157+'แบบ ปร.4_อาคาร '!I178+'แบบ ปร.4_อาคาร '!I199) -> 6104395.5
A11: 2 | B11: งานระบบไฟฟ้าภายในและระบบปรับอากาศ | F11: =SUM(ฟฟ.!I29+ฟฟ.!I51+ฟฟ.!I73+ฟฟ.!I95+ฟฟ.!I118+ฟฟ.!I140+ฟฟ.!I162+ฟฟ.!I184) -> 1547490
A12: 3 | B12: งานระบบปรับอากาศ | F12: =SUM(ปรับอากาศ!I29+ปรับอากาศ!I51) -> 139235
A13: 4 | B13: งานระบบประปาภายใน | F13: =SUM(ปป.ภายใน!I30+ปป.ภายใน!I53+ปป.ภายใน!I75+ปป.ภายใน!I97+ปป.ภายใน!I119+ปป.ภายใน!I141+ปป.ภายใน!I163+ปป.ภายใน!I185+ปป.ภายใน!I207+ปป.ภายใน!I229+ปป.ภายใน!I251+ปป.ภายใน!I273+ปป.ภายใน!I295+ปป.ภายใน!I317+ปป.ภายใน!I339+ปป.ภายใน!I361) -> 700955 | K13: =SUM(F10:F13) -> 8492075.5
A14: 5 | B14: งานโรงจอดรถ | F14: =SUM('โรงจอดรถ '!I27+'โรงจอดรถ '!I47) -> 153648.25
A15: 6 | B15: งานภูมิทัศน์พร้อมถนนและลาน ค.ส.ล. | F15: =SUM('ถนน+ลาน+ภูมิทัศน์'!I26+'ถนน+ลาน+ภูมิทัศน์'!I45) -> 1640717
A16: 7 | B16: งานระบบไฟฟ้าภายนอก | F16: =SUM(ฟฟ.ภนอ.!I28+ฟฟ.ภนอ.!I50+ฟฟ.ภนอ.!I71+ฟฟ.ภนอ.!I92+ฟฟ.ภนอ.!I113) -> 1151003
A17: 8 | B17: งานระบบประปาภายนอก | F17: =SUM(ปป.ภายนอก!I26+ปป.ภายนอก!I45+ปป.ภายนอก!I65+ปป.ภายนอก!I84+ปป.ภายนอก!I103) -> 467704.88
B19: ราคารวม วัสดุ + แรงงาน | F19: =SUM(F10:F18) -> 11905149 | G19: =+O24 -> 1.2746 | H19: =F19*G19 -> 15174302
B21: เงื่อนไขการใช้ตาราง Factor F | K21: =+B2 -> งานอาคาร | N21: ส่วนต่างวงเงิน | O21: ค่าเปลี่ยนแปลง | R21: RETENSION
B22: เงินล่วงหน้าจ่าย | F22: 0.15 | K22: วงเงิน | L22: FACTOR F | N22: =IF( K24="> 500",0,F19-K23*1000000) -> 1905148.6 | O22: =IF( K24="> 500",L23,L23-L24) -> 0.0349 | Q22: วงเงิน | R22: 0 | S22: 0.05 | T22: 0.1
B23: เงินประกันผลงานหัก | F23: 0 | K23: 10 | L23: =+HLOOKUP(F23,R22:T24,2) -> 1.2879 | N23: =IF(K23="> 500",0,K24*1000000-K23*1000000) -> 5000000 | O23: =IF( K24="> 500",0,O22*N22/N23) -> 0.013297937 | Q23: =+K23 -> 10 | R23: =IF(F23=0,IF(F22=0%,VLOOKUP(K23,FBUILD,2),IF(F22=5%,VLOOKUP(K23,FBUILD,3),IF(F22=10%,VLOOKUP(K23,FBUILD,4),IF(F22=15%,VLOOKUP(K23,FBUILD,5),"ERROR"))))) -> 1.2879 | S23: =+IF(F23=5%,IF(F22=0%,VLOOKUP(K23,FBUILD,6),IF(F22=5%,VLOOKUP(K23,FBUILD,7),IF(F22=10%,VLOOKUP(K23,FBUILD,8),IF(F22=15%,VLOOKUP(K23,FBUILD,9),"ERROR"))))) -> FALSE | T23: =+IF(F23=10%,IF(F22=0%,VLOOKUP(K23,FBUILD,10),IF(F22=5%,VLOOKUP(K23,FBUILD,11),IF(F22=10%,VLOOKUP(K23,FBUILD,12),IF(F22=15%,VLOOKUP(K23,FBUILD,13),"ERROR"))))) -> FALSE
B24: ดอกเบี้ยเงินกู้ | F24: 0.06 | K24: 15 | L24: =+HLOOKUP(F23,R22:T24,3) -> 1.253 | N24: FACTOR F -> | O24: =ROUND(L23-O23,4) -> 1.2746 | Q24: =+K24 -> 15 | R24: =IF(F23=0,IF(F22=0%,VLOOKUP(K24,FBUILD,2),IF(F22=5%,VLOOKUP(K24,FBUILD,3),IF(F22=10%,VLOOKUP(K24,FBUILD,4),IF(F22=15%,VLOOKUP(K24,FBUILD,5),"ERROR"))))) -> 1.253 | S24: =+IF(F23=5%,IF(F22=0%,VLOOKUP(K24,FBUILD,6),IF(F22=5%,VLOOKUP(K24,FBUILD,7),IF(F22=10%,VLOOKUP(K24,FBUILD,8),IF(F22=15%,VLOOKUP(K24,FBUILD,9),"ERROR"))))) -> FALSE | T24: =+IF(F23=10%,IF(F22=0%,VLOOKUP(K24,FBUILD,10),IF(F22=5%,VLOOKUP(K24,FBUILD,11),IF(F22=10%,VLOOKUP(K24,FBUILD,12),IF(F22=15%,VLOOKUP(K24,FBUILD,13),"ERROR"))))) -> FALSE
B25: VAT | F25: 0.07 | K25: หมายเหตุ : ใช้ FACTOR F ที่ปรับปรุงและทบทวน ของ กรมบัญชีกลาง ล่าสุด ตามหนังสือเวียน
A26: รวมราคาก่อสร้าง | H26: =SUM(H10:H25) -> 15174302 | L26: ที่ กค.0405.3/ ว.364 เมื่อวันที่ 15 ก.ย. 2559
C28: คณะกรรมการกำหนดราคากลาง
B29: น.อ.หญิง | C29: ประภาศรี ตั้งจิตรเจริญ | D29: ประธานกรรมการ
B31: น.ต. | C31: ธีรทัต กงทอง | D31: กรรมการ
B33: น.ต. | C33: นิเวศ ปริยานนท์ | D33: กรรมการ
B35: น.ต. | C35: ขวัญชัย จันทร์ทอง | D35: กรรมการ
B37: ร.อ.หญิง | C37: พัทธยากร ด้วงอ่ำ | D37: กรรมการและเลขานุการ

Sheet ใบสรุปแบบ ปร.5 (ข)
A1: แบบสรุปค่าครุภัณฑ์ จัดซื้อ
A2: กลุ่มงาน | B2: งานอาคาร
A3: ชื่อโครงการ | B3: ='แบบ ปร.6'!B2 -> งานก่อสร้างอาคารกองบังคับการ กอง รปภ.สพ.ทร. จำนวน 1 หลัง
A4: สถานที่ก่อสร้าง | B4: =+'แบบ ปร.6'!B3 -> อ.สัตหีบ จว.ชลบุรี | D4: แบบเลขที่ | E4: 59 - 2 - 104,62 - 6 - 009,62 - 5 - 034,62 - 4 - 017
A5: หน่วยงานเจ้าของโครงการ/งานก่อสร้าง | D5: =+'แบบ ปร.6'!C5 -> สพ.ทร. | F5: แบบ ปร. 4 ที่แนบ จำนวน | H5: 5
A7: ลำดับที่ | B7: รายการ | F7: ค่างาน | G7: ภาษี | H7: ค่าก่อสร้าง | I7: หมายเหตุ
F8: ( บาท ) | G8: มูลค่าเพิ่ม | H8: ( บาท )
A9: 1 | B9: ครุภัณฑ์ประจำอาคารกองบังคับการ กอง รปภ.สพ.ทร. | F9: =SUM(ครุภัณฑ์!I27+ครุภัณฑ์!I47) -> 1227625
A10: 2 | B10: ครุภัณฑ์เครื่องปรับอากาศ | F10: =SUM(ครุภัณฑ์!I67) -> 604573
A11: 3 | B11: ครุภัณฑ์ระบบคอมพิวเตอร์ NETWORK | F11: =SUM(ครุภัณฑ์!I87) -> 141326
A12: 4 | B12: ครุภัณฑ์ระบบประปาและสุขาภิบาล | F12: =SUM(ครุภัณฑ์!I107) -> 200340
B23: ราคารวม ค่าครุภัณฑ์ | F23: =SUM(F9:F19) -> 2173864 | G23: 1.07 | H23: =F23*G23 -> 2326034.5
A25: รวมราคา ค่าครุภัณฑ์ จัดซื้อ | H25: =SUM(H9:H24) -> 2326034.5
C27: คณะกรรมการกำหนดราคากลาง
B28: น.อ.หญิง | C28: ประภาศรี ตั้งจิตรเจริญ | D28: ประธานกรรมการ
B30: น.ต. | C30: ธีรทัต กงทอง | D30: กรรมการ
B32: น.ต. | C32: นิเวศ ปริยานนท์ | D32: กรรมการ
B34: น.ต. | C34: ขวัญชัย จันทร์ทอง | D34: กรรมการ
B36: ร.อ.หญิง | C36: พัทธยากร ด้วงอ่ำ | D36: กรรมการและเลขานุการ

Sheet แบบ ปร.4_อาคาร 
A1: แบบแสดงรายการปริมาณงานและราคา
A2: กลุ่มงาน | B2: งานอาคาร
A3: ชื่อโครงการ | B3: =+'แบบ ปร.6'!B2 -> งานก่อสร้างอาคารกองบังคับการ กอง รปภ.สพ.ทร. จำนวน 1 หลัง | F3: แบบเลขที่ | G3: 59 - 2 - 103 , 62 - 2 - 094
A4: สถานที่ | B4: =+'แบบ ปร.6'!B3 -> อ.สัตหีบ จว.ชลบุรี | C4: หน่วยงานเจ้าของโครงการ | F4: =+'แบบ ปร.6'!C5 -> สพ.ทร.
A6: ลำดับที่ | B6: รายการ | C6: จำนวน | D6: หน่วย | E6: ค่าวัสดุ (บาท ) | G6: ค่าแรงงาน (บาท ) | I6: รวม (บาท ) | J6: หมายเหตุ
E7: ราคาหน่วยละ | F7: จำนวนเงิน | G7: ราคาหน่วยละ | H7: จำนวนเงิน | I7: วัสดุและแรงงาน
B8: อาคารกองบังคับการ กอง รปภ.สพ.ทร.
B9: งานฐานรากและเสาตอม่อ
B10: - งานขุดดินและถมคืน | C10: 336 | D10: ลบ.ม. | E10: 0 | F10: =+E10*C10 -> 0 | G10: 99 | H10: =+G10*C10 -> 33264 | I10: =+H10+F10 -> 33264 | K10: 190 | L10: ลบ.ม.
B11: - ทรายหยาบ | C11: 17 | D11: ลบ.ม. | E11: 537 | F11: =+E11*C11 -> 9129 | G11: 99 | H11: =+G11*C11 -> 1683 | I11: =+H11+F11 -> 10812 | K11: 13 | L11: ลบ.ม.
B12: - คอนกรีตหยาบ | C12: 7 | D12: ลบ.ม. | E12: 2065 | F12: =+E12*C12 -> 14455 | G12: 398 | H12: =+G12*C12 -> 2786 | I12: =+H12+F12 -> 17241 | K12: 6 | L12: ลบ.ม.
B13: - คอนกรีตโครงสร้าง (240 ksc) | C13: 56 | D13: ลบ.ม. | E13: 2140 | F13: =+E13*C13 -> 119840 | G13: 485 | H13: =+G13*C13 -> 27160 | I13: =+H13+F13 -> 147000 | K13: 40 | L13: ลบ.ม.
B14: - แบบหล่อคอนกรีต | C14: 132 | D14: ตร.ม. | E14: 200 | F14: =+E14*C14 -> 26400 | G14: 133 | H14: =+G14*C14 -> 17556 | I14: =+H14+F14 -> 43956 | K14: 123 | L14: ตร.ม.
B15: - เหล็กเสริมคอนกรีต
B16: RB 6 mm. | C16: 0.11 | D16: ตัน | E16: 21980 | F16: =+E16*C16 -> 2417.8 | G16: 4100 | H16: =+G16*C16 -> 451 | I16: =+H16+F16 -> 2868.8 | K16: 0.105 | L16: ตัน
B17: RB 9 mm. | C17: 0.13 | D17: ตัน | E17: 21379 | F17: =+E17*C17 -> 2779.27 | G17: 4100 | H17: =+G17*C17 -> 533 | I17: =+H17+F17 -> 3312.27 | K17: 0.11 | L17: ตัน
B18: DB 16 mm. | C18: 4.14 | D18: ตัน | E18: 21540 | F18: =+E18*C18 -> 89175.6 | G18: 3300 | H18: =+G18*C18 -> 13662 | I18: =+H18+F18 -> 102837.6 | K18: 3.65 | L18: ตัน
B19: - ตะปู | C19: 30 | D19: กก. | E19: 47 | F19: =+E19*C19 -> 1410 | G19: 0 | H19: =+G19*C19 -> 0 | I19: =+H19+F19 -> 1410 | K19: 116 | L19: กก.
B20: - ลวดผูกเหล็ก | C20: 132 | D20: กก. | E20: 31 | F20: =+E20*C20 -> 4092 | G20: 0 | H20: =+G20*C20 -> 0 | I20: =+H20+F20 -> 4092 | K20: 27 | L20: กก.
L22: 290311
B27: รวม | F27: =SUM(F9:F26) -> 269698.67 | H27: =SUM(H9:H26) -> 97095 | K27: =+H27+F27 -> 366793.67
B28: รวมเงินหน้านี้ | I28: =SUM(I9:I27) -> 366793.67
B29: งานโครงสร้าง
B30: - คอนกรีตโครงสร้าง (240 ksc) | C30: 98 | D30: ลบ.ม. | E30: 2140 | F30: =SUM(C30*E30) -> 209720 | G30: 485 | H30: =SUM(C30*G30) -> 47530 | I30: =SUM(F30+H30) -> 257250
B31: - เหล็กเสริมคอนกรีต
B32: RB 6 mm. | C32: 1.1 | D32: ตัน | E32: 21980 | F32: =+E32*C32 -> 24178 | G32: 4100 | H32: =+G32*C32 -> 4510 | I32: =+H32+F32 -> 28688
B33: RB 9 mm. | C33: 2.8 | D33: ตัน | E33: 21379 | F33: =+E33*C33 -> 59861.2 | G33: 4100 | H33: =+G33*C33 -> 11480 | I33: =+H33+F33 -> 71341.2
B34: DB 12 mm. | C34: 2.7 | D34: ตัน | E34: 21307 | F34: =+E34*C34 -> 57528.9 | G34: 3300 | H34: =+G34*C34 -> 8910 | I34: =+H34+F34 -> 66438.9
B35: DB 16 mm. | C35: 2.5 | D35: ตัน | E35: 21540 | F35: =+E35*C35 -> 53850 | G35: 3300 | H35: =+G35*C35 -> 8250 | I35: =+H35+F35 -> 62100
B36: DB 20 mm. | C36: 3.3 | D36: ตัน | E36: 21425 | F36: =+E36*C36 -> 70702.5 | G36: 2900 | H36: =+G36*C36 -> 9570 | I36: =+H36+F36 -> 80272.5
B37: DB 25 mm. | C37: 1.6 | D37: ตัน | E37: 21027 | F37: =+E37*C37 -> 33643.2 | G37: 2900 | H37: =+G37*C37 -> 4640 | I37: =+H37+F37 -> 38283.2
B38: - แบบหล่อคอนกรีต | C38: 1094 | D38: ตร.ม. | E38: 200 | F38: =SUM(C38*E38) -> 218800 | G38: 133 | H38: =SUM(C38*G38) -> 145502 | I38: =SUM(F38+H38) -> 364302
B39: - ตะปู | C39: 420 | D39: กก. | E39: 47 | F39: =SUM(C39*E39) -> 19740 | G39: - | H39: - | I39: =SUM(F39) -> 19740 | K39: =+C38*0.25 -> 273.5
B40: - ลวดผูกเหล็ก | C40: 241 | D40: กก. | E40: 31 | F40: =SUM(C40*E40) -> 7471 | G40: - | H40: - | I40: =SUM(F40) -> 7471 | K40: =+C31*30 -> 0
B41: - พื้นสำเร็จชนิด HOLLOW CORE หนา 10 ซม. รับน้ำหนัก
B42: 300 Kg/ม2 | C42: 422 | D42: ตร.ม. | E42: 380 | F42: =SUM(C42*E42) -> 160360 | G42: 35 | H42: =SUM(C42*G42) -> 14770 | I42: =SUM(F42+H42) -> 175130
B43: - พื้นสำเร็จชนิด HOLLOW CORE หนา 10 ซม. รับน้ำหนัก
B44: 400 Kg/ม2 | C44: 148 | D44: ตร.ม. | E44: 500 | F44: =SUM(C44*E44) -> 74000 | G44: 35 | H44: =SUM(C44*G44) -> 5180 | I44: =SUM(F44+H44) -> 79180
B45: - WIRE MESH f 4 มม. @ 0.20 ม. # | C45: 570 | D45: ตร.ม. | E45: 47 | F45: =SUM(C45*E45) -> 26790 | G45: 5 | H45: =SUM(C45*G45) -> 2850 | I45: =SUM(F45+H45) -> 29640
B46: - คอนกรีตโครงสร้างทับหน้า (240 ksc) | C46: 30 | D46: ลบ.ม. | E46: 2140 | F46: =SUM(C46*E46) -> 64200 | G46: 485 | H46: =SUM(C46*G46) -> 14550 | I46: =SUM(F46+H46) -> 78750
...

Sheet ฟฟ.
A1: แบบแสดงรายการปริมาณงานและราคา
A2: กลุ่มงาน | B2: งานอาคาร
A3: ชื่อโครงการ | B3: =+'แบบ ปร.6'!B2 -> งานก่อสร้างอาคารกองบังคับการ กอง รปภ.สพ.ทร. จำนวน 1 หลัง | F3: แบบเลขที่ | G3: 62 - 5 - 034
A4: สถานที่ | B4: =+'แบบ ปร.6'!B3 -> อ.สัตหีบ จว.ชลบุรี | C4: หน่วยงานเจ้าของโครงการ | F4: =+'แบบ ปร.6'!C5 -> สพ.ทร.
A6: ลำดับที่ | B6: รายการ | C6: จำนวน | D6: หน่วย | E6: ค่าวัสดุ (บาท ) | G6: ค่าแรงงาน (บาท ) | I6: รวม (บาท ) | J6: หมายเหตุ
E7: ราคาหน่วยละ | F7: จำนวนเงิน | G7: ราคาหน่วยละ | H7: จำนวนเงิน | I7: วัสดุและแรงงาน
B8: ระบบไฟฟ้าภายใน (อาคารกองบังคับการ กอง รปภ.สพ.ทร. )
B9: - โคมตะแกรงถี่แผ่นสะถ้อนแสงอลูมิเนียม ประสิทธิภาพการสะท้อนแสง 95%
B10: ฝังฝ้า L1200 x W300mmT0.8mm. หลอด LED TUBE
B11: ขนาดไม่น้อยกว่า 18 วัตต์ จำนวน 2 หลอด | C11: 29 | D11: ชุด | E11: 1640 | F11: =SUM(C11*E11) -> 47560 | G11: 150 | H11: =SUM(C11*G11) -> 4350 | I11: =SUM(F11+H11) -> 51910
B12: - โคมตะแกรงถี่แผ่นสะถ้อนแสงอลูมิเนียม ประสิทธิภาพการสะท้อนแสง 95%
B13: ฝังฝ้า L1200 x W300mmT0.8mm. หลอด LED TUBE
B14: ขนาดไม่น้อยกว่า 18 วัตต์ จำนวน 1 หลอด | C14: 6 | D14: ชุด | E14: 1260 | F14: =SUM(C14*E14) -> 7560 | G14: 135 | H14: =SUM(C14*G14) -> 810 | I14: =SUM(F14+H14) -> 8370
B15: - โคมตะแกรงถี่แผ่นสะถ้อนแสงอลูมิเนียม ประสิทธิภาพการสะท้อนแสง 95%
B16: ฝังฝ้า L600 x W300mmT0.8mm. หลอด LED TUBE
B17: ขนาดไม่น้อยกว่า 9 วัตต์ จำนวน 2 หลอด | C17: 14 | D17: ชุด | E17: 1200 | F17: =SUM(C17*E17) -> 16800 | G17: 135 | H17: =SUM(C17*G17) -> 1890 | I17: =SUM(F17+H17) -> 18690
B18: - โคมตะแกรงรังผึ้งแผ่นสะถ้อนแสงอลูมิเนียม ประสิทธิภาพการสะท้อนแสง
B19: 95% ฝังฝ้า L1200 x W300mmT0.8mm. หลอด LED TUBE
B20: ขนาดไม่น้อยกว่า 18 วัตต์ จำนวน 2 หลอด | C20: 16 | D20: ชุด | E20: 1640 | F20: =SUM(C20*E20) -> 26240 | G20: 150 | H20: =SUM(C20*G20) -> 2400 | I20: =SUM(F20+H20) -> 28640
B21: - โคมตะแกรงรังผึ้งแผ่นสะถ้อนแสงอลูมิเนียม ประสิทธิภาพการสะท้อนแสง
B22: 95% ฝังฝ้า L1200 x W300mmT0.8mm. หลอด LED TUBE
B23: ขนาดไม่น้อยกว่า 9 วัตต์ จำนวน 2 หลอด | C23: 10 | D23: ชุด | E23: 1200 | F23: =SUM(C23*E23) -> 12000 | G23: 135 | H23: =SUM(C23*G23) -> 1350 | I23: =SUM(F23+H23) -> 13350
B24: - โคมกล่องเหล็ก ติดลอย T0.8 หลอด LED TUBE
B25: ขนาดไม่น้อยกว่า 18 วัตต์ จำนวน 1 หลอด | C25: 3 | D25: ชุด | E25: 520 | F25: =E25*C25 -> 1560 | G25: 115 | H25: =G25*C25 -> 345 | I25: =H25+F25 -> 1905
B28: รวม | F28: =SUM(F10:F27) -> 111720 | H28: =SUM(H10:H27) -> 11145 | K28: =+H28+F28 -> 122865
B29: รวมเงินหน้านี้ | I29: =SUM(I11:I27) -> 122865
B30: ระบบไฟฟ้าภายใน (อาคารกองบังคับการ กอง รปภ.สพ.ทร. ) (ต่อ)
B31: - โคม DOWN LIGHT แบบฝังฝ้า ตัวสะท้อนแสงอะลูมิเนียม หลอด LED
B32: BULD ขนาด 7 วัตต์ ขั้ว E 27 (15 mm.) | C32: 31 | D32: ชุด | E32: 500 | F32: =SUM(C32*E32) -> 15500 | G32: 115 | H32: =SUM(C32*G32) -> 3565 | I32: =SUM(F32+H32) -> 19065
B33: - โคม DOWN LIGHT แบบฝังฝ้า ตัวสะท้อนแสงอะลูมิเนียม หลอด LED
B34: BULD ขนาด 9 วัตต์ ขั้ว E 27 (20mm.) | C34: 34 | D34: ชุด | E34: 600 | F34: =SUM(C34*E34) -> 20400 | G34: 115 | H34: =SUM(C34*G34) -> 3910 | I34: =SUM(F34+H34) -> 24310
B35: - โคม DOWN LIGHT แบบฝังฝ้า (สี่เหลี่ยม)ตัวสะท้อนแสงอะลูมิเนียม
B36: หลอด LED BULD ขนาด 9 วัตต์ ขั้ว E 27 (20mm.) | C36: 12 | D36: ชุด | E36: 800 | F36: =SUM(C36*E36) -> 9600 | G36: 115 | H36: =SUM(C36*G36) -> 1380 | I36: =SUM(F36+H36) -> 10980
B37: - โคมติดผนังภายนอก หลอด LED BULD ขนาด 7 วัตต์ ขั้ว E 27 | C37: 17 | D37: ชุด | E37: 1500 | F37: =SUM(C37*E37) -> 25500 | G37: 165 | H37: =SUM(C37*G37) -> 2805 | I37: =SUM(F37+H37) -> 28305
B38: - โคมไฟฟ้าแสงสว่างฉุดเฉิน หลอด LED TUBE ขนาด 2x9 วัตต์ | C38: 6 | D38: ชุด | E38: 3000 | F38: =SUM(C38*E38) -> 18000 | G38: 200 | H38: =SUM(C38*G38) -> 1200 | I38: =SUM(F38+H38) -> 19200
B39: - สวิทซ์ปิด-เปิด ทางเดียว ขนาดไม่น้อยกว่า 15A. 250V.AC. | C39: 47 | D39: ชุด | E39: 60 | F39: =E39*C39 -> 2820 | G39: 80 | H39: =G39*C39 -> 3760 | I39: =H39+F39 -> 6580
B40: - สวิทซ์ปิด-เปิด ทางเดียว ขนาดไม่น้อยกว่า 15A.250V.AC.พร้อมหน้ากากกันน้ำ | C40: 6 | D40: ชุด | E40: 350 | F40: =E40*C40 -> 2100 | G40: 110 | H40: =G40*C40 -> 660 | I40: =H40+F40 -> 2760
B41: - สวิทซ์ปิด-เปิด สองทาง(สวิทช์บันได) ขนาดไม่น้อยกว่า 15A. 250V.AC. | C41: 6 | D41: ชุด | E41: 96 | F41: =E41*C41 -> 576 | G41: 85 | H41: =G41*C41 -> 510 | I41: =H41+F41 -> 1086
B42: - สวิทซ์ปิด-เปิด ทางเดียว ขนาดไม่น้อยกว่า 15A.250V.AC.
B43: สำหรับพัดลมดูดอากาศ แบบมีไฟ | C43: 14 | D43: ชุด | E43: 160 | F43: =E43*C43 -> 2240 | G43: 80 | H43: =G43*C43 -> 1120 | I43: =H43+F43 -> 3360
...

Sheet ปรับอากาศ
A1: แบบแสดงรายการปริมาณงานและราคา
A2: กลุ่มงาน | B2: งานอาคาร
A3: ชื่อโครงการ | B3: =+'แบบ ปร.6'!B2 -> งานก่อสร้างอาคารกองบังคับการ กอง รปภ.สพ.ทร. จำนวน 1 หลัง | F3: แบบเลขที่ | G3: 62 - 6 - 009
A4: สถานที่ | B4: =+'แบบ ปร.6'!B3 -> อ.สัตหีบ จว.ชลบุรี | C4: หน่วยงานเจ้าของโครงการ | F4: =+'แบบ ปร.6'!C5 -> สพ.ทร.
A6: ลำดับที่ | B6: รายการ | C6: จำนวน | D6: หน่วย | E6: ค่าวัสดุ (บาท ) | G6: ค่าแรงงาน (บาท ) | I6: รวม (บาท ) | J6: หมายเหตุ
E7: ราคาหน่วยละ | F7: จำนวนเงิน | G7: ราคาหน่วยละ | H7: จำนวนเงิน | I7: วัสดุและแรงงาน
B8: ระบบปรับอากาศ(อาคารกองบังคับการ กอง รปภ.สพ.ทร. )
B9: - ท่อน้ำยาทองแดง TYPE L ขนาด 1/4" | C9: 5 | D9: เมตร | E9: 84 | F9: =C9*E9 -> 420 | G9: 25 | H9: =SUM(C9*G9) -> 125 | I9: =SUM(F9+H9) -> 545
B10: - ท่อน้ำยาทองแดง TYPE L ขนาด 3/8" | C10: 21 | D10: เมตร | E10: 105 | F10: =C10*E10 -> 2205 | G10: 30 | H10: =SUM(C10*G10) -> 630 | I10: =SUM(F10+H10) -> 2835
B11: - ท่อน้ำยาทองแดง TYPE L ขนาด 1/2" | C11: 5 | D11: เมตร | E11: 167 | F11: =C11*E11 -> 835 | G11: 50 | H11: =SUM(C11*G11) -> 250 | I11: =SUM(F11+H11) -> 1085
B12: - ท่อน้ำยาทองแดง TYPE L ขนาด 5/8" | C12: 5 | D12: เมตร | E12: 239 | F12: =C12*E12 -> 1195 | G12: 65 | H12: =SUM(C12*G12) -> 325 | I12: =SUM(F12+H12) -> 1520
B13: - ท่อน้ำยาทองแดง TYPE L ขนาด 3/4" | C13: 17 | D13: เมตร | E13: 295 | F13: =C13*E13 -> 5015 | G13: 80 | H13: =SUM(C13*G13) -> 1360 | I13: =SUM(F13+H13) -> 6375
B14: - ฉนวนหุ้มท่อน้ำยาทองแดง | C14: 30 | D14: เมตร | E14: 65 | F14: =C14*E14 -> 1950 | G14: 16 | H14: =SUM(C14*G14) -> 480 | I14: =SUM(F14+H14) -> 2430
B15: - ท่อน้ำทิ้ง ขนาด Ø 3/4" PVC. | C15: 14 | D15: ท่อน | E15: 46 | F15: =C15*E15 -> 644 | G15: 100 | H15: =SUM(C15*G15) -> 1400 | I15: =SUM(F15+H15) -> 2044
B16: - ท่อน้ำทิ้ง ขนาด Ø 1" PVC. | C16: 12 | D16: ท่อน | E16: 60 | F16: =C16*E16 -> 720 | G16: 100 | H16: =SUM(C16*G16) -> 1200 | I16: =SUM(F16+H16) -> 1920
B17: - ท่อน้ำทิ้ง ขนาด Ø 1 1/4" PVC. | C17: 6 | D17: ท่อน | E17: 75 | F17: =C17*E17 -> 450 | G17: 100 | H17: =SUM(C17*G17) -> 600 | I17: =SUM(F17+H17) -> 1050
B18: - ท่อ PVC. 4" | C18: 10 | D18: เมตร | E18: 141 | F18: =C18*E18 -> 1410 | G18: 54 | H18: =SUM(C18*G18) -> 540 | I18: =SUM(F18+H18) -> 1950
B19: - ท่อ PVC. 4" | C19: 10 | D19: เมตร | E19: 141 | F19: =C19*E19 -> 1410 | G19: 54 | H19: =SUM(C19*G19) -> 540 | I19: =SUM(F19+H19) -> 1950
B20: - ฉนวนหุ้มท่อน้ำทิ้ง | C20: 27 | D20: เมตร | E20: 35 | F20: =C20*E20 -> 945 | G20: 14 | H20: =SUM(C20*G20) -> 378 | I20: =SUM(F20+H20) -> 1323
B21: - รางครอบท่อน้ำยา | C21: 32 | D21: เมตร | E21: 130 | F21: =C21*E21 -> 4160 | G21: 50 | H21: =SUM(C21*G21) -> 1600 | I21: =SUM(F21+H21) -> 5760
B22: - สารทำความเย็น | C22: 1 | D22: งาน | E22: 8146 | F22: =C22*E22 -> 8146 | G22: - | H22: - | I22: =SUM(F22) -> 8146
B23: - พัดลมดูดอากาศผนัง 6 นิ้ว | C23: 1 | D23: ชุด | E23: 900 | F23: =SUM(C23*E23) -> 900 | G23: 350 | H23: =G23*C23 -> 350 | I23: =H23+F23 -> 1250
B24: - พัดลมดูดอากาศผนัง 8 นิ้ว | C24: 1 | D24: ชุด | E24: 1000 | F24: =SUM(C24*E24) -> 1000 | G24: 400 | H24: =G24*C24 -> 400 | I24: =H24+F24 -> 1400
B25: - พัดลมดูดอากาศ 50 CFM. | C25: 4 | D25: ชุด | E25: 2640 | F25: =SUM(C25*E25) -> 10560 | G25: 650 | H25: =G25*C25 -> 2600 | I25: =H25+F25 -> 13160
B28: รวม | F28: =SUM(F9:F27) -> 41965 | H28: =SUM(H9:H27) -> 12778 | K28: =+H28+F28 -> 54743
B29: รวมเงินหน้านี้ | I29: =SUM(I8:I27) -> 54743
B30: ระบบปรับอากาศ(อาคารกองบังคับการ กอง รปภ.สพ.ทร. ) (ต่อ)
B31: - พัดลมดูดอากาศ 80 CFM. | C31: 6 | D31: ชุด | E31: 3192 | F31: =SUM(C31*E31) -> 19152 | G31: 650 | H31: =G31*C31 -> 3900 | I31: =H31+F31 -> 23052
B32: - พัดลมดูดอากาศ 100 CFM. | C32: 1 | D32: ชุด | E32: 3600 | F32: =SUM(C32*E32) -> 3600 | G32: 650 | H32: =G32*C32 -> 650 | I32: =H32+F32 -> 4250
B33: - พัดลมดูดอากาศ 200 CFM. | C33: 1 | D33: ชุด | E33: 7344 | F33: =SUM(C33*E33) -> 7344 | G33: 650 | H33: =G33*C33 -> 650 | I33: =H33+F33 -> 7994
B34: - พัดลมดูดอากาศ 250 CFM. | C34: 2 | D34: ชุด | E34: 9968 | F34: =SUM(C34*E34) -> 19936 | G34: 650 | H34: =G34*C34 -> 1300 | I34: =H34+F34 -> 21236
B35: - หน้ากากลมกลับ EAG 4" x4" | C35: 1 | D35: ชุด | E35: 110 | F35: =C35*E35 -> 110 | G35: 125 | H35: =C35*G35 -> 125 | I35: =SUM(F35+H35) -> 235
B36: - PIPE HOOD | C36: 17 | D36: ชุด | E36: 800 | F36: =SUM(C36*E36) -> 13600 | G36: 125 | H36: =C36*G36 -> 2125 | I36: =SUM(F36+H36) -> 15725
B37: - อุปกรณ์ประกอบและอื่น ๆ | C37: 1 | D37: งาน | E37: 12000 | F37: =C37*E37 -> 12000 | G37: - | H37: - | I37: =SUM(F37) -> 12000
B50: รวม | F50: =SUM(F31:F49) -> 75742 | H50: =SUM(H31:H49) -> 8750 | K50: =+H50+F50 -> 84492
B51: รวมเงินหน้านี้ | I51: =SUM(I31:I50) -> 84492
K53: =I51+I29 -> 139235

Sheet ปป.ภายใน
A1: แบบแสดงรายการปริมาณงานและราคา | L1: 304000
A2: กลุ่มงาน | B2: งานอาคาร
A3: ชื่อโครงการ | B3: =+'แบบ ปร.6'!B2 -> งานก่อสร้างอาคารกองบังคับการ กอง รปภ.สพ.ทร. จำนวน 1 หลัง | F3: แบบเลขที่ | G3: 62 - 4 - 017
A4: สถานที่ | B4: =+'แบบ ปร.6'!B3 -> อ.สัตหีบ จว.ชลบุรี | C4: หน่วยงานเจ้าของโครงการ | F4: =+'แบบ ปร.6'!C5 -> สพ.ทร.
A6: ลำดับที่ | B6: รายการ | C6: จำนวน | D6: หน่วย | E6: ค่าวัสดุ (บาท ) | G6: ค่าแรงงาน (บาท ) | I6: รวม (บาท ) | J6: หมายเหตุ
E7: ราคาหน่วยละ | F7: จำนวนเงิน | G7: ราคาหน่วยละ | H7: จำนวนเงิน | I7: วัสดุและแรงงาน
B8: งานระบบประปาภายใน บก. กอง รปภ.สพ.ทร.
B9: PVC 13.5
B10: - Ø 1/2" | C10: 98 | D10: เมตร | E10: 11 | F10: =SUM(E10*C10) -> 1078 | G10: 30 | H10: =SUM(G10*C10) -> 2940 | I10: =SUM(H10+F10) -> 4018
B11: - Ø 3/4" | C11: 45 | D11: เมตร | E11: 14 | F11: =SUM(E11*C11) -> 630 | G11: 30 | H11: =SUM(G11*C11) -> 1350 | I11: =SUM(H11+F11) -> 1980
B12: - Ø 1" | C12: 9 | D12: เมตร | E12: 22 | F12: =SUM(E12*C12) -> 198 | G12: 30 | H12: =SUM(G12*C12) -> 270 | I12: =SUM(H12+F12) -> 468
B13: - Ø 1 1/4" | C13: 9 | D13: เมตร | E13: 28 | F13: =SUM(E13*C13) -> 252 | G13: 30 | H13: =SUM(G13*C13) -> 270 | I13: =SUM(H13+F13) -> 522
B14: - Ø 1 1/2" | C14: 13 | D14: เมตร | E14: 37 | F14: =SUM(E14*C14) -> 481 | G14: 30 | H14: =SUM(G14*C14) -> 390 | I14: =SUM(H14+F14) -> 871
B15: - Ø 2" | C15: 21 | D15: เมตร | E15: 60 | F15: =SUM(E15*C15) -> 1260 | G15: 40 | H15: =SUM(G15*C15) -> 840 | I15: =SUM(H15+F15) -> 2100
B16: HDPE PE100,PN10
B17: - Ø 25 mm. | C17: 27 | D17: เมตร | E17: 21 | F17: =SUM(E17*C17) -> 567 | G17: 30 | H17: =SUM(G17*C17) -> 810 | I17: =SUM(H17+F17) -> 1377
B18: - Ø 32 mm. | C18: 29 | D18: เมตร | E18: 24 | F18: =SUM(E18*C18) -> 696 | G18: 30 | H18: =SUM(G18*C18) -> 870 | I18: =SUM(H18+F18) -> 1566
B19: - Ø 63 mm. | C19: 28 | D19: เมตร | E19: 86 | F19: =SUM(E19*C19) -> 2408 | G19: 75 | H19: =SUM(G19*C19) -> 2100 | I19: =SUM(H19+F19) -> 4508
B20: GSP
B21: - Ø 2" | C21: 36 | D21: เมตร | E21: 171 | F21: =SUM(E21*C21) -> 6156 | G21: 110 | H21: =SUM(G21*C21) -> 3960 | I21: =SUM(H21+F21) -> 10116
B22: - Ø 2 1/2" | C22: 4 | D22: เมตร | E22: 211 | F22: =SUM(E22*C22) -> 844 | G22: 135 | H22: =SUM(G22*C22) -> 540 | I22: =SUM(H22+F22) -> 1384
B23: อุปกรณ์ข้อต่อ PVC ( หนา )
B24: - ข้อต่องอ 90 º Ø 1/2" | C24: 47 | D24: อัน | E24: 4 | F24: =SUM(C24*E24) -> 188 | G24: - | H24: - | I24: =SUM(F24) -> 188
B25: - ข้อต่องอ 90 º Ø 3/4" | C25: 15 | D25: อัน | E25: 5 | F25: =SUM(C25*E25) -> 75 | G25: - | H25: - | I25: =SUM(F25) -> 75
B26: - ข้อต่องอ 90° Ø 2" | C26: 3 | D26: อัน | E26: 28 | F26: =SUM(C26*E26) -> 84 | G26: - | H26: - | I26: =SUM(F26) -> 84
B27: - ข้อต่องอ 90° ลด Ø 1" x 1/2" | C27: 1 | D27: อัน | E27: 10 | F27: =SUM(C27*E27) -> 10 | G27: - | H27: - | I27: =SUM(F27) -> 10
B29: รวม | F29: =SUM(F9:F28) -> 14927 | H29: =SUM(H9:H28) -> 14340 | K29: =+H29+F29 -> 29267
B30: รวมเงินหน้านี้ | I30: =SUM(I10:I29) -> 29267
B31: งานระบบประปาภายใน บก. กอง รปภ.สพ.ทร. (ต่อ)
B32: อุปกรณ์ข้อต่อ PVC ( หนา ) ต่อ
B33: - ข้อต่อ 3 ทาง T Ø 1/2 " | C33: 28 | D33: อัน | E33: 5 | F33: =SUM(C33*E33) -> 140 | G33: - | H33: - | I33: =SUM(F33) -> 140
B34: - ข้อต่อ 3 ทาง T Ø 3/4 " | C34: 20 | D34: อัน | E34: 7 | F34: =SUM(C34*E34) -> 140 | G34: - | H34: - | I34: =SUM(F34) -> 140
B35: - ข้อต่อ 3 ทาง T Ø 2" | C35: 2 | D35: อัน | E35: 40 | F35: =SUM(C35*E35) -> 80 | G35: - | H35: - | I35: =SUM(F35) -> 80
B36: - ข้อต่อ 3 ทาง T ลด Ø 3/4" x 1/2" | C36: 1 | D36: อัน | E36: 7 | F36: =SUM(C36*E36) -> 7 | G36: - | H36: - | I36: =SUM(F36) -> 7
B37: - ข้อต่อ 3 ทาง T ลด Ø 1" x 1/2" | C37: 2 | D37: อัน | E37: 16 | F37: =SUM(C37*E37) -> 32 | G37: - | H37: - | I37: =SUM(F37) -> 32
B38: - ข้อต่อตรง Ø 3/4" | C38: 2 | D38: อัน | E38: 4 | F38: =SUM(C38*E38) -> 8 | G38: - | H38: - | I38: =SUM(F38) -> 8
B39: - ข้อต่อตรง Ø 2" | C39: 2 | D39: อัน | E39: 18 | F39: =SUM(C39*E39) -> 36 | G39: - | H39: - | I39: =SUM(F39) -> 36
B40: - ข้อต่อตรงลด Ø 3/4" x 1/2" | C40: 4 | D40: อัน | E40: 4 | F40: =SUM(C40*E40) -> 16 | G40: - | H40: - | I40: =SUM(F40) -> 16
B41: - ข้อต่อตรงลด Ø 1" x 1/2" | C41: 1 | D41: อัน | E41: 6 | F41: =SUM(C41*E41) -> 6 | G41: - | H41: - | I41: =SUM(F41) -> 6
B42: - ข้อต่อตรงลด Ø 1" x 3/4" | C42: 1 | D42: อัน | E42: 6 | F42: =SUM(C42*E42) -> 6 | G42: - | H42: - | I42: =SUM(F42) -> 6
...

Sheet โรงจอดรถ 
A1: แบบแสดงรายการปริมาณงานและราคา
A2: กลุ่มงาน | B2: งานอาคาร
A3: ชื่อโครงการ | B3: =+'แบบ ปร.6'!B2 -> งานก่อสร้างอาคารกองบังคับการ กอง รปภ.สพ.ทร. จำนวน 1 หลัง | F3: แบบเลขที่ | G3: 62 - 2 - 094
A4: สถานที่ | B4: =+'แบบ ปร.6'!B3 -> อ.สัตหีบ จว.ชลบุรี | C4: หน่วยงานเจ้าของโครงการ | F4: =+'แบบ ปร.6'!C5 -> สพ.ทร.
A6: ลำดับที่ | B6: รายการ | C6: จำนวน | D6: หน่วย | E6: ค่าวัสดุ (บาท ) | G6: ค่าแรงงาน (บาท ) | I6: รวม (บาท ) | J6: หมายเหตุ
E7: ราคาหน่วยละ | F7: จำนวนเงิน | G7: ราคาหน่วยละ | H7: จำนวนเงิน | I7: วัสดุและแรงงาน
B8: โรงจอดรถขนาดความยาว 20 เมตร
B9: งานโครงสร้าง ค.ส.ล. และฐานราก
B10: - งานขุดดินและถมคืน | C10: 15 | D10: ลบ.ม. | E10: 0 | F10: =+E10*C10 -> 0 | G10: 99 | H10: =+G10*C10 -> 1485 | I10: =+H10+F10 -> 1485
B11: - ทรายหยาบบดอัดแน่น | C11: 1 | D11: ลบ.ม. | E11: 537 | F11: =+E11*C11 -> 537 | G11: 99 | H11: =+G11*C11 -> 99 | I11: =+H11+F11 -> 636
B12: - คอนกรีตหยาบ | C12: 0.5 | D12: ลบ.ม. | E12: 2065 | F12: =+E12*C12 -> 1032.5 | G12: 398 | H12: =+G12*C12 -> 199 | I12: =+H12+F12 -> 1231.5
B13: - คอนกรีตโครงสร้าง (240 ksc) | C13: 4 | D13: ลบ.ม. | E13: 2140 | F13: =+E13*C13 -> 8560 | G13: 485 | H13: =+G13*C13 -> 1940 | I13: =+H13+F13 -> 10500
B14: - แบบหล่อคอนกรีต | C14: 18 | D14: ตร.ม. | E14: 200 | F14: =+E14*C14 -> 3600 | G14: 133 | H14: =+G14*C14 -> 2394 | I14: =+H14+F14 -> 5994
B15: - เหล็กเสริมคอนกรีต
B16: DB 12 mm. | C16: 0.145 | D16: ตัน | E16: 21307 | F16: =+E16*C16 -> 3089.515 | G16: 3300 | H16: =+G16*C16 -> 478.5 | I16: =+H16+F16 -> 3568.015
B17: RB 9 mm. | C17: 0.065 | D17: ตัน | E17: 21379 | F17: =+E17*C17 -> 1389.635 | G17: 4100 | H17: =+G17*C17 -> 266.5 | I17: =+H17+F17 -> 1656.135
B18: RB 6 mm. | C18: 0.02 | D18: ตัน | E18: 21980 | F18: =+E18*C18 -> 439.6 | G18: 4100 | H18: =+G18*C18 -> 82 | I18: =+H18+F18 -> 521.6
B19: - ตะปู | C19: 4 | D19: กก. | E19: 47 | F19: =+E19*C19 -> 188 | G19: 0 | H19: =+G19*C19 -> 0 | I19: =+H19+F19 -> 188
B20: - ลวดผูกเหล็ก | C20: 7 | D20: กก. | E20: 31 | F20: =+E20*C20 -> 217 | G20: 0 | H20: =+G20*C20 -> 0 | I20: =+H20+F20 -> 217
B26: รวม | F26: =SUM(F10:F25) -> 19053.25 | H26: =SUM(H10:H25) -> 6944 | K26: =+H26+F26 -> 25997.25
B27: รวมเงินหน้านี้ | I27: =SUM(I10:I26) -> 25997.25
B28: งานโครงสร้างเหล็กรูปพรรณ
B29: - PL 200x200x10 พร้อม 4-M12 A325 ยาว 0.45 ม. | C29: 10 | D29: ชุด | E29: 680 | F29: =+E29*C29 -> 6800 | G29: 0 | H29: =+G29*C29 -> 0 | I29: =+H29+F29 -> 6800
B30: - เหล็ก CABON STEEL PIPE
B31: ขนาด f 3 นิ้ว | C31: 410 | D31: กก. | E31: 21 | F31: =+E31*C31 -> 8610 | G31: 0 | H31: =+G31*C31 -> 0 | I31: =+H31+F31 -> 8610
B32: ขนาด f 2 นิ้ว | C32: 655 | D32: กก. | E32: 21 | F32: =+E32*C32 -> 13755 | G32: 0 | H32: =+G32*C32 -> 0 | I32: =+H32+F32 -> 13755
B33: - C 100 x 50 x 20 x 2.3 มม. | C33: 420 | D33: กก. | E33: 21 | F33: =+E33*C33 -> 8820 | G33: 0 | H33: =+G33*C33 -> 0 | I33: =+H33+F33 -> 8820
B34: - SAG ROD RB 6 mm @ MID SPAN ยาวประมาณ 1.25 ม. | C34: 16 | D34: ชุด | E34: 20 | F34: =SUM(C34*E34) -> 320 | G34: - | H34: - | I34: =SUM(F34) -> 320
B35: - TIE ROD DB 9 / W TURN BUCKLE Ø 3/8 ยาวประมาณ 7.50 ม. | C35: 8 | D35: ชุด | E35: 1200 | F35: =SUM(C35*E35) -> 9600 | G35: - | H35: - | I35: =SUM(F35) -> 9600
B36: - ค่าแรงประกอบ | C36: =SUM(C31:C33) -> 1485 | D36: กก. | E36: 0 | F36: =+E36*C36 -> 0 | G36: 10 | H36: =+G36*C36 -> 14850 | I36: =+H36+F36 -> 14850
B37: - สีกันสนิมและสีน้ำมันทับหน้า | C37: 88 | D37: ตร.ม. | E37: 150 | F37: =+E37*C37 -> 13200 | G37: วัสดุ + แรรงาน | I37: =+H37+F37 -> 13200
B39: งานมุงหลังคา
B40: - หลังคา METAL SHEET หนา 0.47 มม. | C40: 104 | D40: ตร.ม. | E40: 335 | F40: =+E40*C40 -> 34840 | G40: 70 | H40: =+G40*C40 -> 7280 | I40: =+H40+F40 -> 42120
B41: - ปิดข้าง METAL SHEET | C41: 10.4 | D41: ม. | E41: 265 | F41: =+E41*C41 -> 2756 | G41: 50 | H41: =+G41*C41 -> 520 | I41: =+H41+F41 -> 3276
B42: - ปิดสันบน METAL SHEET | C42: 20 | D42: ม. | E42: 265 | F42: =+E42*C42 -> 5300 | G42: 50 | H42: =+G42*C42 -> 1000 | I42: =+H42+F42 -> 6300
B46: รวม | F46: =SUM(F29:F44) -> 104001 | H46: =SUM(H29:H44) -> 23650
B47: รวมเงินหน้านี้ | I47: =SUM(I29:I46) -> 127651 | K47: =+I47+I27 -> 153648.25

Sheet ถนน+ลาน+ภูมิทัศน์
A1: แบบแสดงรายการปริมาณงานและราคา
A2: กลุ่มงาน | B2: งานอาคาร
A3: ชื่อโครงการ | B3: =+'แบบ ปร.6'!B2 -> งานก่อสร้างอาคารกองบังคับการ กอง รปภ.สพ.ทร. จำนวน 1 หลัง | F3: แบบเลขที่ | G3: =+'โรงจอดรถ '!G3 -> 62 - 2 - 094
A4: สถานที่ | B4: =+'แบบ ปร.6'!B3 -> อ.สัตหีบ จว.ชลบุรี | C4: หน่วยงานเจ้าของโครงการ | F4: =+'แบบ ปร.6'!C5 -> สพ.ทร.
A6: ลำดับที่ | B6: รายการ | C6: จำนวน | D6: หน่วย | E6: ค่าวัสดุ (บาท ) | G6: ค่าแรงงาน (บาท ) | I6: รวม (บาท ) | J6: หมายเหตุ
E7: ราคาหน่วยละ | F7: จำนวนเงิน | G7: ราคาหน่วยละ | H7: จำนวนเงิน | I7: วัสดุและแรงงาน
B8: งานภูมิสถาปัตยกรรม
B9: - งานถากทาง กำจัดวัชพืช และสิ่งกีดขวางงานก่อสร้าง | C9: 2830 | D9: ตร.ม. | E9: - | F9: - | G9: 10 | H9: =SUM(C9*G9) -> 28300 | I9: =SUM(H9) -> 28300
B10: - งานถมดินพร้อมบดอัดแน่น | C10: 2925 | D10: ลบ.ม. | E10: 200 | F10: =+E10*C10 -> 585000 | G10: - | H10: - | I10: =SUM(F10) -> 585000
B11: - งานบดอัดแน่นดินถม | C11: 2245 | D11: ตร.ม. | E11: - | F11: - | G11: 40 | H11: =SUM(C11*G11) -> 89800 | I11: =SUM(H11) -> 89800
B12: - งานขอบคัน ค.ส.ล. | C12: 460 | D12: ม. | E12: 250 | F12: =SUM(C12*E12) -> 115000 | G12: วัสดุ + | H12: แรงงาน | I12: =SUM(F12) -> 115000
B13: - งานปรับระดับดินพร้อมปลูกหญ้านวลน้อย | C13: 204 | D13: ตร.ม. | E13: 60 | F13: =SUM(C13*E13) -> 12240 | G13: วัสดุ + | H13: แรงงาน | I13: =SUM(F13) -> 12240
B14: - แท่งคอนครีตหยุดล้อรถ (Wheel Stopper) พร้อมอุปกรณ์ยึด | C14: 16 | D14: ชุด | E14: 150 | F14: =SUM(C14*E14) -> 2400 | G14: วัสดุ + | H14: แรงงาน | I14: =SUM(F14) -> 2400
B15: - ตีเส้นแบ่งที่จอดรถ | C15: 84 | D15: ม. | E15: 35 | F15: =SUM(C15*E15) -> 2940 | G15: วัสดุ + | H15: แรงงาน | I15: =SUM(F15) -> 2940
B16: งานพื้นทางเท้า ค.ส.ล. หนา 0.10 ม. ผิวขัดมันเรียบตีเส้น (212 ตร.ม.)
B17: - ทรายปรับระดับบดอัดแน่น | C17: 14 | D17: ลบ.ม. | E17: 537 | F17: =+E17*C17 -> 7518 | G17: 99 | H17: =+G17*C17 -> 1386 | I17: =+H17+F17 -> 8904
B18: - คอนกรีตโครงสร้าง (240 ksc) | C18: 25 | D18: ลบ.ม. | E18: 2140 | F18: =+E18*C18 -> 53500 | G18: 306 | H18: =+G18*C18 -> 7650 | I18: =+H18+F18 -> 61150
B19: - เหล็ก wire mesh Ø 4 mm. @ 0.20 ม. | C19: 265 | D19: ตร.ม. | E19: 47 | F19: =+E19*C19 -> 12455 | G19: 5 | H19: =+G19*C19 -> 1325 | I19: =+H19+F19 -> 13780
B20: - ผิวขัดมันเรียบตีเส้น | C20: 212 | D20: ตร.ม. | E20: 100 | F20: =+E20*C20 -> 21200 | G20: 82 | H20: =+G20*C20 -> 17384 | I20: =+H20+F20 -> 38584
B25: รวม | F25: =SUM(F9:F24) -> 812253 | H25: =SUM(H9:H24) -> 145845 | K25: =+H25+F25 -> 958098
B26: รวมเงินหน้านี้ | I26: =SUM(I9:I25) -> 958098
B27: งานถนนและลาน ค.ส.ล. (ถนนและลาน = 1,010 ตร.ม.) | K27: รวม 2 พื้นที่แล้ว
B28: - ค่าแรงบดอัดแน่นดินเดิม | C28: 1010 | D28: ตร.ม. | E28: - | F28: - | G28: 20 | H28: =SUM(G28*C28) -> 20200 | I28: =SUM(H28) -> 20200
B29: - หินคลุก | C29: 243 | D29: ลบ.ม. | E29: 210 | F29: =+E29*C29 -> 51030 | G29: 99 | H29: =+G29*C29 -> 24057 | I29: =+H29+F29 -> 75087
B30: - บดอัดหินคลุก | C30: 1010 | D30: ตร.ม. | E30: 0 | F30: =+E30*C30 -> 0 | G30: 20 | H30: =+G30*C30 -> 20200 | I30: =+H30+F30 -> 20200
B31: - ทรายปรับระดับบดอัดแน่น | C31: 132 | D31: ลบ.ม. | E31: 537 | F31: =+E31*C31 -> 70884 | G31: 99 | H31: =+G31*C31 -> 13068 | I31: =+H31+F31 -> 83952
B32: - คอนกรีตโครงสร้าง (240 ksc) | C32: 160 | D32: ลบ.ม. | E32: 2140 | F32: =+E32*C32 -> 342400 | G32: 306 | H32: =+G32*C32 -> 48960 | I32: =+H32+F32 -> 391360
B33: - เหล็ก wire mesh Ø 4 mm. @ 0.20 ม. | C33: 1010 | D33: ตร.ม. | E33: 47 | F33: =+E33*C33 -> 47470 | G33: 5 | H33: =+G33*C33 -> 5050 | I33: =+H33+F33 -> 52520
B34: - ปูแผ่นพลาสติก | C34: 285 | D34: ตร.ม. | E34: 70 | F34: =+E34*C34 -> 19950 | G34: วัสดุ + แรงงาน | I34: =+H34+F34 -> 19950
B35: - เหล็ก DB 16 mm. TIE BAR ยาว 0.40 ม. | C35: 424 | D35: ท่อน | E35: 25 | F35: =+E35*C35 -> 10600 | G35: วัสดุ + แรงงาน | I35: =+H35+F35 -> 10600
B36: - SAWED JOND รอยต่อคอนกรีตหยอดด้วยแอสฟัลท์ผสมทราย | C36: 250 | D36: ม. | E36: 35 | F36: =SUM(C36*E36) -> 8750 | G36: วัสดุ + แรงงาน | I36: =+H36+F36 -> 8750
B44: รวม | F44: =SUM(F27:F42) -> 551084 | H44: =SUM(H27:H42) -> 131535 | K44: =+H44+F44 -> 682619
B45: รวมเงินหน้านี้ | I45: =SUM(I27:I44) -> 682619 | K45: =+I45+I26 -> 1640717
B49: - งานถากทาง กำจัดวัชพืช ปรับระดับดินเดิมพร้อมบดอัดแน่น
B51: - รอยต่อคอนกรีตหยอดด้วยแอสฟัลท์ผสมทราย
B52: - ยาแนวแอสฟัลท์ผสมทราย คั้นด้วยโฟมหนา 2 ซม.

Sheet ฟฟ.ภนอ.
A1: แบบแสดงรายการปริมาณงานและราคา
A2: กลุ่มงาน | B2: งานอาคาร
A3: ชื่อโครงการ | B3: =+'แบบ ปร.6'!B2 -> งานก่อสร้างอาคารกองบังคับการ กอง รปภ.สพ.ทร. จำนวน 1 หลัง | F3: แบบเลขที่ | G3: 62 - 5 - 036
A4: สถานที่ | B4: =+'แบบ ปร.6'!B3 -> อ.สัตหีบ จว.ชลบุรี | C4: หน่วยงานเจ้าของโครงการ | F4: =+'แบบ ปร.6'!C5 -> สพ.ทร.
A6: ลำดับที่ | B6: รายการ | C6: จำนวน | D6: หน่วย | E6: ค่าวัสดุ (บาท ) | G6: ค่าแรงงาน (บาท ) | I6: รวม (บาท ) | J6: หมายเหตุ
E7: ราคาหน่วยละ | F7: จำนวนเงิน | G7: ราคาหน่วยละ | H7: จำนวนเงิน | I7: วัสดุและแรงงาน
B8: ระบบไฟฟ้าภายนอก
B9: - เสาไฟฟ้าแรงสูง คอร. ขนาด 12.20 ม. | C9: 2 | D9: ต้น | E9: 7900 | F9: =SUM(C9*E9) -> 15800 | G9: - | H9: - | I9: =SUM(F9) -> 15800
B10: - คอนสปัน คอร. รับสายแรงสูง. | C10: 5 | D10: ชุด | E10: 410 | F10: =SUM(C10*E10) -> 2050 | G10: - | H10: - | I10: =SUM(F10) -> 2050
B11: - เหล็กประกับไม้คอน 1 1/4" x 1/4" x 36" | C11: 8 | D11: ชุด | E11: 100 | F11: =SUM(C11*E11) -> 800 | G11: - | H11: - | I11: =SUM(F11) -> 800
B12: - DROP FUSE | C12: 3 | D12: ชุด | E12: 5950 | F12: =SUM(C12*E12) -> 17850 | G12: - | H12: - | I12: =SUM(F12) -> 17850
B13: - FUSE LINK | C13: 3 | D13: ชุด | E13: 250 | F13: =SUM(C13*E13) -> 750 | G13: - | H13: - | I13: =SUM(F13) -> 750
B14: - LIGHTNING ARRESTER (HV) | C14: 3 | D14: ชุด | E14: 4200 | F14: =SUM(C14*E14) -> 12600 | G14: - | H14: - | I14: =SUM(F14) -> 12600
B15: - LINE POST INSULATOR | C15: 6 | D15: ชุด | E15: 720 | F15: =SUM(C15*E15) -> 4320 | G15: - | H15: - | I15: =SUM(F15) -> 4320
B16: - SUSPENSION INSULATOR | C16: 24 | D16: ชุด | E16: 480 | F16: =SUM(C16*E16) -> 11520 | G16: - | H16: - | I16: =SUM(F16) -> 11520
B17: - HOT LINE CLAMP | C17: 3 | D17: ชุด | E17: 255 | F17: =C17*E17 -> 765 | G17: - | H17: - | I17: =SUM(F17) -> 765
B18: - BAIL CLAMP | C18: 3 | D18: ชุด | E18: 320 | F18: =C18*E18 -> 960 | G18: - | H18: - | I18: =SUM(F18) -> 960
B19: - 100kVA. 22kV. 400/230V.AC. 3Ph. 4Wire 50Hz. OIL-IMMERSED TYPE | C19: 1 | D19: ชุด | E19: 120000 | F19: =SUM(C19*E19) -> 120000 | G19: - | H19: - | I19: =SUM(F19) -> 120000
B20: - GROUND ROD HIGH VOLT & LOW VOLT | C20: 1 | D20: ชุด | E20: 5600 | F20: =C20*E20 -> 5600 | G20: - | H20: - | I20: =SUM(F20) -> 5600
B27: รวม | F27: =SUM(F9:F26) -> 193015 | H27: =SUM(H10:H23) -> 0 | K27: =SUM(F27+H27) -> 193015
B28: รวมเงินหน้านี้ | I28: =SUM(I9:I26) -> 193015
B29: ระบบไฟฟ้าภายนอก (ต่อ)
B30: ตู้ MDB -1
B31: - ตู้ MIAN DISTRIBUTION BOARD (OUTDOOR TYPE) และ
B32: 300 A. 230/400 V.AC. 3 Ø - 4 W. 50 HZ. CU. BUS BAR FN./HG. 1 ชุด
B33: - 200 AT/250 AF 3P. MCCB 25 kA. IC 1 ชุด
B34: - 175 AT/100 AF 3P. MCCB 25 kA. IC 1 ชุด
B35: - 30 AT/100 AF 3P. MCCB 30 kA. IC 4 ชุด
B36: - 200/5A CURRENT TRANSFORMER 3 ชุด | C36: 1 | D36: ตู้ | E36: 235297 | F36: =C36*E36 -> 235297 | G36: - | H36: - | I36: =SUM(F36) -> 235297
B37: - DIGITAL METERING DEVICE (I,V,F,PF,P,Q,E) 1 ชุด
B38: - FUSE 6 A 3 ชุด
B39: - PILOT LAMP 3 ชุด
B40: - 125 A. HRC. FUSES 3ชุด
B41: - 50 kA. 3P. 4W. SURGE PROTECTION DEVICE (CLASS I+II) 1 ชุด
B42: SLCP 1,2,3 ติดตั้งภายในตู้ MDB-1 พร้อมอปกรณ์ ตามแบบ
B43: - GROUNDING SYSTEM | C43: 1 | D43: งาน | E43: 2200 | F43: =SUM(C43*E43) -> 2200 | G43: - | H43: - | I43: =SUM(F43) -> 2200
B44: - ฐาน คสล. รองรับตู้ MDB | C44: 1 | D44: งาน | E44: 5000 | F44: =SUM(C44*E44) -> 5000 | G44: - | H44: - | I44: =SUM(F44) -> 5000
B45: - โคมไฟถนน LED TUBE ขนาดไม่น้อยกว่า 2x18 วัตต์พร้อมก้าน 1.20 เมตร | C45: 2 | D45: ชุด | E45: 2000 | F45: =SUM(C45*E45) -> 4000 | G45: - | H45: - | I45: =SUM(F45) -> 4000
B46: - ดวงโคมกล่องเหล็ก พร้อมครอบ หลอด LED TUBE
B47: ขนาดไม่น้อยกว่า 18 วัตต์จำนวน 1 หลอด | C47: 3 | D47: ชุด | E47: 960 | F47: =SUM(C47*E47) -> 2880 | G47: - | H47: - | I47: =SUM(F47) -> 2880
...

Sheet ปป.ภายนอก
A1: แบบแสดงรายการปริมาณงานและราคา | L1: 304000
A2: กลุ่มงาน | B2: งานอาคาร
A3: ชื่อโครงการ | B3: =+'แบบ ปร.6'!B2 -> งานก่อสร้างอาคารกองบังคับการ กอง รปภ.สพ.ทร. จำนวน 1 หลัง | F3: แบบเลขที่ | G3: 62 - 4 - 016
A4: สถานที่ | B4: =+'แบบ ปร.6'!B3 -> อ.สัตหีบ จว.ชลบุรี | C4: หน่วยงานเจ้าของโครงการ | F4: =+'แบบ ปร.6'!C5 -> สพ.ทร.
A6: ลำดับที่ | B6: =+ปป.ภายใน!B6 -> รายการ | C6: จำนวน | D6: หน่วย | E6: ค่าวัสดุ (บาท ) | G6: ค่าแรงงาน (บาท ) | I6: รวม (บาท ) | J6: หมายเหตุ
E7: ราคาหน่วยละ | F7: จำนวนเงิน | G7: ราคาหน่วยละ | H7: จำนวนเงิน | I7: วัสดุและแรงงาน
B8: งานประปาภายนอก
B9: HDPE PE100,PN10
B10: - Ø 63 mm. | C10: 36 | D10: เมตร | E10: 86 | F10: =SUM(E10*C10) -> 3096 | G10: 75 | H10: =SUM(G10*C10) -> 2700 | I10: =SUM(H10+F10) -> 5796
B11: - Ø 110 mm. | C11: 42 | D11: เมตร | E11: 248 | F11: =SUM(E11*C11) -> 10416 | G11: 150 | H11: =SUM(G11*C11) -> 6300 | I11: =SUM(H11+F11) -> 16716
B12: GSP(Sleeve)
B13: - Ø 4 " | C13: 7 | D13: เมตร | E13: 401 | F13: =SUM(E13*C13) -> 2807 | G13: 200 | H13: =SUM(G13*C13) -> 1400 | I13: =SUM(H13+F13) -> 4207
B14: - Ø 6 " (พร้อมปรับพื้นผิวถนนให้พร้อมใช้งาน) | C14: 6 | D14: เมตร | E14: 1270 | F14: =SUM(E14*C14) -> 7620 | G14: - | H14: - | I14: =SUM(F14) -> 7620
B15: อุปกรณ์ข้อต่อ HDPE (สวมอัด)
B16: - ข้อต่อ 90° Ø 63 x 63 mm. | C16: 1 | D16: อัน | E16: 359 | F16: =SUM(C16*E16) -> 359 | G16: - | H16: - | I16: =SUM(F16) -> 359
B17: - ข้อต่อตรงลด Ø 90 x 63 mm. | C17: 1 | D17: อัน | E17: 550 | F17: =SUM(C17*E17) -> 550 | G17: - | H17: - | I17: =SUM(F17) -> 550
B18: - ข้อต่อตรงลด Ø 110 x 90 mm. | C18: 1 | D18: อัน | E18: 900 | F18: =SUM(C18*E18) -> 900 | G18: - | H18: - | I18: =SUM(F18) -> 900
B19: - ข้อต่อ 3 ทาง T Ø 110 x 110 x 110 mm. | C19: 1 | D19: อัน | E19: 1250 | F19: =SUM(C19*E19) -> 1250 | G19: - | H19: - | I19: =SUM(F19) -> 1250
B20: อุปกรณ์ประกอบ
B21: มาตรวัดน้ำประปา
B22: - GATE VALVE Ø 2" | C22: 2 | D22: ชุด | E22: 3565 | F22: =SUM(E22*C22) -> 7130 | G22: 400 | H22: =SUM(G22*C22) -> 800 | I22: =SUM(H22+F22) -> 7930
B23: - WATER METER Ø 2" | C23: 1 | D23: ชุด | E23: 6000 | F23: =SUM(E23*C23) -> 6000 | G23: 400 | H23: =SUM(G23*C23) -> 400 | I23: =SUM(H23+F23) -> 6400
B25: รวม | F25: =SUM(F10:F24) -> 40128 | H25: =SUM(H10:H24) -> 11600 | K25: =SUM(H25+F25) -> 51728
B26: รวมเงินหน้านี้ | I26: =SUM(I10:I25) -> 51728
B27: งานประปาภายนอก (ต่อ)
B28: อุปกรณ์ประกอบ
B29: มาตรวัดน้ำประปา (ต่อ)
B30: - STRAINER Ø 2" | C30: 1 | D30: ชุด | E30: 3035 | F30: =SUM(E30*C30) -> 3035 | G30: 400 | H30: =SUM(G30*C30) -> 400 | I30: =SUM(H30+F30) -> 3435
B31: - UNION Ø 2" | C31: 2 | D31: อัน | E31: 130 | F31: =SUM(E31*C31) -> 260 | G31: - | H31: - | I31: =SUM(F31) -> 260
B32: - SUPPORT ค.ส.ล. | C32: 1 | D32: งาน | E32: 1500 | F32: =SUM(E32*C32) -> 1500 | G32: วัสดุ+แรงงาน | I32: =SUM(H32+F32) -> 1500
B33: VALVE BOX
B34: - VALVE BOX w/ GATE VALVE Ø 4" | C34: 1 | D34: ชุด | E34: 19840 | F34: =SUM(E34*C34) -> 19840 | G34: - | H34: - | I34: =SUM(F34) -> 19840
B35: หัวดับเพลิง
B36: - ท่อ HDPE Ø 110" | C36: 1.5 | D36: เมตร | E36: 300 | F36: =SUM(E36*C36) -> 450 | G36: 150 | H36: =SUM(G36*C36) -> 225 | I36: =SUM(H36+F36) -> 675
B37: - ท่อ GSP Ø 4" | C37: 1.5 | D37: เมตร | E37: 454 | F37: =SUM(E37*C37) -> 681 | G37: 250 | H37: =SUM(G37*C37) -> 375 | I37: =SUM(H37+F37) -> 1056
B38: - FIRE HYDRANT Ø 4"x4"x4" พร้อมข้อต่อต่อสวมเร็ว ฝาปิดและโซ่คล้อง | C38: 1 | D38: ชุด | E38: 2725 | F38: =SUM(E38*C38) -> 2725 | G38: - | H38: - | I38: =SUM(F38) -> 2725
B39: - SURFACE BOX | C39: 1 | D39: อัน | E39: 280 | F39: =SUM(E39*C39) -> 280 | G39: - | H39: - | I39: =SUM(F39) -> 280
B40: - หลอดกันดิน | C40: 1 | D40: อัน | E40: 950 | F40: =SUM(E40*C40) -> 950 | G40: - | H40: - | I40: =SUM(F40) -> 950
B44: รวม | F44: =SUM(F28:F43) -> 29721 | H44: =SUM(H27:H43) -> 1000 | K44: =SUM(H44+F44) -> 30721
B45: รวมเงินหน้านี้ | I45: =SUM(I28:I44) -> 30721
...

Sheet ครุภัณฑ์
A1: แบบแสดงรายการปริมาณงานและราคา | L1: 304000
A2: กลุ่มงาน | B2: งานอาคาร
A3: ชื่อโครงการ | B3: =+'แบบ ปร.6'!B2 -> งานก่อสร้างอาคารกองบังคับการ กอง รปภ.สพ.ทร. จำนวน 1 หลัง | E3: แบบเลขที่ | F3: 59 - 2 - 104,62 - 6 - 009,62 - 5 - 034,62 - 4 - 017
A4: สถานที่ | B4: =+'แบบ ปร.6'!B3 -> อ.สัตหีบ จว.ชลบุรี | C4: หน่วยงานเจ้าของโครงการ | F4: =+'แบบ ปร.6'!C5 -> สพ.ทร.
A6: ลำดับที่ | B6: รายการ | C6: จำนวน | D6: หน่วย | E6: ค่าวัสดุ (บาท ) | G6: ค่าแรงงาน (บาท ) | I6: รวม (บาท ) | J6: หมายเหตุ
E7: ราคาหน่วยละ | F7: จำนวนเงิน | G7: ราคาหน่วยละ | H7: จำนวนเงิน | I7: วัสดุและแรงงาน
B8: งานครุภัณฑ์ประจำอาคาร | K8: ครุภัณฑ์ใช้ของเดิม
B9: - F 1 โต๊ะทำงาน | C9: 1 | D9: ตัว | E9: 26300 | F9: =SUM(C9*E9) -> 26300 | G9: - | H9: - | I9: =SUM(F9) -> 26300
B10: - F 2 โต๊ะทำงานรอง | C10: 1 | D10: ตัว | E10: 10980 | F10: =SUM(C10*E10) -> 10980 | G10: - | H10: - | I10: =SUM(F10) -> 10980
B11: - F 3 โต๊ะคอมพิวเตอร์ | C11: 30 | D11: ตัว | E11: 6000 | F11: =SUM(C11*E11) -> 180000 | G11: - | H11: - | I11: =SUM(F11) -> 180000
B12: - F 4 เก้าอี้ทำงานมีที่ท้าวแขน | C12: 81 | D12: ตัว | E12: 5000 | F12: =SUM(C12*E12) -> 405000 | G12: - | H12: - | I12: =SUM(F12) -> 405000
B13: - F 5 เก้าอี้ทำงานมีที่ท้าวแขน | C13: 5 | D13: ตัว | E13: 5500 | F13: =SUM(C13*E13) -> 27500 | G13: - | H13: - | I13: =SUM(F13) -> 27500
B14: - F 6 เก้าอี้ทำงาน ผบ.พัน. | C14: 3 | D14: ตัว | E14: 8460 | F14: =SUM(C14*E14) -> 25380 | G14: - | H14: - | I14: =SUM(F14) -> 25380
B15: - F 7 โซฟา 2 ที่นั่ง | C15: 4 | D15: ตัว | E15: 9065 | F15: =SUM(C15*E15) -> 36260 | G15: - | H15: - | I15: =SUM(F15) -> 36260
B16: - F 8 โซฟา 1 ที่นั่ง | C16: 3 | D16: ตัว | E16: 6515 | F16: =SUM(C16*E16) -> 19545 | G16: - | H16: - | I16: =SUM(F16) -> 19545
B17: - F 9 ตู้เก็บเอกสาร | C17: 17 | D17: ตู้ | E17: 7730 | F17: =SUM(C17*E17) -> 131410 | G17: - | H17: - | I17: =SUM(F17) -> 131410
B18: - F 10 ตู้เก็บเอกสารเหล็ก | C18: 10 | D18: ตู้ | E18: 6735 | F18: =SUM(C18*E18) -> 67350 | G18: - | H18: - | I18: =SUM(F18) -> 67350
B19: - F 11 โต๊ะกลางรับรอง | C19: 2 | D19: ตัว | E19: 3800 | F19: =SUM(C19*E19) -> 7600 | G19: - | H19: - | I19: =SUM(F19) -> 7600
B20: - F 12 โต๊ะข้างรับรอง | C20: 8 | D20: ตัว | E20: 2345 | F20: =SUM(C20*E20) -> 18760 | G20: - | H20: - | I20: =SUM(F20) -> 18760
B21: - F 13 โต๊ะทานอาหารเล็ก | C21: 1 | D21: ตัว | E21: 4070 | F21: =SUM(C21*E21) -> 4070 | G21: - | H21: - | I21: =SUM(F21) -> 4070
B26: รวม | F26: =SUM(F9:F25) -> 960155 | H26: =SUM(H9:H25) -> 0 | L26: =SUM(F26+H26) -> 960155
B27: รวมเงินหน้านี้ | I27: =SUM(I9:I26) -> 960155
B28: งานครุภัณฑ์ประจำอาคาร(ต่อ)
B29: - F 14 เก้าอี้รับประทานอาหาร | C29: 2 | D29: ตัว | E29: 3630 | F29: =SUM(C29*E29) -> 7260 | G29: - | H29: - | I29: =SUM(F29) -> 7260
B30: - F 15 ตู้เสื้อผ้าเหล็ก | C30: 2 | D30: ตู้ | E30: 7350 | F30: =SUM(C30*E30) -> 14700 | G30: - | H30: - | I30: =SUM(F30) -> 14700
B31: - F 16 เตียงนอน 2 ชั้น + ที่นอนยางพาราอัด + หมอน | C31: 1 | D31: ชุด | E31: 19000 | F31: =SUM(C31*E31) -> 19000 | G31: - | H31: - | I31: =SUM(F31) -> 19000
B32: - F 17 โต๊ะประชุมเล็ก | C32: 1 | D32: ตัว | E32: 35000 | F32: =SUM(C32*E32) -> 35000 | G32: - | H32: - | I32: =SUM(F32) -> 35000
B33: - F 18 ตู้เหล็กวางหนังสือ | C33: 8 | D33: ตู้ | E33: 3230 | F33: =SUM(C33*E33) -> 25840 | G33: - | H33: - | I33: =SUM(F33) -> 25840
B34: - F 19 เก้าอี้อ่านหนังสือ | C34: 8 | D34: ตัว | E34: 2000 | F34: =SUM(C34*E34) -> 16000 | G34: - | H34: - | I34: =SUM(F34) -> 16000
B35: - F 20 โต๊ะอ่านหนังสือ | C35: 4 | D35: ตัว | E35: 3400 | F35: =SUM(C35*E35) -> 13600 | G35: - | H35: - | I35: =SUM(F35) -> 13600
B36: - F 21 เตียงนอน 1 ชั้น + ที่นอนยางพาราอัด + หมอน | C36: 1 | D36: ชุด | E36: 17070 | F36: =SUM(C36*E36) -> 17070 | G36: - | H36: - | I36: =SUM(F36) -> 17070
B37: - F 22 ตู้เสื้อผ้าบานเลื่อน | C37: 1 | D37: ตู้ | E37: 25000 | F37: =SUM(C37*E37) -> 25000 | G37: - | H37: - | I37: =SUM(F37) -> 25000
B38: - F 23 โต๊ะเครื่องแป้ง | C38: 1 | D38: ตัว | E38: 4900 | F38: =SUM(C38*E38) -> 4900 | G38: - | H38: - | I38: =SUM(F38) -> 4900
B39: - F 24 โต๊ะประชุมตรง | C39: 19 | D39: ตัว | E39: 4500 | F39: =SUM(C39*E39) -> 85500 | G39: - | H39: - | I39: =SUM(F39) -> 85500
B40: - F 25 โต๊ะประชุมเข้ามุม | C40: 2 | D40: ตัว | E40: 1800 | F40: =SUM(C40*E40) -> 3600 | G40: - | H40: - | I40: =SUM(F40) -> 3600
K44: =I47+I27 -> 1227625
B46: รวม | F46: =SUM(F29:F45) -> 267470 | H46: =SUM(H29:H44) -> 0 | K46: =SUM(F46) -> 267470
B47: รวมเงินหน้านี้ | I47: =SUM(I29:I46) -> 267470
B48: ครุภัณฑ์เครื่องปรับอากาศ
B49: - เครื่องปรับอากาศแบบติดผนัง ขนาด 12,000 BTU | C49: 2 | D49: ชุด | E49: 15888 | F49: =SUM(C49*E49) -> 31776 | G49: วัสดุ+แรงงาน | I49: =SUM(F49) -> 31776
...

Sheet แบบ ปร.4(พ)
A1: แบบแสดงรายการปริมาณงานและราคา
A2: (ค่าใช้จ่ายพิเศษตามข้อกำหนดและค่าใช้จ่ายอื่นที่จำเป็นต้องมี)
A3: กลุ่มงาน | B3: งานอาคาร
A4: ชื่อโครงการ | B4: =+'แบบ ปร.6'!B2 -> งานก่อสร้างอาคารกองบังคับการ กอง รปภ.สพ.ทร. จำนวน 1 หลัง | C4: แบบเลขที่ | D4: =+ฟฟ.!G3 -> 62 - 5 - 034
A5: สถานที่ | B5: =+'แบบ ปร.6'!B3 -> อ.สัตหีบ จว.ชลบุรี | C5: หน่วยงานเจ้าของโครงการ | E5: =+'แบบ ปร.6'!C5 -> สพ.ทร.
A6: คำนวณราคาโดย | B6: =+ฟฟ.ภนอ.!B5 -> 0 | C6: =+'แบบ ปร.6'!B7 -> 0
A7: ลำดับที่ | B7: รายการ | C7: จำนวน | D7: หน่วย | E7: ค่าใช้จ่ายรวม (บาท ) | F7: หมายเหตุ
E8: ( ค่าก่อสร้าง )
A9: 1 | B9: งานระบบไฟฟ้าภายนอก ค่าขอเพิ่ม CURRENT TRANSFORMER (CT)
B10: สำหรับมิเตอร์ไฟฟ้าแรงสูง (2 อาคาร) | C10: 1 | D10: งาน | E10: =+'แบบแสดงการคำนวณ ฯ(พ)ตามข้อกำหนด'!K37 -> 0
B23: รวมเงิน ค่าใช้จ่ายพิเศษตามข้อกำหนดทุกรายการ | E23: =SUM(E9:E22) -> 0

Sheet แบบแสดงการคำนวณ ฯ(พ)ตามข้อกำหนด
A1: หน้าที่ 11
A2: แบบแสดงการคำนวณและเหตุผลความจำเป็น
A3: สำหรับค่าใช้จ่ายพิเศษตามข้อกำหนดฯ
A4: รายการ (ระบุรายการค่าใช้จ่ายพิเศษตามข้อกำหนด)
A5: ชื่อโครงการ | D5: =+'แบบ ปร.6'!B2 -> งานก่อสร้างอาคารกองบังคับการ กอง รปภ.สพ.ทร. จำนวน 1 หลัง
A6: สถานที่ก่อสร้าง | D6: =+'แบบ ปร.6'!B3 -> อ.สัตหีบ จว.ชลบุรี | G6: แบบเลขที่ | H6: =+'แบบ ปร.4(พ)'!D4 -> 62 - 5 - 034
A7: หน่วยงานเจ้าของโครงการ | D7: =+'แบบ ปร.6'!C5 -> สพ.ทร.
A8: คำนวณราคากลางโดย | D8: =+'แบบ ปร.4(พ)'!B6 -> 0 | H8: =+'แบบ ปร.6'!B7 -> 0
A9: 1. เหตุผลและความจำเป็นที่ต้องมีค่าใช้จ่ายพิเศษตามข้อกำหนดฯ รายการนี้
A10: ประสานกิจการไฟฟ้าสัตหีบ เพื่อขอเพิ่ม CURRENT TRANSFORMER (CT) สำหรับมิเตอร์ไฟฟ้าแรงสูงต้นทางของการไฟฟ้าสัตหีบ
A11: อีก 200 kVA.
A16: 2. รายละเอียดการคำนวณ
A17: ที่ | B17: รายการค่าใช้จ่าย | H17: จำนวน | I17: หน่วย | J17: ราคาต่อหน่วย | K17: ราคารวม | L17: หมายเหตุ
A18: 1 | B18: งานระบบไฟฟ้าภายนอก
A19: 1.1 | B19: ค่าขอเพิ่ม CURRENT TRANSFORMER (CT)
B20: สำหรับมิเตอร์ไฟฟ้าแรงสูง | H20: 1 | I20: งาน | J20: 0 | K20: =H20*J20 -> 0
M28: ค่าเครน 15,000 ค่าธรรมเนียม 10,000
M29: ประมาณ 5 % ของค่าวัสดุ ทั้งโครงการ ( ค่าวัสดุทั้งหมด 10.4 ล้าน )
M30: ค่าแรงเพิ่มอีก 35 % ของค่าแรงปกติ เฉพาะงานโครงสร้างท่าเรือ (ค่าแรง = 600,000)
M32: ค่าเช่า 15,000/ เดือน ค่าน้ำมัน 1,200 / วัน
E35: รวมค่าใช้จ่าย | K35: =+K20 -> 0
E36: ค่าภาษีมูลค่าเพิ่ม
E37: สรปค่าใช้จ่ายพิเศษ | K37: =+K35 -> 0

Sheet F_Advance(งานอาคาร)
A1: 1 | B1: 2 | C1: 3 | D1: 4 | E1: 5 | F1: 6 | G1: 7 | H1: 8 | I1: 9 | J1: 10 | K1: 11 | L1: 12 | M1: 13 | N1: 14 | O1: 15 | P1: 16 | Q1: 17
A2: ประกันผลงาน | B2: 0 | F2: 0.05 | J2: 0.1
B3: Advance | F3: Advance | J3: Advance
A4: BUDJET | B4: 0 | C4: 0.05 | D4: 0.1 | E4: 0.15 | F4: 0 | G4: 0.05 | H4: 0.1 | I4: 0.15 | J4: 0 | K4: 0.05 | L4: 0.1 | M4: 0.15
A5: 0 | B5: 1.3074 | C5: 1.3065 | D5: 1.3055 | E5: 1.3046 | F5: 1.3078 | G5: 1.3069 | H5: 1.3059 | I5: 1.305 | J5: 1.3082 | K5: 1.3073 | L5: 1.3063 | M5: 1.3054
A6: 0.5 | B6: 1.3074 | C6: 1.3065 | D6: 1.3055 | E6: 1.3046 | F6: 1.3078 | G6: 1.3069 | H6: 1.3059 | I6: 1.305 | J6: 1.3082 | K6: 1.3073 | L6: 1.3063 | M6: 1.3054
A7: 1 | B7: 1.305 | C7: 1.304 | D7: 1.3029 | E7: 1.3018 | F7: 1.3056 | G7: 1.3045 | H7: 1.3034 | I7: 1.3024 | J7: 1.3061 | K7: 1.305 | L7: 1.304 | M7: 1.3029
A8: 2 | B8: 1.3035 | C8: 1.3023 | D8: 1.3011 | E8: 1.2999 | F8: 1.3042 | G8: 1.303 | H8: 1.3018 | I8: 1.3006 | J8: 1.3049 | K8: 1.3036 | L8: 1.3024 | M8: 1.3012
A9: 5 | B9: 1.3003 | C9: 1.2987 | D9: 1.2971 | E9: 1.2955 | F9: 1.3014 | G9: 1.2998 | H9: 1.2982 | I9: 1.2966 | J9: 1.3025 | K9: 1.3009 | L9: 1.2993 | M9: 1.2976
A10: 10 | B10: 1.2943 | C10: 1.2922 | D10: 1.2901 | E10: 1.2879 | F10: 1.296 | G10: 1.2938 | H10: 1.2917 | I10: 1.2895 | J10: 1.2976 | K10: 1.2954 | L10: 1.2933 | M10: 1.2911
A11: 15 | B11: 1.2594 | C11: 1.2573 | D11: 1.2551 | E11: 1.253 | F11: 1.261 | G11: 1.2589 | H11: 1.2567 | I11: 1.2546 | J11: 1.2626 | K11: 1.2605 | L11: 1.2583 | M11: 1.2562
A12: 20 | B12: 1.2518 | C12: 1.2495 | D12: 1.2472 | E12: 1.245 | F12: 1.2535 | G12: 1.2513 | H12: 1.249 | I12: 1.2467 | J12: 1.2553 | K12: 1.253 | L12: 1.2057 | M12: 1.2484
A13: 25 | B13: 1.2248 | C13: 1.2225 | D13: 1.2203 | E13: 1.218 | F13: 1.2266 | G13: 1.2243 | H13: 1.222 | I13: 1.2197 | J13: 1.2283 | K13: 1.226 | L13: 1.2237 | M13: 1.2215
A14: 30 | B14: 1.2164 | C14: 1.214 | D14: 1.2116 | E14: 1.2092 | F14: 1.2183 | G14: 1.2159 | H14: 1.2135 | I14: 1.2111 | J14: 1.2202 | K14: 1.2178 | L14: 1.2154 | M14: 1.213
A15: 40 | B15: 1.2161 | C15: 1.2136 | D15: 1.2112 | E15: 1.2088 | F15: 1.2179 | G15: 1.2155 | H15: 1.2131 | I15: 1.2107 | J15: 1.2198 | K15: 1.2174 | L15: 1.215 | M15: 1.2126
A16: 50 | B16: 1.2159 | C16: 1.2133 | D16: 1.2106 | E16: 1.2079 | F16: 1.2181 | G16: 1.2154 | H16: 1.2127 | I16: 1.2101 | J16: 1.2202 | K16: 1.2175 | L16: 1.2149 | M16: 1.2122
... A28: 500 | B28: 1.1853 | C28: 1.1801 | D28: 1.1749 | E28: 1.1696 | F28: 1.19 | G28: 1.1848 | H28: 1.1795 | I28: 1.1743 | J28: 1.1946 | K28: 1.1894 | L28: 1.1842 | M28: 1.179
A29: > 500 | B29: 1.1788 | C29: 1.1733 | D29: 1.1678 | E29: 1.1624 | F29: 1.1838 | G29: 1.1783 | H29: 1.1728 | I29: 1.1673 | J29: 1.1887 | K29: 1.1832 | L29: 1.1777 | M29: 1.1723

Sheet F_Advance(สะพาน)
A1: 1 | B1: 2 | C1: 3 | D1: 4 | E1: 5 | F1: 6 | G1: 7 | H1: 8 | I1: 9 | J1: 10 | K1: 11 | L1: 12 | M1: 13 | N1: 14 | O1: 15 | P1: 16 | Q1: 17
A2: ประกันผลงาน | B2: 0 | F2: 0.05 | J2: 0.1
B3: Advance | F3: Advance | J3: Advance | N3: Advance
A4: BUDJET | B4: 0 | C4: 0.05 | D4: 0.1 | E4: 0.15 | F4: 0 | G4: 0.05 | H4: 0.1 | I4: 0.15 | J4: 0 | K4: 0.05 | L4: 0.1 | M4: 0.15 | N4: 0 | O4: 0.05 | P4: 0.1 | Q4: 0.15
A5: 0 | B5: 1.2782 | C5: 1.2772 | D5: 1.2761 | E5: 1.275
A6: 0.5 | B6: 1.2782 | C6: 1.2772 | D6: 1.2761 | E6: 1.275
A7: 10 | B7: 1.2446 | C7: 1.12432 | D7: 1.2419 | E7: 1.2406
A8: 15 | B8: 1.2375 | C8: 1.2359 | D8: 1.2342 | E8: 1.2326
A9: 20 | B9: 1.2304 | C9: 1.2286 | D9: 1.2266 | E9: 1.2248
A10: 25 | B10: 1.2145 | C10: 1.2125 | D10: 1.2107 | E10: 1.2088
A11: 30 | B11: 1.2133 | C11: 1.211 | D11: 1.2088 | E11: 1.2064
A12: 35 | B12: 1.2079 | C12: 1.2055 | D12: 1.2031 | E12: 1.2006
A13: 40 | B13: 1.2001 | C13: 1.1977 | D13: 1.1953 | E13: 1.1928
A14: 45 | B14: 1.1887 | C14: 1.1863 | D14: 1.1838 | E14: 1.1815
A15: 50 | B15: 1.1838 | C15: 1.1814 | D15: 1.179 | E15: 1.1766
A16: 55 | B16: 1.1826 | C16: 1.1801 | D16: 1.1777 | E16: 1.1753
... A44: 195 | B44: 1.1505 | C44: 1.1474 | D44: 1.1443 | E44: 1.1413
A45: >200 | B45: 1.1499 | C45: 1.1468 | D45: 1.1438 | E45: 1.1407

Sheet งวดงาน
E1: 23253000
B2: มูลค่างานในงวด | C2: ค่าใช้จ่ายพิเศษ | D2: รวมมูลค่างวด | E2: คิดเป็น | F2: ปรับเป็น
A3: 1 | B3: =1.2352*1000000 -> 1235200 | C3: 650000 | D3: =+C3+B3 -> 1885200 | E3: =+D3/$E$1 -> 0.08107341 | F3: 0.1
A4: 2 | B4: =2100000*1.2352 -> 2593920 | C4: 650000 | D4: =+C4+B4 -> 3243920 | E4: =+D4/$E$1 -> 0.13950544 | F4: 0.1
A5: 3 | B5: =1.2352*850000 -> 1049920 | C5: 400000 | D5: =+C5+B5 -> 1449920 | E5: =+D5/$E$1 -> 0.062354105 | F5: 0.08
A6: 4 | B6: =1.2352*1250000 -> 1544000 | C6: 400000 | D6: =+C6+B6 -> 1944000 | E6: =+D6/$E$1 -> 0.083602116 | F6: 0.08
A7: 5 | B7: =1.2352*1250000 -> 1544000 | C7: 400000 | D7: =+C7+B7 -> 1944000 | E7: =+D7/$E$1 -> 0.083602116 | F7: 0.08
A8: 6 | B8: =1.2352*1300000 -> 1605760 | C8: 400000 | D8: =+C8+B8 -> 2005760 | E8: =+D8/$E$1 -> 0.086258117 | F8: 0.08
A9: 7 | B9: =1.2352*800000 -> 988160 | C9: 400000 | D9: =+C9+B9 -> 1388160 | E9: =+D9/$E$1 -> 0.059698103 | F9: 0.06
A10: 8 | B10: =1.2352*400000 -> 494080 | C10: 400000 | D10: =+C10+B10 -> 894080 | E10: =+D10/$E$1 -> 0.038450092 | F10: 0.04
A11: 9 | B11: =1.2352*400000 -> 494080 | C11: 300000 | D11: =+C11+B11 -> 794080 | E11: =+D11/$E$1 -> 0.034149572 | F11: 0.04
A12: 10 | B12: =1.2352*1350000 -> 1667520 | C12: 300000 | D12: =+C12+B12 -> 1967520 | E12: =+D12/$E$1 -> 0.084613598 | F12: 0.08
A13: 11 | B13: =1.2352*1350000 -> 1667520 | C13: 300000 | D13: =+C13+B13 -> 1967520 | E13: =+D13/$E$1 -> 0.084613598 | F13: 0.08
A14: 12 | B14: =1.2352*1580000 -> 1951616 | C14: 300000 | D14: =+C14+B14 -> 2251616 | E14: =+D14/$E$1 -> 0.096831205 | F14: 0.08
A15: 13 | B15: =1.2352*1000000 -> 1235200 | C15: 300000 | D15: =+C15+B15 -> 1535200 | E15: =+D15/$E$1 -> 0.066021589 | F15: 0.1
B16: =SUM(B3:B15) -> 18070976 | C16: =SUM(C3:C15) -> 5200000 | D16: =+C16+B16 -> 23270976 | E16: =SUM(E3:E15) -> 1.0007731 | F16: =SUM(F3:F15) -> 1
