Workbook
Name BUDJET: 'F_Advance(งานอาคาร)'!$A$5:$A$29
Name FBUILD: 'F_Advance(งานอาคาร)'!$A$2:$Q$29
Name RET_0: 'F_Advance(งานอาคาร)'!$A$4:$E$29
Name RET_10: 'F_Advance(งานอาคาร)'!$A$4:$A$29,'F_Advance(งานอาคาร)'!$J$4:$L$29
Name RET_5: 'F_Advance(งานอาคาร)'!$A$4:$A$29,'F_Advance(งานอาคาร)'!$F$4:$I$29

Sheet แบบ ปร.6
A1: แบบสรุปราคากลาง งานก่อสร้าง
A2: ชื่อโครงการ/ | B2: งานก่อสร้างอาคารกองบังคับการ กอง รปภ.สพ.ทร. จำนวน 1 หลัง
A3: สถานที่ก่อสร้าง | B3: อ.สัตหีบ จว.ชลบุรี
A4: แบบเลขที่ | B4: 62 - 2 - 094, 62 - 4 - 016,62 - 4 - 017,62 - 5 - 036,62 - 5 - 034,62 - 6 - 009,59 - 2 - 103,59 - 2 - 104
A5: หน่วยงานเจ้าของโครงการ/งานก่อสร้าง | C5: สพ.ทร.
A6: แบบ ปร.4 และ ปร.5 ที่แนบ | C6: 56
A9: ลำดับที่ | B9: รายการ | C9: ค่าก่อสร้าง | D9: หมายเหตุ
C10: ( บาท )
A11: 1 | B11: งานก่อสร้างอาคารกองบังคับการ กอง รปภ.สพ.ทร. | C11: =SUM('ใบสรุปแบบ ปร.5 (ก) '!H26) -> 15174302
A12: 2 | B12: ครุภัณฑ์ | C12: =SUM('ใบสรุปแบบ ปร.5 (ข)'!H25) -> 2326034.5
B24: รวมค่าก่อสร้างทั้งโครงการ | C24: =SUM(C11:C23) -> 17500337
B25: สรุปราคา(ปัดเศษ) | C25: 17500000 | E25: =SUM(C25-C24) -> -336.88556
B26: ="ราคา ( "&BAHTTEXT(C25)&" )" -> ราคา ( สิบเจ็ดล้านห้าแสนบาทถ้วน )
B28: คณะกรรมการกำหนดราคากลาง
A29: น.อ.หญิง | B29: ประภาศรี ตั้งจิตรเจริญ | C29: ประธานกรรมการ
A31: น.ต. | B31: ธีรทัต กงทอง | C31: กรรมการ
A33: น.ต. | B33: นิเวศ ปริยานนท์ | C33: กรรมการ
A35: น.ต. | B35: ขวัญชัย จันทร์ทอง | C35: กรรมการ
A37: ร.อ.หญิง | B37: พัทธยากร ด้วงอ่ำ | C37: กรรมการและเลขานุการ

Sheet ใบสรุปแบบ ปร.5 (ก) 
A1: =+'แบบ ปร.6'!A1 -> แบบสรุปราคากลาง งานก่อสร้าง
A2: กลุ่มงาน | B2: งานอาคาร
A3: ชื่อโครงการ | B3: ='แบบ ปร.6'!B2 -> งานก่อสร้างอาคารกองบังคับการ กอง รปภ.สพ.ทร. จำนวน 1 หลัง
A4: สถานที่ก่อสร้าง | B4: =+'แบบ ปร.6'!B3 -> อ.สัตหีบ จว.ชลบุรี
A5: แบบเลขที่ | B5: 62 - 2 - 094, 2 - 4 - 016,62 - 4 - 017,62 - 5 - 036,62 - 5 - 034,62 - 6 - 009,59 - 2 - 103,59 - 2 - 104
A6: หน่วยงานเจ้าของโครงการ/งานก่อสร้าง | D6: =+'แบบ ปร.6'!C5 -> สพ.ทร. | F6: แบบ ปร. 4 ที่แนบ จำนวน | H6: 49
A8: ลำดับที่ | B8: รายการ | F8: ค่างานต้นทุน | G8: FACTOR F | H8: ค่าก่อสร้าง | I8: หมายเหตุ
F9: ( บาท ) | H9: ( บาท )
A10: 1 | B10: งานอาคารกองบังคับการ กอง รปภ.สพ.ทร. | F10: =SUM('แบบ ปร.4_อาคาร '!I28+'แบบ ปร.4_อาคาร '!I50+'แบบ ปร.4_อาคาร '!I71+'แบบ ปร.4_อาคาร '!I92+'แบบ ปร.4_อาคาร '!I114+'แบบ ปร.4_อาคาร '!I135+'แบบ ปร.4_อาคาร '!I157+'แบบ ปร.4_อาคาร '!I178+'แบบ ปร.4_อาคาร '!I199) -> 6104395.5
A11: 2 | B11: งานระบบไฟฟ้าภายในและระบบปรับอากาศ | F11: =SUM(ฟฟ.!I29+ฟฟ.!I51+ฟฟ.!I73+ฟฟ.!I95+ฟฟ.!I118+ฟฟ.!I140+ฟฟ.!I162+ฟฟ.!I184) -> 1547490
A12: 3 | B12: งานระบบปรับอากาศ | F12: =SUM(ปรับอากาศ!I29+ปรับอากาศ!I51) -> 139235
A13: 4 | B13: งานระบบประปาภายใน | F13: =SUM(ปป.ภายใน!I30+ปป.ภายใน!I53+ปป.ภายใน!I75+ปป.ภายใน!I97+ปป.ภายใน!I119+ปป.ภายใน!I141+ปป.ภายใน!I163+ปป.ภายใน!I185+ปป.ภายใน!I207+ปป.ภายใน!I229+ปป.ภายใน!I251+ปป.ภายใน!I273+ปป.ภายใน!I295+ปป.ภายใน!I317+ปป.ภายใน!I339+ปป.ภายใน!I361) -> 700955 | K13: =SUM(F10:F13) -> 8492075.5
A14: 5 | B14: งานโรงจอดรถ | F14: =SUM('โรงจอดรถ '!I27+'โรงจอดรถ '!I47) -> 153648.25
A15: 6 | B15: งานภูมิทัศน์พร้อมถนนและลาน ค.ส.ล. | F15: =SUM('ถนน+ลาน+ภูมิทัศน์'!I26+'ถนน+ลาน+ภูมิทัศน์'!I45) -> 1640717
A16: 7 | B16: งานระบบไฟฟ้าภายนอก | F16: =SUM(ฟฟ.ภนอ.!I28+ฟฟ.ภนอ.!I50+ฟฟ.ภนอ.!I71+ฟฟ.ภนอ.!I92+ฟฟ.ภนอ.!I113) -> 1151003
A17: 8 | B17: งานระบบประปาภายนอก | F17: =SUM(ปป.ภายนอก!I26+ปป.ภายนอก!I45+ปป.ภายนอก!I65+ปป.ภายนอก!I84+ปป.ภายนอก!I103) -> 467704.88
B19: ราคารวม วัสดุ + แรงงาน | F19: =SUM(F10:F18) -> 11905149 | G19: =+O24 -> 1.2746 | H19: =F19*G19 -> 15174302
B21: เงื่อนไขการใช้ตาราง Factor F | K21: =+B2 -> งานอาคาร | N21: ส่วนต่างวงเงิน | O21: ค่าเปลี่ยนแปลง | R21: RETENSION
B22: เงินล่วงหน้าจ่าย | F22: 0.15 | K22: วงเงิน | L22: FACTOR F | N22: =IF( K24="> 500",0,F19-K23*1000000) -> 1905148.6 | O22: =IF( K24="> 500",L23,L23-L24) -> 0.0349 | Q22: วงเงิน | R22: 0 | S22: 0.05 | T22: 0.1
B23: เงินประกันผลงานหัก | F23: 0 | K23: 10 | L23: =+HLOOKUP(F23,R22:T24,2) -> 1.2879 | N23: =IF(K23="> 500",0,K24*1000000-K23*1000000) -> 5000000 | O23: =IF( K24="> 500",0,O22*N22/N23) -> 0.013297937 | Q23: =+K23 -> 10 | R23: =IF(F23=0,IF(F22=0%,VLOOKUP(K23,FBUILD,2),IF(F22=5%,VLOOKUP(K23,FBUILD,3),IF(F22=10%,VLOOKUP(K23,FBUILD,4),IF(F22=15%,VLOOKUP(K23,FBUILD,5),"ERROR"))))) -> 1.2879 | S23: =+IF(F23=5%,IF(F22=0%,VLOOKUP(K23,FBUILD,6),IF(F22=5%,VLOOKUP(K23,FBUILD,7),IF(F22=10%,VLOOKUP(K23,FBUILD,8),IF(F22=15%,VLOOKUP(K23,FBUILD,9),"ERROR"))))) -> FALSE | T23: =+IF(F23=10%,IF(F22=0%,VLOOKUP(K23,FBUILD,10),IF(F22=5%,VLOOKUP(K23,FBUILD,11),IF(F22=10%,VLOOKUP(K23,FBUILD,12),IF(F22=15%,VLOOKUP(K23,FBUILD,13),"ERROR"))))) -> FALSE
B24: ดอกเบี้ยเงินกู้ | F24: 0.06 | K24: 15 | L24: =+HLOOKUP(F23,R22:T24,3) -> 1.253 | N24: FACTOR F -> | O24: =ROUND(L23-O23,4) -> 1.2746 | Q24: =+K24 -> 15 | R24: =IF(F23=0,IF(F22=0%,VLOOKUP(K24,FBUILD,2),IF(F22=5%,VLOOKUP(K24,FBUILD,3),IF(F22=10%,VLOOKUP(K24,FBUILD,4),IF(F22=15%,VLOOKUP(K24,FBUILD,5),"ERROR"))))) -> 1.253 | S24: =+IF(F23=5%,IF(F22=0%,VLOOKUP(K24,FBUILD,6),IF(F22=5%,VLOOKUP(K24,FBUILD,7),IF(F22=10%,VLOOKUP(K24,FBUILD,8),IF(F22=15%,VLOOKUP(K24,FBUILD,9),"ERROR"))))) -> FALSE | T24: =+IF(F23=10%,IF(F22=0%,VLOOKUP(K24,FBUILD,10),IF(F22=5%,VLOOKUP(K24,FBUILD,11),IF(F22=10%,VLOOKUP(K24,FBUILD,12),IF(F22=15%,VLOOKUP(K24,FBUILD,13),"ERROR"))))) -> FALSE
B25: VAT | F25: 0.07 | K25: หมายเหตุ : ใช้ FACTOR F ที่ปรับปรุงและทบทวน ของ กรมบัญชีกลาง ล่าสุด ตามหนังสือเวียน
A26: รวมราคาก่อสร้าง | H26: =SUM(H10:H25) -> 15174302 | L26: ที่ กค.0405.3/ ว.364 เมื่อวันที่ 15 ก.ย. 2559
C28: คณะกรรมการกำหนดราคากลาง
B29: น.อ.หญิง | C29: ประภาศรี ตั้งจิตรเจริญ | D29: ประธานกรรมการ
B31: น.ต. | C31: ธีรทัต กงทอง | D31: กรรมการ
B33: น.ต. | C33: นิเวศ ปริยานนท์ | D33: กรรมการ
B35: น.ต. | C35: ขวัญชัย จันทร์ทอง | D35: กรรมการ
B37: ร.อ.หญิง | C37: พัทธยากร ด้วงอ่ำ | D37: กรรมการและเลขานุการ

Sheet ใบสรุปแบบ ปร.5 (ข)
A1: แบบสรุปค่าครุภัณฑ์ จัดซื้อ
A2: กลุ่มงาน | B2: งานอาคาร
A3: ชื่อโครงการ | B3: ='แบบ ปร.6'!B2 -> งานก่อสร้างอาคารกองบังคับการ กอง รปภ.สพ.ทร. จำนวน 1 หลัง
A4: สถานที่ก่อสร้าง | B4: =+'แบบ ปร.6'!B3 -> อ.สัตหีบ จว.ชลบุรี | D4: แบบเลขที่ | E4: 59 - 2 - 104,62 - 6 - 009,62 - 5 - 034,62 - 4 - 017
A5: หน่วยงานเจ้าของโครงการ/งานก่อสร้าง | D5: =+'แบบ ปร.6'!C5 -> สพ.ทร. | F5: แบบ ปร. 4 ที่แนบ จำนวน | H5: 5
A7: ลำดับที่ | B7: รายการ | F7: ค่างาน | G7: ภาษี | H7: ค่าก่อสร้าง | I7: หมายเหตุ
F8: ( บาท ) | G8: มูลค่าเพิ่ม | H8: ( บาท )
A9: 1 | B9: ครุภัณฑ์ประจำอาคารกองบังคับการ กอง รปภ.สพ.ทร. | F9: =SUM(ครุภัณฑ์!I27+ครุภัณฑ์!I47) -> 1227625
A10: 2 | B10: ครุภัณฑ์เครื่องปรับอากาศ | F10: =SUM(ครุภัณฑ์!I67) -> 604573
A11: 3 | B11: ครุภัณฑ์ระบบคอมพิวเตอร์ NETWORK | F11: =SUM(ครุภัณฑ์!I87) -> 141326
A12: 4 | B12: ครุภัณฑ์ระบบประปาและสุขาภิบาล | F12: =SUM(ครุภัณฑ์!I107) -> 200340
B23: ราคารวม ค่าครุภัณฑ์ | F23: =SUM(F9:F19) -> 2173864 | G23: 1.07 | H23: =F23*G23 -> 2326034.5
A25: รวมราคา ค่าครุภัณฑ์ จัดซื้อ | H25: =SUM(H9:H24) -> 2326034.5
C27: คณะกรรมการกำหนดราคากลาง
B28: น.อ.หญิง | C28: ประภาศรี ตั้งจิตรเจริญ | D28: ประธานกรรมการ
B30: น.ต. | C30: ธีรทัต กงทอง | D30: กรรมการ
B32: น.ต. | C32: นิเวศ ปริยานนท์ | D32: กรรมการ
B34: น.ต. | C34: ขวัญชัย จันทร์ทอง | D34: กรรมการ
B36: ร.อ.หญิง | C36: พัทธยากร ด้วงอ่ำ | D36: กรรมการและเลขานุการ

Sheet แบบ ปร.4_อาคาร 
A1: แบบแสดงรายการปริมาณงานและราคา
A2: กลุ่มงาน | B2: งานอาคาร
A3: ชื่อโครงการ | B3: =+'แบบ ปร.6'!B2 -> งานก่อสร้างอาคารกองบังคับการ กอง รปภ.สพ.ทร. จำนวน 1 หลัง | F3: แบบเลขที่ | G3: 59 - 2 - 103 , 62 - 2 - 094
A4: สถานที่ | B4: =+'แบบ ปร.6'!B3 -> อ.สัตหีบ จว.ชลบุรี | C4: หน่วยงานเจ้าของโครงการ | F4: =+'แบบ ปร.6'!C5 -> สพ.ทร.
A6: ลำดับที่ | B6: รายการ | C6: จำนวน | D6: หน่วย | E6: ค่าวัสดุ (บาท ) | G6: ค่าแรงงาน (บาท ) | I6: รวม (บาท ) | J6: หมายเหตุ
E7: ราคาหน่วยละ | F7: จำนวนเงิน | G7: ราคาหน่วยละ | H7: จำนวนเงิน | I7: วัสดุและแรงงาน
B8: อาคารกองบังคับการ กอง รปภ.สพ.ทร.
B9: งานฐานรากและเสาตอม่อ
B10: - งานขุดดินและถมคืน | C10: 336 | D10: ลบ.ม. | E10: 0 | F10: =+E10*C10 -> 0 | G10: 99 | H10: =+G10*C10 -> 33264 | I10: =+H10+F10 -> 33264 | K10: 190 | L10: ลบ.ม.
B11: - ทรายหยาบ | C11: 17 | D11: ลบ.ม. | E11: 537 | F11: =+E11*C11 -> 9129 | G11: 99 | H11: =+G11*C11 -> 1683 | I11: =+H11+F11 -> 10812 | K11: 13 | L11: ลบ.ม.
B12: - คอนกรีตหยาบ | C12: 7 | D12: ลบ.ม. | E12: 2065 | F12: =+E12*C12 -> 14455 | G12: 398 | H12: =+G12*C12 -> 2786 | I12: =+H12+F12 -> 17241 | K12: 6 | L12: ลบ.ม.
B13: - คอนกรีตโครงสร้าง (240 ksc) | C13: 56 | D13: ลบ.ม. | E13: 2140 | F13: =+E13*C13 -> 119840 | G13: 485 | H13: =+G13*C13 -> 27160 | I13: =+H13+F13 -> 147000 | K13: 40 | L13: ลบ.ม.
B14: - แบบหล่อคอนกรีต | C14: 132 | D14: ตร.ม. | E14: 200 | F14: =+E14*C14 -> 26400 | G14: 133 | H14: =+G14*C14 -> 17556 | I14: =+H14+F14 -> 43956 | K14: 123 | L14: ตร.ม.
B15: - เหล็กเสริมคอนกรีต
B16: RB 6 mm. | C16: 0.11 | D16: ตัน | E16: 21980 | F16: =+E16*C16 -> 2417.8 | G16: 4100 | H16: =+G16*C16 -> 451 | I16: =+H16+F16 -> 2868.8 | K16: 0.105 | L16: ตัน
B17: RB 9 mm. | C17: 0.13 | D17: ตัน | E17: 21379 | F17: =+E17*C17 -> 2779.27 | G17: 4100 | H17: =+G17*C17 -> 533 | I17: =+H17+F17 -> 3312.27 | K17: 0.11 | L17: ตัน
B18: DB 16 mm. | C18: 4.14 | D18: ตัน | E18: 21540 | F18: =+E18*C18 -> 89175.6 | G18: 3300 | H18: =+G18*C18 -> 13662 | I18: =+H18+F18 -> 102837.6 | K18: 3.65 | L18: ตัน
B19: - ตะปู | C19: 30 | D19: กก. | E19: 47 | F19: =+E19*C19 -> 1410 | G19: 0 | H19: =+G19*C19 -> 0 | I19: =+H19+F19 -> 1410 | K19: 116 | L19: กก.
B20: - ลวดผูกเหล็ก | C20: 132 | D20: กก. | E20: 31 | F20: =+E20*C20 -> 4092 | G20: 0 | H20: =+G20*C20 -> 0 | I20: =+H20+F20 -> 4092 | K20: 27 | L20: กก.
L22: 290311
B27: รวม | F27: =SUM(F9:F26) -> 269698.67 | H27: =SUM(H9:H26) -> 97095 | K27: =+H27+F27 -> 366793.67
B28: รวมเงินหน้านี้ | I28: =SUM(I9:I27) -> 366793.67
B29: งานโครงสร้าง
B30: - คอนกรีตโครงสร้าง (240 ksc) | C30: 98 | D30: ลบ.ม. | E30: 2140 | F30: =SUM(C30*E30) -> 209720 | G30: 485 | H30: =SUM(C30*G30) -> 47530 | I30: =SUM(F30+H30) -> 257250
B31: - เหล็กเสริมคอนกรีต
B32: RB 6 mm. | C32: 1.1 | D32: ตัน | E32: 21980 | F32: =+E32*C32 -> 24178 | G32: 4100 | H32: =+G32*C32 -> 4510 | I32: =+H32+F32 -> 28688
B33: RB 9 mm. | C33: 2.8 | D33: ตัน | E33: 21379 | F33: =+E33*C33 -> 59861.2 | G33: 4100 | H33: =+G33*C33 -> 11480 | I33: =+H33+F33 -> 71341.2
B34: DB 12 mm. | C34: 2.7 | D34: ตัน | E34: 21307 | F34: =+E34*C34 -> 57528.9 | G34: 3300 | H34: =+G34*C34 -> 8910 | I34: =+H34+F34 -> 66438.9
B35: DB 16 mm. | C35: 2.5 | D35: ตัน | E35: 21540 | F35: =+E35*C35 -> 53850 | G35: 3300 | H35: =+G35*C35 -> 8250 | I35: =+H35+F35 -> 62100
B36: DB 20 mm. | C36: 3.3 | D36: ตัน | E36: 21425 | F36: =+E36*C36 -> 70702.5 | G36: 2900 | H36: =+G36*C36 -> 9570 | I36: =+H36+F36 -> 80272.5
B37: DB 25 mm. | C37: 1.6 | D37: ตัน | E37: 21027 | F37: =+E37*C37 -> 33643.2 | G37: 2900 | H37: =+G37*C37 -> 4640 | I37: =+H37+F37 -> 38283.2
B38: - แบบหล่อคอนกรีต | C38: 1094 | D38: ตร.ม. | E38: 200 | F38: =SUM(C38*E38) -> 218800 | G38: 133 | H38: =SUM(C38*G38) -> 145502 | I38: =SUM(F38+H38) -> 364302
B39: - ตะปู | C39: 420 | D39: กก. | E39: 47 | F39: =SUM(C39*E39) -> 19740 | G39: - | H39: - | I39: =SUM(F39) -> 19740 | K39: =+C38*0.25 -> 273.5
B40: - ลวดผูกเหล็ก | C40: 241 | D40: กก. | E40: 31 | F40: =SUM(C40*E40) -> 7471 | G40: - | H40: - | I40: =SUM(F40) -> 7471 | K40: =+C31*30 -> 0
B41: - พื้นสำเร็จชนิด HOLLOW CORE หนา 10 ซม. รับน้ำหนัก
B42: 300 Kg/ม2 | C42: 422 | D42: ตร.ม. | E42: 380 | F42: =SUM(C42*E42) -> 160360 | G42: 35 | H42: =SUM(C42*G42) -> 14770 | I42: =SUM(F42+H42) -> 175130
B43: - พื้นสำเร็จชนิด HOLLOW CORE หนา 10 ซม. รับน้ำหนัก
B44: 400 Kg/ม2 | C44: 148 | D44: ตร.ม. | E44: 500 | F44: =SUM(C44*E44) -> 74000 | G44: 35 | H44: =SUM(C44*G44) -> 5180 | I44: =SUM(F44+H44) -> 79180
B45: - WIRE MESH f 4 มม. @ 0.20 ม. # | C45: 570 | D45: ตร.ม. | E45: 47 | F45: =SUM(C45*E45) -> 26790 | G45: 5 | H45: =SUM(C45*G45) -> 2850 | I45: =SUM(F45+H45) -> 29640
B46: - คอนกรีตโครงสร้างทับหน้า (240 ksc) | C46: 30 | D46: ลบ.ม. | E46: 2140 | F46: =SUM(C46*E46) -> 64200 | G46: 485 | H46: =SUM(C46*G46) -> 14550 | I46: =SUM(F46+H46) -> 78750
B47: - ราดน้ำยากันปลวก | C47: 750 | D47: ตร.ม. | E47: 55 | F47: =SUM(C47*E47) -> 41250 | G47: วัสดุ + | H47: แรงงาน | I47: =SUM(F47) -> 41250
B49: รวม | F49: =SUM(F30:F47) -> 1122094.8 | H49: =SUM(H30:H47) -> 277742 | K49: =+F49+H49 -> 1399836.8
B50: รวมเงินหน้านี้ | I50: =SUM(I30:I49) -> 1399836.8
B51: งานโครงหลังคา
B52: - เหล็ก C 100 x 50 x 20 x 3.2 มม. (5.50 กก./ม.) | C52: 2442 | D52: กก. | E52: 21 | F52: =SUM(C52*E52) -> 51282 | G52: - | H52: - | I52: =SUM(F52) -> 51282
B53: - เหล็ก 150 x 50 x 3.2 มม. (9.63 กก./ม.) | C53: 1098 | D53: กก. | E53: 21 | F53: =SUM(C53*E53) -> 23058 | G53: - | H53: - | I53: =SUM(F53) -> 23058
B54: - เหล็ก 100 x 50 x 3.2 มม. (8.26 กก./ม.) | C54: 1388 | D54: กก. | E54: 21 | F54: =SUM(C54*E54) -> 29148 | G54: - | H54: - | I54: =SUM(F54) -> 29148
B55: - เหล็ก 50 x 50 x 3.2 มม. (4.50 กก./ม.) | C55: 864 | D55: กก. | E55: 21 | F55: =SUM(C55*E55) -> 18144 | G55: - | H55: - | I55: =SUM(F55) -> 18144
B56: - แผ่นเหล็ก ขนาด 200 x 150 x 6 มม.+ 4 f ANCHOR BOLT | C56: 12 | D56: ชุด | E56: 200 | F56: =SUM(C56*E56) -> 2400 | G56: - | H56: - | I56: =SUM(F56) -> 2400 | K56: =0.2*0.15*6*7.85*50 -> 70.65 | L56: =30*4 -> 120 | M56: =+K56+L56 -> 190.65
B57: - EXPANSION BOLT Ø 12 | C57: 24 | D57: ชุด | E57: 40 | F57: =SUM(C57*E57) -> 960 | G57: - | H57: - | I57: =SUM(F57) -> 960
B58: - เหล็ก L 45 x 45 x 5 มม. (4.38 กก./ม.) | C58: 53 | D58: กก. | E58: 23 | F58: =SUM(C58*E58) -> 1219 | G58: - | H58: - | I58: =SUM(F58) -> 1219
B59: - แผ่นเหล็ก FB. 50 x 3 | C59: 22 | D59: กก. | E59: 23 | F59: =SUM(C59*E59) -> 506 | G59: - | H59: - | I59: =SUM(F59) -> 506
B60: - ไม้เชิงชายสังเคราะห์ และไม้ปิดลอนสังเคราะห์ ขนาด 1"x 8" | C60: 95 | D60: ม. | E60: 180 | F60: =SUM(C60*E60) -> 17100 | G60: 73 | H60: =SUM(C60*G60) -> 6935 | I60: =SUM(F60+H60) -> 24035
B61: - ค่าแรงประกอบโครงหลังคา | C61: 5867 | D61: กก. | E61: - | F61: - | G61: 10 | H61: =SUM(C61*G61) -> 58670 | I61: =SUM(H61) -> 58670
B62: - ทาสีกันสนิมและสีน้ำมัน | C62: 280 | D62: ตร.ม. | E62: 150 | F62: =SUM(C62*E62) -> 42000 | G62: วัสดุ + | H62: แรงงาน | I62: =SUM(F62) -> 42000 | K62: =SUM(I52:I62)+I50+I28 -> 2018052.5
B63: งานมุงหลังคา
B64: - แผ่นเหล็กรีดลอนเคลือบสี หนา 0.47 ม. | C64: 495 | D64: ตร.ม. | E64: 335 | F64: =SUM(C64*E64) -> 165825 | G64: 70 | H64: =SUM(C64*G64) -> 34650 | I64: =SUM(F64+H64) -> 200475
B65: - ครอบสันหลังคา | C65: 60 | D65: ม. | E65: 265 | F65: =SUM(C65*E65) -> 15900 | G65: วัสดุ + แรงงาน | I65: =SUM(F65) -> 15900
B66: - ฉนวนกันความร้อน | C66: 500 | D66: ตร.ม. | E66: 150 | F66: =SUM(C66*E66) -> 75000 | G66: วัสดุ + แรงงาน | I66: =SUM(F66) -> 75000 | K66: =SUM(I64:I66)+I92+I114+I135+I157+I178+I199 -> 4086343
B70: รวม | F70: =SUM(F52:F68) -> 442542 | H70: =SUM(H52:H68) -> 100255 | K70: =+H70+F70 -> 542797
B71: รวมเงินหน้านี้ | I71: =SUM(I52:I70) -> 542797
B72: งานฝ้าเพดาน
B73: - ฝ้ายิบซั่มบอร์ด หนา 9 มม.ฉาบเรียบ โครงคร่าวเหล็กชุบสังกะสี | C73: 610 | D73: ตร.ม. | E73: 305 | F73: =SUM(C73*E73) -> 186050 | G73: 75 | H73: =SUM(C73*G73) -> 45750 | I73: =SUM(F73+H73) -> 231800
B74: - ฝ้ายิบซั่มบอร์ด หนา 9 มม.ชนิดทนชื้น โครงคร่าวเหล็กชุบสังกะสี | C74: 50 | D74: ตร.ม. | E74: 335 | F74: =SUM(C74*E74) -> 16750 | G74: 75 | H74: =SUM(C74*G74) -> 3750 | I74: =SUM(F74+H74) -> 20500
B75: - ฝ้าฉาบแต่งท้องพื้นเรียบ | C75: 108 | D75: ตร.ม. | E75: 90 | F75: =SUM(C75*E75) -> 9720 | G75: 82 | H75: =SUM(C75*G75) -> 8856 | I75: =SUM(F75+H75) -> 18576
B76: - ฝ้าชายคาไม้สังเคราะห์ หนา 8 มม.กว้าง 3" ลงมุมสำเร็จรูปตีชิด
B77: โครงคร่าวเหล็ก ขนาด 1" x 2" @ 0.60 ม. | C77: 140 | D77: ตร.ม. | E77: 550 | F77: =SUM(C77*E77) -> 77000 | G77: วัสดุ + | H77: แรงงาน | I77: =SUM(F77) -> 77000
B78: งานผนัง
B79: - ผนังก่ออิฐมอญ | C79: 795 | D79: ตร.ม. | E79: 290 | F79: =SUM(C79*E79) -> 230550 | G79: 89 | H79: =SUM(C79*G79) -> 70755 | I79: =SUM(F79+H79) -> 301305
B80: - ผนังก่ออิฐมอญเต็มแผ่น | C80: 55 | D80: ตร.ม. | E80: 580 | F80: =SUM(C80*E80) -> 31900 | G80: 167 | H80: =SUM(C80*G80) -> 9185 | I80: =SUM(F80+H80) -> 41085
B81: - ผนังฉาบปูนเรียบเซาะร่อง กว้าง 1 ซม.@ 0.25 ม. | C81: 90 | D81: ตร.ม. | E81: 90 | F81: =SUM(C81*E81) -> 8100 | G81: 113 | H81: =SUM(C81*G81) -> 10170 | I81: =SUM(F81+H81) -> 18270
B82: - ผนังฉาบปูนเรียบ | C82: 1470 | D82: ตร.ม. | E82: 90 | F82: =SUM(C82*E82) -> 132300 | G82: 82 | H82: =SUM(C82*G82) -> 120540 | I82: =SUM(F82+H82) -> 252840
B83: - ผนังกรุกระเบื้องเซรามิค ขนาด 12" x 12" | C83: 175 | D83: ตร.ม. | E83: 300 | F83: =SUM(C83*E83) -> 52500 | G83: 166 | H83: =SUM(C83*G83) -> 29050 | I83: =SUM(F83+H83) -> 81550
B84: - ผนังซีเมนต์บอร์ด หนา 10 มม. โครงคร่าวเหล็กชุบสังกะสี | C84: 22 | D84: ตร.ม. | E84: 800 | F84: =SUM(C84*E84) -> 17600 | G84: วัสดุ + | H84: แรงงาน | I84: =SUM(F84) -> 17600
F91: =SUM(F72:F84) -> 762470 | H91: =SUM(H72:H84) -> 298056 | K91: =+H91+F91 -> 1060526
B92: รวมเงินหน้านี้ | I92: =SUM(I72:I91) -> 1060526
B93: งานผิวพื้น
B94: - พื้น ค.ส.ล.ปูแผ่นหินขัดสำเร็จรูป ขนาด 12" x 12" | C94: 610 | D94: ตร.ม. | E94: 570 | F94: =SUM(C94*E94) -> 347700 | G94: 183 | H94: =SUM(C94*G94) -> 111630 | I94: =SUM(F94+H94) -> 459330
B95: - บัวเชิงผนังหินขัดสำเร็จรูป สีขาว | C95: 1250 | D95: ม. | E95: 120 | F95: =SUM(C95*E95) -> 150000 | G95: 55 | H95: =SUM(C95*G95) -> 68750 | I95: =SUM(F95+H95) -> 218750
B96: - บัวเชิงผนังหินขัดสำเร็จรูป สีเทา | C96: 70 | D96: ม. | E96: 120 | F96: =SUM(C96*E96) -> 8400 | G96: 55 | H96: =SUM(C96*G96) -> 3850 | I96: =SUM(F96+H96) -> 12250
B97: - พื้น ค.ส.ล.ผสมน้ำยากันซึม ปูกระเบื้องเซรามิค ขนาด 12" x 12"
B98: ยาแนวสีเดียวกับกระเบื้อง | C98: 50 | D98: ตร.ม. | E98: 300 | F98: =SUM(C98*E98) -> 15000 | G98: 158 | H98: =SUM(C98*G98) -> 7900 | I98: =SUM(F98+H98) -> 22900
B99: - พื้นทรายล้างสีเทา เซาะร่อง กว้าง 1 ซม. | C99: 20 | D99: ตร.ม. | E99: 550 | F99: =SUM(C99*E99) -> 11000 | G99: 99 | H99: =SUM(C99*G99) -> 1980 | I99: =SUM(F99+H99) -> 12980
B100: - พื้น ค.ส.ล.ทำผิวขัดหยาบ | C100: 210 | D100: ตร.ม. | E100: 80 | F100: =SUM(C100*E100) -> 16800 | G100: 61 | H100: =SUM(C100*G100) -> 12810 | I100: =SUM(F100+H100) -> 29610
B101: งานประตู - หน้าต่าง
B102: - ป 1 วงกบอลูมิเนียม ขนาด 2.05 x 3.6 ม.กระจกใสหนา 6 มม. | C102: 1 | D102: ชุด | E102: 28700 | F102: =SUM(C102*E102) -> 28700 | G102: วัสดุ + | H102: แรงงาน | I102: =SUM(F102) -> 28700
B103: - ป 2 วงกบอลูมิเนียม ขนาด 2.05 x 2.8 ม.กระจกใสหนา 6 มม. | C103: 1 | D103: ชุด | E103: 22500 | F103: =SUM(C103*E103) -> 22500 | G103: วัสดุ + | H103: แรงงาน | I103: =SUM(F103) -> 22500
B104: - ป 3 วงกบอลูมิเนียม ขนาด 2.05 x 1.9 ม.กระจกใสหนา 6 มม. | C104: 1 | D104: ชุด | E104: 18000 | F104: =SUM(C104*E104) -> 18000 | G104: วัสดุ + | H104: แรงงาน | I104: =SUM(F104) -> 18000
B105: - ป 4 วงกบไม้เนื้อแข็ง บานไม้อัดยาง ขนาด 0.90 x 2.00 ม.
B106: เจาะช่องแสง 0.30 x 0.60 ม.ติดกระจกใส หนา 6 มม. | C106: 10 | D106: ชุด | E106: 5800 | F106: =SUM(C106*E106) -> 58000 | G106: วัสดุ + | H106: แรงงาน | I106: =SUM(F106) -> 58000
B107: - ป 5 วงกบไม้เนื้อแข็ง บานไม้อัดยาง ขนาด 0.80 x 2.00 ม.
B108: เกล็ดระบายอากาศไม้เนื้อแข็ง ขนาด 0.50 x 1.70 ม. | C108: 2 | D108: ชุด | E108: 5500 | F108: =SUM(C108*E108) -> 11000 | G108: วัสดุ + | H108: แรงงาน | I108: =SUM(F108) -> 11000
B109: - ป 6 วงกบไม้เนื้อแข็ง บานไม้อัดยาง ขนาด 0.90 x 2.00 ม. | C109: 4 | D109: ชุด | E109: 4400 | F109: =SUM(C109*E109) -> 17600 | G109: วัสดุ + | H109: แรงงาน | I109: =SUM(F109) -> 17600
B110: - ป 7 วงกบไม้เนื้อแข็ง บานไม้อัดยาง ขนาด 0.80 x 2.00 ม.
B111: เกล็ดระบายอากาศไม้เนื้อแข็ง ขนาด 0.20 x 1.70 ม. | C111: 5 | D111: ชุด | E111: 6300 | F111: =SUM(C111*E111) -> 31500 | G111: วัสดุ + | H111: แรงงาน | I111: =SUM(F111) -> 31500
B113: รวม | F113: =SUM(F93:F112) -> 736200 | H113: =SUM(H93:H112) -> 206920 | K113: =+H113+F113 -> 943120
B114: รวมเงินหน้านี้ | I114: =SUM(I93:I113) -> 943120
B115: งานประตู - หน้าต่าง (ต่อ)
B116: - ป 8 วงกบไม้เนื้อแข็ง บานแผ่นพลาสติก ขนาด 0.60 x 1.80 ม. | C116: 7 | D116: ชุด | E116: 5000 | F116: =SUM(C116*E116) -> 35000 | G116: วัสดุ + | H116: แรงงาน | I116: =SUM(F116) -> 35000
B117: - ป 9 วงกบอลูมิเนียม ขนาด 2.70 x 2.80 ม.กระจกใส 6 มม. | C117: 1 | E117: 45000 | F117: =SUM(C117*E117) -> 45000 | G117: วัสดุ + | H117: แรงงาน | I117: =SUM(F117) -> 45000
...

Sheet ฟฟ.
A1: แบบแสดงรายการปริมาณงานและราคา
A2: กลุ่มงาน | B2: งานอาคาร
A3: ชื่อโครงการ | B3: =+'แบบ ปร.6'!B2 -> งานก่อสร้างอาคารกองบังคับการ กอง รปภ.สพ.ทร. จำนวน 1 หลัง | F3: แบบเลขที่ | G3: 62 - 5 - 034
A4: สถานที่ | B4: =+'แบบ ปร.6'!B3 -> อ.สัตหีบ จว.ชลบุรี | C4: หน่วยงานเจ้าของโครงการ | F4: =+'แบบ ปร.6'!C5 -> สพ.ทร.
A6: ลำดับที่ | B6: รายการ | C6: จำนวน | D6: หน่วย | E6: ค่าวัสดุ (บาท ) | G6: ค่าแรงงาน (บาท ) | I6: รวม (บาท ) | J6: หมายเหตุ
E7: ราคาหน่วยละ | F7: จำนวนเงิน | G7: ราคาหน่วยละ | H7: จำนวนเงิน | I7: วัสดุและแรงงาน
B8: ระบบไฟฟ้าภายใน (อาคารกองบังคับการ กอง รปภ.สพ.ทร. )
B9: - โคมตะแกรงถี่แผ่นสะถ้อนแสงอลูมิเนียม ประสิทธิภาพการสะท้อนแสง 95%
B10: ฝังฝ้า L1200 x W300mmT0.8mm. หลอด LED TUBE
B11: ขนาดไม่น้อยกว่า 18 วัตต์ จำนวน 2 หลอด | C11: 29 | D11: ชุด | E11: 1640 | F11: =SUM(C11*E11) -> 47560 | G11: 150 | H11: =SUM(C11*G11) -> 4350 | I11: =SUM(F11+H11) -> 51910
B12: - โคมตะแกรงถี่แผ่นสะถ้อนแสงอลูมิเนียม ประสิทธิภาพการสะท้อนแสง 95%
B13: ฝังฝ้า L1200 x W300mmT0.8mm. หลอด LED TUBE
B14: ขนาดไม่น้อยกว่า 18 วัตต์ จำนวน 1 หลอด | C14: 6 | D14: ชุด | E14: 1260 | F14: =SUM(C14*E14) -> 7560 | G14: 135 | H14: =SUM(C14*G14) -> 810 | I14: =SUM(F14+H14) -> 8370
B15: - โคมตะแกรงถี่แผ่นสะถ้อนแสงอลูมิเนียม ประสิทธิภาพการสะท้อนแสง 95%
B16: ฝังฝ้า L600 x W300mmT0.8mm. หลอด LED TUBE
B17: ขนาดไม่น้อยกว่า 9 วัตต์ จำนวน 2 หลอด | C17: 14 | D17: ชุด | E17: 1200 | F17: =SUM(C17*E17) -> 16800 | G17: 135 | H17: =SUM(C17*G17) -> 1890 | I17: =SUM(F17+H17) -> 18690
B18: - โคมตะแกรงรังผึ้งแผ่นสะถ้อนแสงอลูมิเนียม ประสิทธิภาพการสะท้อนแสง
B19: 95% ฝังฝ้า L1200 x W300mmT0.8mm. หลอด LED TUBE
B20: ขนาดไม่น้อยกว่า 18 วัตต์ จำนวน 2 หลอด | C20: 16 | D20: ชุด | E20: 1640 | F20: =SUM(C20*E20) -> 26240 | G20: 150 | H20: =SUM(C20*G20) -> 2400 | I20: =SUM(F20+H20) -> 28640
B21: - โคมตะแกรงรังผึ้งแผ่นสะถ้อนแสงอลูมิเนียม ประสิทธิภาพการสะท้อนแสง
B22: 95% ฝังฝ้า L1200 x W300mmT0.8mm. หลอด LED TUBE
B23: ขนาดไม่น้อยกว่า 9 วัตต์ จำนวน 2 หลอด | C23: 10 | D23: ชุด | E23: 1200 | F23: =SUM(C23*E23) -> 12000 | G23: 135 | H23: =SUM(C23*G23) -> 1350 | I23: =SUM(F23+H23) -> 13350
B24: - โคมกล่องเหล็ก ติดลอย T0.8 หลอด LED TUBE
B25: ขนาดไม่น้อยกว่า 18 วัตต์ จำนวน 1 หลอด | C25: 3 | D25: ชุด | E25: 520 | F25: =E25*C25 -> 1560 | G25: 115 | H25: =G25*C25 -> 345 | I25: =H25+F25 -> 1905
B28: รวม | F28: =SUM(F10:F27) -> 111720 | H28: =SUM(H10:H27) -> 11145 | K28: =+H28+F28 -> 122865
B29: รวมเงินหน้านี้ | I29: =SUM(I11:I27) -> 122865
B30: ระบบไฟฟ้าภายใน (อาคารกองบังคับการ กอง รปภ.สพ.ทร. ) (ต่อ)
B31: - โคม DOWN LIGHT แบบฝังฝ้า ตัวสะท้อนแสงอะลูมิเนียม หลอด LED
B32: BULD ขนาด 7 วัตต์ ขั้ว E 27 (15 mm.) | C32: 31 | D32: ชุด | E32: 500 | F32: =SUM(C32*E32) -> 15500 | G32: 115 | H32: =SUM(C32*G32) -> 3565 | I32: =SUM(F32+H32) -> 19065
B33: - โคม DOWN LIGHT แบบฝังฝ้า ตัวสะท้อนแสงอะลูมิเนียม หลอด LED
B34: BULD ขนาด 9 วัตต์ ขั้ว E 27 (20mm.) | C34: 34 | D34: ชุด | E34: 600 | F34: =SUM(C34*E34) -> 20400 | G34: 115 | H34: =SUM(C34*G34) -> 3910 | I34: =SUM(F34+H34) -> 24310
B35: - โคม DOWN LIGHT แบบฝังฝ้า (สี่เหลี่ยม)ตัวสะท้อนแสงอะลูมิเนียม
B36: หลอด LED BULD ขนาด 9 วัตต์ ขั้ว E 27 (20mm.) | C36: 12 | D36: ชุด | E36: 800 | F36: =SUM(C36*E36) -> 9600 | G36: 115 | H36: =SUM(C36*G36) -> 1380 | I36: =SUM(F36+H36) -> 10980
B37: - โคมติดผนังภายนอก หลอด LED BULD ขนาด 7 วัตต์ ขั้ว E 27 | C37: 17 | D37: ชุด | E37: 1500 | F37: =SUM(C37*E37) -> 25500 | G37: 165 | H37: =SUM(C37*G37) -> 2805 | I37: =SUM(F37+H37) -> 28305
B38: - โคมไฟฟ้าแสงสว่างฉุดเฉิน หลอด LED TUBE ขนาด 2x9 วัตต์ | C38: 6 | D38: ชุด | E38: 3000 | F38: =SUM(C38*E38) -> 18000 | G38: 200 | H38: =SUM(C38*G38) -> 1200 | I38: =SUM(F38+H38) -> 19200
B39: - สวิทซ์ปิด-เปิด ทางเดียว ขนาดไม่น้อยกว่า 15A. 250V.AC. | C39: 47 | D39: ชุด | E39: 60 | F39: =E39*C39 -> 2820 | G39: 80 | H39: =G39*C39 -> 3760 | I39: =H39+F39 -> 6580
B40: - สวิทซ์ปิด-เปิด ทางเดียว ขนาดไม่น้อยกว่า 15A.250V.AC.พร้อมหน้ากากกันน้ำ | C40: 6 | D40: ชุด | E40: 350 | F40: =E40*C40 -> 2100 | G40: 110 | H40: =G40*C40 -> 660 | I40: =H40+F40 -> 2760
B41: - สวิทซ์ปิด-เปิด สองทาง(สวิทช์บันได) ขนาดไม่น้อยกว่า 15A. 250V.AC. | C41: 6 | D41: ชุด | E41: 96 | F41: =E41*C41 -> 576 | G41: 85 | H41: =G41*C41 -> 510 | I41: =H41+F41 -> 1086
B42: - สวิทซ์ปิด-เปิด ทางเดียว ขนาดไม่น้อยกว่า 15A.250V.AC.
B43: สำหรับพัดลมดูดอากาศ แบบมีไฟ | C43: 14 | D43: ชุด | E43: 160 | F43: =E43*C43 -> 2240 | G43: 80 | H43: =G43*C43 -> 1120 | I43: =H43+F43 -> 3360
B44: - สวิทซ์ปิด-เปิด ทางเดียว ขนาดไม่น้อยกว่า 15A.250V.AC.
B45: สำหรับพัดลมดูดอากาศ แบบมีไฟ (พร้อมหน้ากากกันน้ำ) | C45: 4 | D45: ชุด | E45: 510 | F45: =E45*C45 -> 2040 | G45: 110 | H45: =G45*C45 -> 440 | I45: =H45+F45 -> 2480
B46: - เต้ารับแบบมีกราวด์ (2P+G) ขนาดไม่น้อยกว่า 15A. 250V.AC. | C46: 91 | D46: ชุด | E46: 200 | F46: =E46*C46 -> 18200 | G46: 90 | H46: =G46*C46 -> 8190 | I46: =H46+F46 -> 26390
B47: - เต้ารับแบบไม่มีกราวด์ ขนาดไม่น้อยกว่า 15A. 250V.AC. | C47: 6 | D47: ชุด | E47: 100 | F47: =E47*C47 -> 600 | G47: 90 | H47: =G47*C47 -> 540 | I47: =H47+F47 -> 1140
B50: รวม | F50: =SUM(F31:F49) -> 117576 | H50: =SUM(H31:H49) -> 28080 | K50: =+H50+F50 -> 145656
B51: รวมเงินหน้านี้ | I51: =SUM(I31:I50) -> 145656
B52: ระบบไฟฟ้าภายใน (อาคารกองบังคับการ กอง รปภ.สพ.ทร. ) (ต่อ)
B53: - 500W. 240V.AC. DIMMER SWITCH w/10A. MAIN SWITCH | C53: 3 | D53: ชุด | E53: 680 | F53: =E53*C53 -> 2040 | G53: 90 | H53: =G53*C53 -> 270 | I53: =H53+F53 -> 2310
B54: - WATER PROOF ISOLATOR (IP66) 2P 20A . 220 V.AC. | C54: 13 | D54: ชุด | E54: 592 | F54: =SUM(C54*E54) -> 7696 | G54: 200 | H54: =SUM(C54*G54) -> 2600 | I54: =SUM(F54+H54) -> 10296
B55: - WATER PROOF ISOLATOR (IP66) 3P 20A. 220 V.AC. | C55: 4 | D55: ชุด | E55: 688 | F55: =SUM(C55*E55) -> 2752 | G55: 200 | H55: =SUM(C55*G55) -> 800 | I55: =SUM(F55+H55) -> 3552
B56: ตู้ MDB.
B57: - ตู้ MAIN DISTRIBUTION BOARD T - 2.00 mm.EG INDOOR TYPE
B58: 200A. 380/220 V.AC.3ø4W. FN-GH CU.BUSBAR 1
B59: - 175AT 3P. IC ≥25kA. At 416 V.AC. 1 ชุด
B60: - 50AT 3P. IC ≥18kA. At 416 V.AC. 2 ชุด
B61: - 40AT 3P. IC ≥18kA. At 416 V.AC. 2 ชุด
B62: - 30AT 3P. IC ≥18kA. At 416 V.AC. 2 ชุด | C62: 1 | D62: ชุด | E62: 100980 | F62: =SUM(C62*E62) -> 100980 | G62: 12000 | H62: =SUM(C62*G62) -> 12000 | I62: =SUM(F62+H62) -> 112980
B63: - 3x6A. FUSES 1 ชุด
B64: - 3x125 A. FUSES 1 ชุด
B65: - PILOT LAMP 3 ชุด
B66: - 200/5A. CURRENT TRANSFORMER 3 ชุด
B67: - DIGITAL METERING (DM) 1 ชุด
B68: - SURGE ARRESTER CLASS I+II 50kA/Ph (3Ph+N) 1 ชุด
B69: - GROUNDING ROD พร้อมอุปกรณ์ | C69: 1 | D69: ชุด | E69: 2200 | F69: =C69*E69 -> 2200 | G69: 800 | H69: =SUM(C69*G69) -> 800 | I69: =SUM(F69+H69) -> 3000
B72: รวม | F72: =SUM(F52:F70) -> 115668 | H72: =SUM(H52:H69) -> 16470 | K72: =+H72+F72 -> 132138
B73: รวมเงินหน้านี้ | I73: =SUM(I52:I70) -> 132138
B74: ระบบไฟฟ้าภายใน (อาคารกองบังคับการ กอง รปภ.สพ.ทร. ) (ต่อ)
B75: ตู้ LP- 1
B76: - ตู้ LOAD CENTER ชนิดมี 30 ช่อง พร้อม MAIN
B77: CIRCUIT BREAKER 40 AT. 3P. CB. IC ≥ 15 kA. at. 416 V.AC. | C77: 1 | D77: ชุด | E77: 11550 | F77: =C77*E77 -> 11550 | G77: 1500 | H77: =C77*G77 -> 1500 | I77: =SUM(F77+H77) -> 13050
B78: - BRANCH BREAKER 16 AT. 6 kA. 1P. | C78: 12 | D78: ชุด | E78: 158 | F78: =C78*E78 -> 1896 | G78: - | H78: - | I78: =SUM(F78) -> 1896
B79: - BRANCH BREAKER 20 AT. 6 kA. 1P. | C79: 18 | D79: ชุด | E79: 158 | F79: =C79*E79 -> 2844 | G79: - | H79: - | I79: =SUM(F79) -> 2844
B80: ตู้ LP- 2
B81: - ตู้ LOAD CENTER ชนิดมี 18 ช่อง พร้อม MAIN
B82: CIRCUIT BREAKER 40 AT. 3P. CB. IC ≥ 15 kA. at. 416 V.AC. | C82: 1 | D82: ชุด | E82: 10500 | F82: =C82*E82 -> 10500 | G82: 1000 | H82: 1000 | I82: =SUM(E82+H82) -> 11500
B83: - BRANCH BREAKER 16 AT. 6 kA. 1P. | C83: 8 | D83: ชุด | E83: 158 | F83: =C83*E83 -> 1264 | G83: - | H83: - | I83: =SUM(F83) -> 1264
B84: - BRANCH BREAKER 20 AT. 6 kA. 1P. | C84: 10 | D84: ชุด | E84: 158 | F84: =C84*E84 -> 1580 | G84: - | H84: - | I84: =SUM(F84) -> 1580
B85: ตู้ LP- 3
B86: - ตู้ LOAD CENTER ชนิดมี 18 ช่อง พร้อม MAIN
B87: CIRCUIT BREAKER 50 AT. 3P. CB. IC ≥ 15 kA. at. 416 V.AC. | C87: 1 | D87: ชุด | E87: 10500 | F87: =C87*E87 -> 10500 | G87: 1000 | H87: =C87*G87 -> 1000 | I87: =SUM(F87+H87) -> 11500
B88: - BRANCH BREAKER 16 AT. 6 kA. 1P. | C88: 17 | D88: ชุด | E88: 158 | F88: =C88*E88 -> 2686 | G88: - | H88: - | I88: =SUM(F88) -> 2686
B89: - BRANCH BREAKER 25 AT. 6 kA. 1P. | C89: 1 | D89: ชุด | E89: 158 | F89: =C89*E89 -> 158 | G89: - | H89: - | I89: =SUM(F89) -> 158
B94: รวม | F94: =SUM(F74:F92) -> 42978 | H94: =SUM(H75:H92) -> 3500 | K94: =+H94+F94 -> 46478
B95: รวมเงินหน้านี้ | I95: =SUM(I75:I92) -> 46478
B96: ระบบไฟฟ้าภายใน (อาคารกองบังคับการ กอง รปภ.สพ.ทร. ) (ต่อ)
B97: ตู้ LP- 4
B98: - ตู้ LOAD CENTER ชนิดมี 18 ช่อง พร้อม MAIN
B99: CIRCUIT BREAKER 50 AT. 3P. CB. IC ≥ 15 kA. at. 416 V.AC. | C99: 1 | D99: ชุด | E99: 10500 | F99: =C99*E99 -> 10500 | G99: 1000 | H99: =C99*G99 -> 1000 | I99: =SUM(F99+H99) -> 11500
B100: - BRANCH BREAKER 20 AT. 6 kA. 1P. | C100: 17 | D100: ชุด | E100: 158 | F100: =C100*E100 -> 2686 | G100: - | H100: - | I100: =SUM(F100) -> 2686
B101: - BRANCH BREAKER 20 AT. 6 kA. 3P. | C101: 4 | D101: ชุด | E101: 1659 | F101: =C101*E101 -> 6636 | G101: - | H101: - | I101: =SUM(F101) -> 6636
B102: ตู้ MCCB.
B103: - 30AT.2P.6kA.MCCB-2/1 w./BOX | C103: 2 | D103: ชุด | E103: 2590 | F103: =SUM(C103*E103) -> 5180 | G103: 200 | H103: =SUM(C103*G103) -> 400 | I103: =SUM(F103+H103) -> 5580
B104: สายไฟฟ้าและท่อร้อยสายไฟฟ้า
B105: - 1.5 Sq.mm. THW. | C105: 2225 | D105: เมตร | E105: 5 | F105: =C105*E105 -> 11125 | G105: 5 | H105: =C105*G105 -> 11125 | I105: =SUM(F105+H105) -> 22250
B106: - 2.5 Sq.mm. THW. | C106: 1587 | D106: เมตร | E106: 8 | F106: =C106*E106 -> 12696 | G106: 7 | H106: =C106*G106 -> 11109 | I106: =SUM(F106+H106) -> 23805
B107: - 4 Sq.mm. THW. | C107: 3315 | D107: เมตร | E107: 12 | F107: =C107*E107 -> 39780 | G107: 10 | H107: =C107*G107 -> 33150 | I107: =SUM(F107+H107) -> 72930
B108: - 6 Sq.mm. THW. | C108: 56 | D108: เมตร | E108: 20 | F108: =C108*E108 -> 1120 | G108: 12 | H108: =C108*G108 -> 672 | I108: =SUM(F108+H108) -> 1792
B109: - 10 Sq.mm. THW. | C109: 116 | D109: เมตร | E109: 35 | F109: =C109*E109 -> 4060 | G109: 16 | H109: =C109*G109 -> 1856 | I109: =SUM(F109+H109) -> 5916
B110: - 16 Sq.mm. THW. | C110: 262 | D110: เมตร | E110: 55 | F110: =C110*E110 -> 14410 | G110: 20 | H110: =C110*G110 -> 5240 | I110: =SUM(F110+H110) -> 19650
B111: - ท่อ ขนาด ø 1/2" EMT | C111: 785 | D111: ท่อน | E111: 76 | F111: =C111*E111 -> 59660 | G111: 66 | H111: =C111*G111 -> 51810 | I111: =SUM(F111+H111) -> 111470
...

Sheet ปรับอากาศ
A1: แบบแสดงรายการปริมาณงานและราคา
A2: กลุ่มงาน | B2: งานอาคาร
A3: ชื่อโครงการ | B3: =+'แบบ ปร.6'!B2 -> งานก่อสร้างอาคารกองบังคับการ กอง รปภ.สพ.ทร. จำนวน 1 หลัง | F3: แบบเลขที่ | G3: 62 - 6 - 009
A4: สถานที่ | B4: =+'แบบ ปร.6'!B3 -> อ.สัตหีบ จว.ชลบุรี | C4: หน่วยงานเจ้าของโครงการ | F4: =+'แบบ ปร.6'!C5 -> สพ.ทร.
A6: ลำดับที่ | B6: รายการ | C6: จำนวน | D6: หน่วย | E6: ค่าวัสดุ (บาท ) | G6: ค่าแรงงาน (บาท ) | I6: รวม (บาท ) | J6: หมายเหตุ
E7: ราคาหน่วยละ | F7: จำนวนเงิน | G7: ราคาหน่วยละ | H7: จำนวนเงิน | I7: วัสดุและแรงงาน
B8: ระบบปรับอากาศ(อาคารกองบังคับการ กอง รปภ.สพ.ทร. )
B9: - ท่อน้ำยาทองแดง TYPE L ขนาด 1/4" | C9: 5 | D9: เมตร | E9: 84 | F9: =C9*E9 -> 420 | G9: 25 | H9: =SUM(C9*G9) -> 125 | I9: =SUM(F9+H9) -> 545
B10: - ท่อน้ำยาทองแดง TYPE L ขนาด 3/8" | C10: 21 | D10: เมตร | E10: 105 | F10: =C10*E10 -> 2205 | G10: 30 | H10: =SUM(C10*G10) -> 630 | I10: =SUM(F10+H10) -> 2835
B11: - ท่อน้ำยาทองแดง TYPE L ขนาด 1/2" | C11: 5 | D11: เมตร | E11: 167 | F11: =C11*E11 -> 835 | G11: 50 | H11: =SUM(C11*G11) -> 250 | I11: =SUM(F11+H11) -> 1085
B12: - ท่อน้ำยาทองแดง TYPE L ขนาด 5/8" | C12: 5 | D12: เมตร | E12: 239 | F12: =C12*E12 -> 1195 | G12: 65 | H12: =SUM(C12*G12) -> 325 | I12: =SUM(F12+H12) -> 1520
B13: - ท่อน้ำยาทองแดง TYPE L ขนาด 3/4" | C13: 17 | D13: เมตร | E13: 295 | F13: =C13*E13 -> 5015 | G13: 80 | H13: =SUM(C13*G13) -> 1360 | I13: =SUM(F13+H13) -> 6375
B14: - ฉนวนหุ้มท่อน้ำยาทองแดง | C14: 30 | D14: เมตร | E14: 65 | F14: =C14*E14 -> 1950 | G14: 16 | H14: =SUM(C14*G14) -> 480 | I14: =SUM(F14+H14) -> 2430
B15: - ท่อน้ำทิ้ง ขนาด Ø 3/4" PVC. | C15: 14 | D15: ท่อน | E15: 46 | F15: =C15*E15 -> 644 | G15: 100 | H15: =SUM(C15*G15) -> 1400 | I15: =SUM(F15+H15) -> 2044
B16: - ท่อน้ำทิ้ง ขนาด Ø 1" PVC. | C16: 12 | D16: ท่อน | E16: 60 | F16: =C16*E16 -> 720 | G16: 100 | H16: =SUM(C16*G16) -> 1200 | I16: =SUM(F16+H16) -> 1920
B17: - ท่อน้ำทิ้ง ขนาด Ø 1 1/4" PVC. | C17: 6 | D17: ท่อน | E17: 75 | F17: =C17*E17 -> 450 | G17: 100 | H17: =SUM(C17*G17) -> 600 | I17: =SUM(F17+H17) -> 1050
B18: - ท่อ PVC. 4" | C18: 10 | D18: เมตร | E18: 141 | F18: =C18*E18 -> 1410 | G18: 54 | H18: =SUM(C18*G18) -> 540 | I18: =SUM(F18+H18) -> 1950
B19: - ท่อ PVC. 4" | C19: 10 | D19: เมตร | E19: 141 | F19: =C19*E19 -> 1410 | G19: 54 | H19: =SUM(C19*G19) -> 540 | I19: =SUM(F19+H19) -> 1950
B20: - ฉนวนหุ้มท่อน้ำทิ้ง | C20: 27 | D20: เมตร | E20: 35 | F20: =C20*E20 -> 945 | G20: 14 | H20: =SUM(C20*G20) -> 378 | I20: =SUM(F20+H20) -> 1323
B21: - รางครอบท่อน้ำยา | C21: 32 | D21: เมตร | E21: 130 | F21: =C21*E21 -> 4160 | G21: 50 | H21: =SUM(C21*G21) -> 1600 | I21: =SUM(F21+H21) -> 5760
B22: - สารทำความเย็น | C22: 1 | D22: งาน | E22: 8146 | F22: =C22*E22 -> 8146 | G22: - | H22: - | I22: =SUM(F22) -> 8146
B23: - พัดลมดูดอากาศผนัง 6 นิ้ว | C23: 1 | D23: ชุด | E23: 900 | F23: =SUM(C23*E23) -> 900 | G23: 350 | H23: =G23*C23 -> 350 | I23: =H23+F23 -> 1250
B24: - พัดลมดูดอากาศผนัง 8 นิ้ว | C24: 1 | D24: ชุด | E24: 1000 | F24: =SUM(C24*E24) -> 1000 | G24: 400 | H24: =G24*C24 -> 400 | I24: =H24+F24 -> 1400
B25: - พัดลมดูดอากาศ 50 CFM. | C25: 4 | D25: ชุด | E25: 2640 | F25: =SUM(C25*E25) -> 10560 | G25: 650 | H25: =G25*C25 -> 2600 | I25: =H25+F25 -> 13160
B28: รวม | F28: =SUM(F9:F27) -> 41965 | H28: =SUM(H9:H27) -> 12778 | K28: =+H28+F28 -> 54743
B29: รวมเงินหน้านี้ | I29: =SUM(I8:I27) -> 54743
B30: ระบบปรับอากาศ(อาคารกองบังคับการ กอง รปภ.สพ.ทร. ) (ต่อ)
B31: - พัดลมดูดอากาศ 80 CFM. | C31: 6 | D31: ชุด | E31: 3192 | F31: =SUM(C31*E31) -> 19152 | G31: 650 | H31: =G31*C31 -> 3900 | I31: =H31+F31 -> 23052
B32: - พัดลมดูดอากาศ 100 CFM. | C32: 1 | D32: ชุด | E32: 3600 | F32: =SUM(C32*E32) -> 3600 | G32: 650 | H32: =G32*C32 -> 650 | I32: =H32+F32 -> 4250
B33: - พัดลมดูดอากาศ 200 CFM. | C33: 1 | D33: ชุด | E33: 7344 | F33: =SUM(C33*E33) -> 7344 | G33: 650 | H33: =G33*C33 -> 650 | I33: =H33+F33 -> 7994
B34: - พัดลมดูดอากาศ 250 CFM. | C34: 2 | D34: ชุด | E34: 9968 | F34: =SUM(C34*E34) -> 19936 | G34: 650 | H34: =G34*C34 -> 1300 | I34: =H34+F34 -> 21236
B35: - หน้ากากลมกลับ EAG 4" x4" | C35: 1 | D35: ชุด | E35: 110 | F35: =C35*E35 -> 110 | G35: 125 | H35: =C35*G35 -> 125 | I35: =SUM(F35+H35) -> 235
B36: - PIPE HOOD | C36: 17 | D36: ชุด | E36: 800 | F36: =SUM(C36*E36) -> 13600 | G36: 125 | H36: =C36*G36 -> 2125 | I36: =SUM(F36+H36) -> 15725
B37: - อุปกรณ์ประกอบและอื่น ๆ | C37: 1 | D37: งาน | E37: 12000 | F37: =C37*E37 -> 12000 | G37: - | H37: - | I37: =SUM(F37) -> 12000
B50: รวม | F50: =SUM(F31:F49) -> 75742 | H50: =SUM(H31:H49) -> 8750 | K50: =+H50+F50 -> 84492
B51: รวมเงินหน้านี้ | I51: =SUM(I31:I50) -> 84492
K53: =I51+I29 -> 139235

Sheet ปป.ภายใน
A1: แบบแสดงรายการปริมาณงานและราคา | L1: 304000
A2: กลุ่มงาน | B2: งานอาคาร
A3: ชื่อโครงการ | B3: =+'แบบ ปร.6'!B2 -> งานก่อสร้างอาคารกองบังคับการ กอง รปภ.สพ.ทร. จำนวน 1 หลัง | F3: แบบเลขที่ | G3: 62 - 4 - 017
A4: สถานที่ | B4: =+'แบบ ปร.6'!B3 -> อ.สัตหีบ จว.ชลบุรี | C4: หน่วยงานเจ้าของโครงการ | F4: =+'แบบ ปร.6'!C5 -> สพ.ทร.
A6: ลำดับที่ | B6: รายการ | C6: จำนวน | D6: หน่วย | E6: ค่าวัสดุ (บาท ) | G6: ค่าแรงงาน (บาท ) | I6: รวม (บาท ) | J6: หมายเหตุ
E7: ราคาหน่วยละ | F7: จำนวนเงิน | G7: ราคาหน่วยละ | H7: จำนวนเงิน | I7: วัสดุและแรงงาน
B8: งานระบบประปาภายใน บก. กอง รปภ.สพ.ทร.
B9: PVC 13.5
B10: - Ø 1/2" | C10: 98 | D10: เมตร | E10: 11 | F10: =SUM(E10*C10) -> 1078 | G10: 30 | H10: =SUM(G10*C10) -> 2940 | I10: =SUM(H10+F10) -> 4018
B11: - Ø 3/4" | C11: 45 | D11: เมตร | E11: 14 | F11: =SUM(E11*C11) -> 630 | G11: 30 | H11: =SUM(G11*C11) -> 1350 | I11: =SUM(H11+F11) -> 1980
B12: - Ø 1" | C12: 9 | D12: เมตร | E12: 22 | F12: =SUM(E12*C12) -> 198 | G12: 30 | H12: =SUM(G12*C12) -> 270 | I12: =SUM(H12+F12) -> 468
B13: - Ø 1 1/4" | C13: 9 | D13: เมตร | E13: 28 | F13: =SUM(E13*C13) -> 252 | G13: 30 | H13: =SUM(G13*C13) -> 270 | I13: =SUM(H13+F13) -> 522
B14: - Ø 1 1/2" | C14: 13 | D14: เมตร | E14: 37 | F14: =SUM(E14*C14) -> 481 | G14: 30 | H14: =SUM(G14*C14) -> 390 | I14: =SUM(H14+F14) -> 871
B15: - Ø 2" | C15: 21 | D15: เมตร | E15: 60 | F15: =SUM(E15*C15) -> 1260 | G15: 40 | H15: =SUM(G15*C15) -> 840 | I15: =SUM(H15+F15) -> 2100
B16: HDPE PE100,PN10
B17: - Ø 25 mm. | C17: 27 | D17: เมตร | E17: 21 | F17: =SUM(E17*C17) -> 567 | G17: 30 | H17: =SUM(G17*C17) -> 810 | I17: =SUM(H17+F17) -> 1377
B18: - Ø 32 mm. | C18: 29 | D18: เมตร | E18: 24 | F18: =SUM(E18*C18) -> 696 | G18: 30 | H18: =SUM(G18*C18) -> 870 | I18: =SUM(H18+F18) -> 1566
B19: - Ø 63 mm. | C19: 28 | D19: เมตร | E19: 86 | F19: =SUM(E19*C19) -> 2408 | G19: 75 | H19: =SUM(G19*C19) -> 2100 | I19: =SUM(H19+F19) -> 4508
B20: GSP
B21: - Ø 2" | C21: 36 | D21: เมตร | E21: 171 | F21: =SUM(E21*C21) -> 6156 | G21: 110 | H21: =SUM(G21*C21) -> 3960 | I21: =SUM(H21+F21) -> 10116
B22: - Ø 2 1/2" | C22: 4 | D22: เมตร | E22: 211 | F22: =SUM(E22*C22) -> 844 | G22: 135 | H22: =SUM(G22*C22) -> 540 | I22: =SUM(H22+F22) -> 1384
B23: อุปกรณ์ข้อต่อ PVC ( หนา )
B24: - ข้อต่องอ 90 º Ø 1/2" | C24: 47 | D24: อัน | E24: 4 | F24: =SUM(C24*E24) -> 188 | G24: - | H24: - | I24: =SUM(F24) -> 188
B25: - ข้อต่องอ 90 º Ø 3/4" | C25: 15 | D25: อัน | E25: 5 | F25: =SUM(C25*E25) -> 75 | G25: - | H25: - | I25: =SUM(F25) -> 75
B26: - ข้อต่องอ 90° Ø 2" | C26: 3 | D26: อัน | E26: 28 | F26: =SUM(C26*E26) -> 84 | G26: - | H26: - | I26: =SUM(F26) -> 84
B27: - ข้อต่องอ 90° ลด Ø 1" x 1/2" | C27: 1 | D27: อัน | E27: 10 | F27: =SUM(C27*E27) -> 10 | G27: - | H27: - | I27: =SUM(F27) -> 10
B29: รวม | F29: =SUM(F9:F28) -> 14927 | H29: =SUM(H9:H28) -> 14340 | K29: =+H29+F29 -> 29267
B30: รวมเงินหน้านี้ | I30: =SUM(I10:I29) -> 29267
B31: งานระบบประปาภายใน บก. กอง รปภ.สพ.ทร. (ต่อ)
B32: อุปกรณ์ข้อต่อ PVC ( หนา ) ต่อ
B33: - ข้อต่อ 3 ทาง T Ø 1/2 " | C33: 28 | D33: อัน | E33: 5 | F33: =SUM(C33*E33) -> 140 | G33: - | H33: - | I33: =SUM(F33) -> 140
B34: - ข้อต่อ 3 ทาง T Ø 3/4 " | C34: 20 | D34: อัน | E34: 7 | F34: =SUM(C34*E34) -> 140 | G34: - | H34: - | I34: =SUM(F34) -> 140
B35: - ข้อต่อ 3 ทาง T Ø 2" | C35: 2 | D35: อัน | E35: 40 | F35: =SUM(C35*E35) -> 80 | G35: - | H35: - | I35: =SUM(F35) -> 80
B36: - ข้อต่อ 3 ทาง T ลด Ø 3/4" x 1/2" | C36: 1 | D36: อัน | E36: 7 | F36: =SUM(C36*E36) -> 7 | G36: - | H36: - | I36: =SUM(F36) -> 7
B37: - ข้อต่อ 3 ทาง T ลด Ø 1" x 1/2" | C37: 2 | D37: อัน | E37: 16 | F37: =SUM(C37*E37) -> 32 | G37: - | H37: - | I37: =SUM(F37) -> 32
B38: - ข้อต่อตรง Ø 3/4" | C38: 2 | D38: อัน | E38: 4 | F38: =SUM(C38*E38) -> 8 | G38: - | H38: - | I38: =SUM(F38) -> 8
B39: - ข้อต่อตรง Ø 2" | C39: 2 | D39: อัน | E39: 18 | F39: =SUM(C39*E39) -> 36 | G39: - | H39: - | I39: =SUM(F39) -> 36
B40: - ข้อต่อตรงลด Ø 3/4" x 1/2" | C40: 4 | D40: อัน | E40: 4 | F40: =SUM(C40*E40) -> 16 | G40: - | H40: - | I40: =SUM(F40) -> 16
B41: - ข้อต่อตรงลด Ø 1" x 1/2" | C41: 1 | D41: อัน | E41: 6 | F41: =SUM(C41*E41) -> 6 | G41: - | H41: - | I41: =SUM(F41) -> 6
B42: - ข้อต่อตรงลด Ø 1" x 3/4" | C42: 1 | D42: อัน | E42: 6 | F42: =SUM(C42*E42) -> 6 | G42: - | H42: - | I42: =SUM(F42) -> 6
B43: - ข้อต่อตรงลด Ø 1 1/4" x 1" | C43: 1 | D43: อัน | E43: 10 | F43: =SUM(C43*E43) -> 10 | G43: - | H43: - | I43: =SUM(F43) -> 10
B44: - ข้อต่อตรงลด Ø 2" x 3/4" | C44: 1 | D44: อัน | E44: 19 | F44: =SUM(C44*E44) -> 19 | G44: - | H44: - | I44: =SUM(F44) -> 19
... B50: - ข้อต่อยูเนี่ยน Ø 1 1/4" | C50: 2 | D50: อัน | E50: 95 | F50: =SUM(C50*E50) -> 190 | G50: - | H50: - | I50: =SUM(F50) -> 190
B51: - STOP VALVE Ø 1/2" | C51: 24 | D51: อัน | E51: 250 | F51: =SUM(C51*E51) -> 6000 | G51: 50 | H51: =SUM(G51*C51) -> 1200 | I51: =SUM(H51+F51) -> 7200
B52: รวม | F52: =SUM(F31:F51) -> 7282 | H52: =SUM(H31:H51) -> 1200 | K52: =+H52+F52 -> 8482
B53: รวมเงินหน้านี้ | I53: =SUM(I31:I51) -> 8482 | K53: =SUM(#REF!+#REF!) -> #REF!
B54: งานระบบประปาภายใน บก. กอง รปภ.สพ.ทร. (ต่อ)
B55: อุปกรณ์ข้อต่อ HDPE (สวมอัด)
B56: - ข้อต่อตรง Ø 25 x 25 mm. | C56: 4 | D56: อัน | E56: 68 | F56: =SUM(C56*E56) -> 272 | G56: - | H56: - | I56: =SUM(F56) -> 272
B57: - ข้อต่อตรง Ø 32 x 32 mm. | C57: 5 | D57: อัน | E57: 95 | F57: =SUM(C57*E57) -> 475 | G57: - | H57: - | I57: =SUM(F57) -> 475
B58: - ข้อต่อตรง Ø 63 x 63 mm. | C58: 3 | D58: อัน | E58: 320 | F58: =SUM(C58*E58) -> 960 | G58: - | H58: - | I58: =SUM(F58) -> 960
B59: - ข้อต่องตรงลด Ø 32 x 25 mm. | C59: 2 | D59: อัน | E59: 80 | F59: =SUM(C59*E59) -> 160 | G59: - | H59: - | I59: =SUM(F59) -> 160
B60: - ข้อต่อตรงลด Ø 50 x 32 mm. | C60: 1 | D60: อัน | E60: 180 | F60: =SUM(C60*E60) -> 180 | G60: - | H60: - | I60: =SUM(F60) -> 180
B61: - ข้อต่อตรงลด Ø 63 x 50 mm. | C61: 1 | D61: อัน | E61: 280 | F61: =SUM(C61*E61) -> 280 | G61: - | H61: - | I61: =SUM(F61) -> 280
B62: - ข้อต่องอ 90° Ø 32 x 32 mm. | C62: 2 | D62: อัน | E62: 100 | F62: =SUM(C62*E62) -> 200 | G62: - | H62: - | I62: =SUM(F62) -> 200
B63: - ข้อต่องอ 90° Ø 63 x 63 mm. | C63: 4 | D63: อัน | E63: 340 | F63: =SUM(C63*E63) -> 1360 | G63: - | H63: - | I63: =SUM(F63) -> 1360
B64: - ข้อต่อ 3 ทาง T Ø 32 x 32 x 32 mm. | C64: 1 | D64: อัน | E64: 165 | F64: =SUM(C64*E64) -> 165 | G64: - | H64: - | I64: =SUM(F64) -> 165
B65: - ข้อต่อ 3 ทาง T Ø 63 x 63 x 63 mm. | C65: 1 | D65: อัน | E65: 480 | F65: =SUM(C65*E65) -> 480 | G65: - | H65: - | I65: =SUM(F65) -> 480
B66: อุปกรณ์ข้อต่อ GSP
B67: - ข้อต่องอ 90° Ø 2" | C67: 3 | D67: อัน | E67: 114 | F67: =SUM(C67*E67) -> 342 | G67: - | H67: - | I67: =SUM(F67) -> 342
B68: - ข้อต่องอ 90 º Ø 2 1/2" | C68: 2 | D68: อัน | E68: 249 | F68: =SUM(C68*E68) -> 498 | G68: - | H68: - | I68: =SUM(F68) -> 498
B69: - ข้อต่อ 3 ทาง T Ø 1 1/4" | C69: 3 | D69: อัน | E69: 63 | F69: =SUM(C69*E69) -> 189 | G69: - | H69: - | I69: =SUM(F69) -> 189
B70: - ข้อต่อ 3 ทาง T Ø 2" | C70: 2 | D70: อัน | E70: 116 | F70: =SUM(C70*E70) -> 232 | G70: - | H70: - | I70: =SUM(F70) -> 232
B71: - ข้อต่อตรงลด Ø 2 1/2" x 1 1/4" | C71: 2 | D71: อัน | E71: 113 | F71: =SUM(C71*E71) -> 226 | G71: - | H71: - | I71: =SUM(F71) -> 226
B72: - FLANGE Ø 2 " | C72: 1 | D72: อัน | E72: 154 | F72: =SUM(C72*E72) -> 154 | G72: - | H72: - | I72: =SUM(F72) -> 154
B74: รวม | F74: =SUM(F54:F72) -> 6173 | H74: =SUM(H54:H72) -> 0 | K74: =+H74+F74 -> 6173
B75: รวมเงินหน้านี้ | I75: =SUM(I55:I73) -> 6173 | L75: =+I75+G75 -> 6173
B76: งานระบบประปาภายใน บก. กอง รปภ.สพ.ทร. (ต่อ)
B77: อุปกรณ์ประกอบ PVC
B78: HOSEE BIBB
B79: - Ø 1/2" | C79: 4 | D79: อัน | E79: 240 | F79: =SUM(E79*C79) -> 960 | G79: 50 | H79: =SUM(G79*C79) -> 200 | I79: =SUM(H79+F79) -> 1160
B80: - Ø 3/4" | C80: 4 | D80: อัน | E80: 234 | F80: =SUM(E80*C80) -> 936 | G80: - | H80: - | I80: =SUM(F80) -> 936
B81: GATE VALVE
B82: - Ø 1/2" | C82: 2 | D82: ชุด | E82: 590 | F82: =SUM(E82*C82) -> 1180 | G82: 100 | H82: =SUM(G82*C82) -> 200 | I82: =SUM(H82+F82) -> 1380
B83: - Ø 1" | C83: 2 | D83: ชุด | E83: 1145 | F83: =SUM(E83*C83) -> 2290 | G83: 200 | H83: =SUM(G83*C83) -> 400 | I83: =SUM(H83+F83) -> 2690
B84: - Ø 1 1/4" | C84: 1 | D84: ชุด | E84: 1760 | F84: =SUM(E84*C84) -> 1760 | G84: 250 | H84: =SUM(G84*C84) -> 250 | I84: =SUM(H84+F84) -> 2010
B85: อุปกรณ์ประกอบ GSP
B86: GATE VALVE
B87: - Ø 2" | C87: 4 | D87: ชุด | E87: 7850 | F87: =SUM(E87*C87) -> 31400 | G87: 400 | H87: =SUM(G87*C87) -> 1600 | I87: =SUM(H87+F87) -> 33000
B88: CHECK VALVE
B89: - Ø 2" | C89: 1 | D89: ชุด | E89: 6980 | F89: =SUM(E89*C89) -> 6980 | G89: 400 | H89: =SUM(G89*C89) -> 400 | I89: =SUM(H89+F89) -> 7380
B90: MODULATING FLOAT VALVE
B91: - Ø 2" | C91: 1 | D91: ชุด | E91: 22000 | F91: =SUM(E91*C91) -> 22000 | G91: 400 | H91: =SUM(G91*C91) -> 400 | I91: =SUM(H91+F91) -> 22400
B96: รวม | F96: =SUM(F77:F95) -> 67506 | H96: =SUM(H78:H95) -> 3450 | K96: =+H96+F96 -> 70956
B97: รวมเงินหน้านี้ | I97: =SUM(I78:I96) -> 70956 | K97: =+H97+F97 -> 0 | L97: =+I97+G97 -> 70956
B98: งานระบบประปาภายใน บก. กอง รปภ.สพ.ทร. (ต่อ)
B99: บ่อ VALVE BOX
B100: บ่อ VALVE BOX 1 (ประกอบด้วย)
B101: - บ่อวาวล์ | C101: 1 | D101: บ่อ | E101: 3500 | F101: =SUM(E101*C101) -> 3500 | G101: - | H101: - | I101: =SUM(F101) -> 3500
B102: - GATE VALVE Ø 2" | C102: 2 | D102: ชุด | E102: 7850 | F102: =SUM(E102*C102) -> 15700 | G102: - | H102: - | I102: =SUM(F102) -> 15700
B103: - MODULATING FLOAT VALVE Ø 2" | C103: 1 | D103: ชุด | E103: 22000 | F103: =SUM(E103*C103) -> 22000 | G103: - | H103: - | I103: =SUM(F103) -> 22000
B104: - STUBEND Ø 63 mm. | C104: 2 | D104: ชุด | E104: 689 | F104: =SUM(E104*C104) -> 1378 | G104: - | H104: - | I104: =SUM(F104) -> 1378
B105: - งานอื่นๆ | C105: 1 | D105: งาน | E105: 2100 | F105: =SUM(E105*C105) -> 2100 | G105: - | H105: - | I105: =SUM(F105) -> 2100
B106: - บ่อ VALVE BOX 2 (ประกอบด้วย)
B107: - บ่อวาวล์ | C107: 1 | D107: บ่อ | E107: 2200 | F107: =SUM(E107*C107) -> 2200 | G107: - | H107: - | I107: =SUM(F107) -> 2200
B108: - GATE VALVE Ø 2" | C108: 2 | D108: ชุด | E108: 7850 | F108: =SUM(E108*C108) -> 15700 | G108: - | H108: - | I108: =SUM(F108) -> 15700
B109: - CHECK VALVE Ø 2" | C109: 1 | D109: ชุด | E109: 6980 | F109: =SUM(E109*C109) -> 6980 | G109: - | H109: - | I109: =SUM(F109) -> 6980
B110: - STUBEND Ø 63 mm. | C110: 2 | D110: ชุด | E110: 689 | F110: =SUM(E110*C110) -> 1378 | G110: - | H110: - | I110: =SUM(F110) -> 1378
B111: - งานอื่นๆ | C111: 1 | D111: งาน | E111: 1300 | F111: =SUM(E111*C111) -> 1300 | G111: - | H111: - | I111: =SUM(F111) -> 1300
B112: อุปกรณ์ประกอบ GSP
...

Sheet โรงจอดรถ 
A1: แบบแสดงรายการปริมาณงานและราคา
A2: กลุ่มงาน | B2: งานอาคาร
A3: ชื่อโครงการ | B3: =+'แบบ ปร.6'!B2 -> งานก่อสร้างอาคารกองบังคับการ กอง รปภ.สพ.ทร. จำนวน 1 หลัง | F3: แบบเลขที่ | G3: 62 - 2 - 094
A4: สถานที่ | B4: =+'แบบ ปร.6'!B3 -> อ.สัตหีบ จว.ชลบุรี | C4: หน่วยงานเจ้าของโครงการ | F4: =+'แบบ ปร.6'!C5 -> สพ.ทร.
A6: ลำดับที่ | B6: รายการ | C6: จำนวน | D6: หน่วย | E6: ค่าวัสดุ (บาท ) | G6: ค่าแรงงาน (บาท ) | I6: รวม (บาท ) | J6: หมายเหตุ
E7: ราคาหน่วยละ | F7: จำนวนเงิน | G7: ราคาหน่วยละ | H7: จำนวนเงิน | I7: วัสดุและแรงงาน
B8: โรงจอดรถขนาดความยาว 20 เมตร
B9: งานโครงสร้าง ค.ส.ล. และฐานราก
B10: - งานขุดดินและถมคืน | C10: 15 | D10: ลบ.ม. | E10: 0 | F10: =+E10*C10 -> 0 | G10: 99 | H10: =+G10*C10 -> 1485 | I10: =+H10+F10 -> 1485
B11: - ทรายหยาบบดอัดแน่น | C11: 1 | D11: ลบ.ม. | E11: 537 | F11: =+E11*C11 -> 537 | G11: 99 | H11: =+G11*C11 -> 99 | I11: =+H11+F11 -> 636
B12: - คอนกรีตหยาบ | C12: 0.5 | D12: ลบ.ม. | E12: 2065 | F12: =+E12*C12 -> 1032.5 | G12: 398 | H12: =+G12*C12 -> 199 | I12: =+H12+F12 -> 1231.5
B13: - คอนกรีตโครงสร้าง (240 ksc) | C13: 4 | D13: ลบ.ม. | E13: 2140 | F13: =+E13*C13 -> 8560 | G13: 485 | H13: =+G13*C13 -> 1940 | I13: =+H13+F13 -> 10500
B14: - แบบหล่อคอนกรีต | C14: 18 | D14: ตร.ม. | E14: 200 | F14: =+E14*C14 -> 3600 | G14: 133 | H14: =+G14*C14 -> 2394 | I14: =+H14+F14 -> 5994
B15: - เหล็กเสริมคอนกรีต
B16: DB 12 mm. | C16: 0.145 | D16: ตัน | E16: 21307 | F16: =+E16*C16 -> 3089.515 | G16: 3300 | H16: =+G16*C16 -> 478.5 | I16: =+H16+F16 -> 3568.015
B17: RB 9 mm. | C17: 0.065 | D17: ตัน | E17: 21379 | F17: =+E17*C17 -> 1389.635 | G17: 4100 | H17: =+G17*C17 -> 266.5 | I17: =+H17+F17 -> 1656.135
B18: RB 6 mm. | C18: 0.02 | D18: ตัน | E18: 21980 | F18: =+E18*C18 -> 439.6 | G18: 4100 | H18: =+G18*C18 -> 82 | I18: =+H18+F18 -> 521.6
B19: - ตะปู | C19: 4 | D19: กก. | E19: 47 | F19: =+E19*C19 -> 188 | G19: 0 | H19: =+G19*C19 -> 0 | I19: =+H19+F19 -> 188
B20: - ลวดผูกเหล็ก | C20: 7 | D20: กก. | E20: 31 | F20: =+E20*C20 -> 217 | G20: 0 | H20: =+G20*C20 -> 0 | I20: =+H20+F20 -> 217
B26: รวม | F26: =SUM(F10:F25) -> 19053.25 | H26: =SUM(H10:H25) -> 6944 | K26: =+H26+F26 -> 25997.25
B27: รวมเงินหน้านี้ | I27: =SUM(I10:I26) -> 25997.25
B28: งานโครงสร้างเหล็กรูปพรรณ
B29: - PL 200x200x10 พร้อม 4-M12 A325 ยาว 0.45 ม. | C29: 10 | D29: ชุด | E29: 680 | F29: =+E29*C29 -> 6800 | G29: 0 | H29: =+G29*C29 -> 0 | I29: =+H29+F29 -> 6800
B30: - เหล็ก CABON STEEL PIPE
B31: ขนาด f 3 นิ้ว | C31: 410 | D31: กก. | E31: 21 | F31: =+E31*C31 -> 8610 | G31: 0 | H31: =+G31*C31 -> 0 | I31: =+H31+F31 -> 8610
B32: ขนาด f 2 นิ้ว | C32: 655 | D32: กก. | E32: 21 | F32: =+E32*C32 -> 13755 | G32: 0 | H32: =+G32*C32 -> 0 | I32: =+H32+F32 -> 13755
B33: - C 100 x 50 x 20 x 2.3 มม. | C33: 420 | D33: กก. | E33: 21 | F33: =+E33*C33 -> 8820 | G33: 0 | H33: =+G33*C33 -> 0 | I33: =+H33+F33 -> 8820
B34: - SAG ROD RB 6 mm @ MID SPAN ยาวประมาณ 1.25 ม. | C34: 16 | D34: ชุด | E34: 20 | F34: =SUM(C34*E34) -> 320 | G34: - | H34: - | I34: =SUM(F34) -> 320
B35: - TIE ROD DB 9 / W TURN BUCKLE Ø 3/8 ยาวประมาณ 7.50 ม. | C35: 8 | D35: ชุด | E35: 1200 | F35: =SUM(C35*E35) -> 9600 | G35: - | H35: - | I35: =SUM(F35) -> 9600
B36: - ค่าแรงประกอบ | C36: =SUM(C31:C33) -> 1485 | D36: กก. | E36: 0 | F36: =+E36*C36 -> 0 | G36: 10 | H36: =+G36*C36 -> 14850 | I36: =+H36+F36 -> 14850
B37: - สีกันสนิมและสีน้ำมันทับหน้า | C37: 88 | D37: ตร.ม. | E37: 150 | F37: =+E37*C37 -> 13200 | G37: วัสดุ + แรรงาน | I37: =+H37+F37 -> 13200
B39: งานมุงหลังคา
B40: - หลังคา METAL SHEET หนา 0.47 มม. | C40: 104 | D40: ตร.ม. | E40: 335 | F40: =+E40*C40 -> 34840 | G40: 70 | H40: =+G40*C40 -> 7280 | I40: =+H40+F40 -> 42120
B41: - ปิดข้าง METAL SHEET | C41: 10.4 | D41: ม. | E41: 265 | F41: =+E41*C41 -> 2756 | G41: 50 | H41: =+G41*C41 -> 520 | I41: =+H41+F41 -> 3276
B42: - ปิดสันบน METAL SHEET | C42: 20 | D42: ม. | E42: 265 | F42: =+E42*C42 -> 5300 | G42: 50 | H42: =+G42*C42 -> 1000 | I42: =+H42+F42 -> 6300
B46: รวม | F46: =SUM(F29:F44) -> 104001 | H46: =SUM(H29:H44) -> 23650
B47: รวมเงินหน้านี้ | I47: =SUM(I29:I46) -> 127651 | K47: =+I47+I27 -> 153648.25

Sheet ถนน+ลาน+ภูมิทัศน์
A1: แบบแสดงรายการปริมาณงานและราคา
A2: กลุ่มงาน | B2: งานอาคาร
A3: ชื่อโครงการ | B3: =+'แบบ ปร.6'!B2 -> งานก่อสร้างอาคารกองบังคับการ กอง รปภ.สพ.ทร. จำนวน 1 หลัง | F3: แบบเลขที่ | G3: =+'โรงจอดรถ '!G3 -> 62 - 2 - 094
A4: สถานที่ | B4: =+'แบบ ปร.6'!B3 -> อ.สัตหีบ จว.ชลบุรี | C4: หน่วยงานเจ้าของโครงการ | F4: =+'แบบ ปร.6'!C5 -> สพ.ทร.
A6: ลำดับที่ | B6: รายการ | C6: จำนวน | D6: หน่วย | E6: ค่าวัสดุ (บาท ) | G6: ค่าแรงงาน (บาท ) | I6: รวม (บาท ) | J6: หมายเหตุ
E7: ราคาหน่วยละ | F7: จำนวนเงิน | G7: ราคาหน่วยละ | H7: จำนวนเงิน | I7: วัสดุและแรงงาน
B8: งานภูมิสถาปัตยกรรม
B9: - งานถากทาง กำจัดวัชพืช และสิ่งกีดขวางงานก่อสร้าง | C9: 2830 | D9: ตร.ม. | E9: - | F9: - | G9: 10 | H9: =SUM(C9*G9) -> 28300 | I9: =SUM(H9) -> 28300
B10: - งานถมดินพร้อมบดอัดแน่น | C10: 2925 | D10: ลบ.ม. | E10: 200 | F10: =+E10*C10 -> 585000 | G10: - | H10: - | I10: =SUM(F10) -> 585000
B11: - งานบดอัดแน่นดินถม | C11: 2245 | D11: ตร.ม. | E11: - | F11: - | G11: 40 | H11: =SUM(C11*G11) -> 89800 | I11: =SUM(H11) -> 89800
B12: - งานขอบคัน ค.ส.ล. | C12: 460 | D12: ม. | E12: 250 | F12: =SUM(C12*E12) -> 115000 | G12: วัสดุ + | H12: แรงงาน | I12: =SUM(F12) -> 115000
B13: - งานปรับระดับดินพร้อมปลูกหญ้านวลน้อย | C13: 204 | D13: ตร.ม. | E13: 60 | F13: =SUM(C13*E13) -> 12240 | G13: วัสดุ + | H13: แรงงาน | I13: =SUM(F13) -> 12240
B14: - แท่งคอนครีตหยุดล้อรถ (Wheel Stopper) พร้อมอุปกรณ์ยึด | C14: 16 | D14: ชุด | E14: 150 | F14: =SUM(C14*E14) -> 2400 | G14: วัสดุ + | H14: แรงงาน | I14: =SUM(F14) -> 2400
B15: - ตีเส้นแบ่งที่จอดรถ | C15: 84 | D15: ม. | E15: 35 | F15: =SUM(C15*E15) -> 2940 | G15: วัสดุ + | H15: แรงงาน | I15: =SUM(F15) -> 2940
B16: งานพื้นทางเท้า ค.ส.ล. หนา 0.10 ม. ผิวขัดมันเรียบตีเส้น (212 ตร.ม.)
B17: - ทรายปรับระดับบดอัดแน่น | C17: 14 | D17: ลบ.ม. | E17: 537 | F17: =+E17*C17 -> 7518 | G17: 99 | H17: =+G17*C17 -> 1386 | I17: =+H17+F17 -> 8904
B18: - คอนกรีตโครงสร้าง (240 ksc) | C18: 25 | D18: ลบ.ม. | E18: 2140 | F18: =+E18*C18 -> 53500 | G18: 306 | H18: =+G18*C18 -> 7650 | I18: =+H18+F18 -> 61150
B19: - เหล็ก wire mesh Ø 4 mm. @ 0.20 ม. | C19: 265 | D19: ตร.ม. | E19: 47 | F19: =+E19*C19 -> 12455 | G19: 5 | H19: =+G19*C19 -> 1325 | I19: =+H19+F19 -> 13780
B20: - ผิวขัดมันเรียบตีเส้น | C20: 212 | D20: ตร.ม. | E20: 100 | F20: =+E20*C20 -> 21200 | G20: 82 | H20: =+G20*C20 -> 17384 | I20: =+H20+F20 -> 38584
B25: รวม | F25: =SUM(F9:F24) -> 812253 | H25: =SUM(H9:H24) -> 145845 | K25: =+H25+F25 -> 958098
B26: รวมเงินหน้านี้ | I26: =SUM(I9:I25) -> 958098
B27: งานถนนและลาน ค.ส.ล. (ถนนและลาน = 1,010 ตร.ม.) | K27: รวม 2 พื้นที่แล้ว
B28: - ค่าแรงบดอัดแน่นดินเดิม | C28: 1010 | D28: ตร.ม. | E28: - | F28: - | G28: 20 | H28: =SUM(G28*C28) -> 20200 | I28: =SUM(H28) -> 20200
B29: - หินคลุก | C29: 243 | D29: ลบ.ม. | E29: 210 | F29: =+E29*C29 -> 51030 | G29: 99 | H29: =+G29*C29 -> 24057 | I29: =+H29+F29 -> 75087
B30: - บดอัดหินคลุก | C30: 1010 | D30: ตร.ม. | E30: 0 | F30: =+E30*C30 -> 0 | G30: 20 | H30: =+G30*C30 -> 20200 | I30: =+H30+F30 -> 20200
B31: - ทรายปรับระดับบดอัดแน่น | C31: 132 | D31: ลบ.ม. | E31: 537 | F31: =+E31*C31 -> 70884 | G31: 99 | H31: =+G31*C31 -> 13068 | I31: =+H31+F31 -> 83952
B32: - คอนกรีตโครงสร้าง (240 ksc) | C32: 160 | D32: ลบ.ม. | E32: 2140 | F32: =+E32*C32 -> 342400 | G32: 306 | H32: =+G32*C32 -> 48960 | I32: =+H32+F32 -> 391360
B33: - เหล็ก wire mesh Ø 4 mm. @ 0.20 ม. | C33: 1010 | D33: ตร.ม. | E33: 47 | F33: =+E33*C33 -> 47470 | G33: 5 | H33: =+G33*C33 -> 5050 | I33: =+H33+F33 -> 52520
B34: - ปูแผ่นพลาสติก | C34: 285 | D34: ตร.ม. | E34: 70 | F34: =+E34*C34 -> 19950 | G34: วัสดุ + แรงงาน | I34: =+H34+F34 -> 19950
B35: - เหล็ก DB 16 mm. TIE BAR ยาว 0.40 ม. | C35: 424 | D35: ท่อน | E35: 25 | F35: =+E35*C35 -> 10600 | G35: วัสดุ + แรงงาน | I35: =+H35+F35 -> 10600
B36: - SAWED JOND รอยต่อคอนกรีตหยอดด้วยแอสฟัลท์ผสมทราย | C36: 250 | D36: ม. | E36: 35 | F36: =SUM(C36*E36) -> 8750 | G36: วัสดุ + แรงงาน | I36: =+H36+F36 -> 8750
B44: รวม | F44: =SUM(F27:F42) -> 551084 | H44: =SUM(H27:H42) -> 131535 | K44: =+H44+F44 -> 682619
B45: รวมเงินหน้านี้ | I45: =SUM(I27:I44) -> 682619 | K45: =+I45+I26 -> 1640717
B49: - งานถากทาง กำจัดวัชพืช ปรับระดับดินเดิมพร้อมบดอัดแน่น
B51: - รอยต่อคอนกรีตหยอดด้วยแอสฟัลท์ผสมทราย
B52: - ยาแนวแอสฟัลท์ผสมทราย คั้นด้วยโฟมหนา 2 ซม.

Sheet ฟฟ.ภนอ.
A1: แบบแสดงรายการปริมาณงานและราคา
A2: กลุ่มงาน | B2: งานอาคาร
A3: ชื่อโครงการ | B3: =+'แบบ ปร.6'!B2 -> งานก่อสร้างอาคารกองบังคับการ กอง รปภ.สพ.ทร. จำนวน 1 หลัง | F3: แบบเลขที่ | G3: 62 - 5 - 036
A4: สถานที่ | B4: =+'แบบ ปร.6'!B3 -> อ.สัตหีบ จว.ชลบุรี | C4: หน่วยงานเจ้าของโครงการ | F4: =+'แบบ ปร.6'!C5 -> สพ.ทร.
A6: ลำดับที่ | B6: รายการ | C6: จำนวน | D6: หน่วย | E6: ค่าวัสดุ (บาท ) | G6: ค่าแรงงาน (บาท ) | I6: รวม (บาท ) | J6: หมายเหตุ
E7: ราคาหน่วยละ | F7: จำนวนเงิน | G7: ราคาหน่วยละ | H7: จำนวนเงิน | I7: วัสดุและแรงงาน
B8: ระบบไฟฟ้าภายนอก
B9: - เสาไฟฟ้าแรงสูง คอร. ขนาด 12.20 ม. | C9: 2 | D9: ต้น | E9: 7900 | F9: =SUM(C9*E9) -> 15800 | G9: - | H9: - | I9: =SUM(F9) -> 15800
B10: - คอนสปัน คอร. รับสายแรงสูง. | C10: 5 | D10: ชุด | E10: 410 | F10: =SUM(C10*E10) -> 2050 | G10: - | H10: - | I10: =SUM(F10) -> 2050
B11: - เหล็กประกับไม้คอน 1 1/4" x 1/4" x 36" | C11: 8 | D11: ชุด | E11: 100 | F11: =SUM(C11*E11) -> 800 | G11: - | H11: - | I11: =SUM(F11) -> 800
B12: - DROP FUSE | C12: 3 | D12: ชุด | E12: 5950 | F12: =SUM(C12*E12) -> 17850 | G12: - | H12: - | I12: =SUM(F12) -> 17850
B13: - FUSE LINK | C13: 3 | D13: ชุด | E13: 250 | F13: =SUM(C13*E13) -> 750 | G13: - | H13: - | I13: =SUM(F13) -> 750
B14: - LIGHTNING ARRESTER (HV) | C14: 3 | D14: ชุด | E14: 4200 | F14: =SUM(C14*E14) -> 12600 | G14: - | H14: - | I14: =SUM(F14) -> 12600
B15: - LINE POST INSULATOR | C15: 6 | D15: ชุด | E15: 720 | F15: =SUM(C15*E15) -> 4320 | G15: - | H15: - | I15: =SUM(F15) -> 4320
B16: - SUSPENSION INSULATOR | C16: 24 | D16: ชุด | E16: 480 | F16: =SUM(C16*E16) -> 11520 | G16: - | H16: - | I16: =SUM(F16) -> 11520
B17: - HOT LINE CLAMP | C17: 3 | D17: ชุด | E17: 255 | F17: =C17*E17 -> 765 | G17: - | H17: - | I17: =SUM(F17) -> 765
B18: - BAIL CLAMP | C18: 3 | D18: ชุด | E18: 320 | F18: =C18*E18 -> 960 | G18: - | H18: - | I18: =SUM(F18) -> 960
B19: - 100kVA. 22kV. 400/230V.AC. 3Ph. 4Wire 50Hz. OIL-IMMERSED TYPE | C19: 1 | D19: ชุด | E19: 120000 | F19: =SUM(C19*E19) -> 120000 | G19: - | H19: - | I19: =SUM(F19) -> 120000
B20: - GROUND ROD HIGH VOLT & LOW VOLT | C20: 1 | D20: ชุด | E20: 5600 | F20: =C20*E20 -> 5600 | G20: - | H20: - | I20: =SUM(F20) -> 5600
B27: รวม | F27: =SUM(F9:F26) -> 193015 | H27: =SUM(H10:H23) -> 0 | K27: =SUM(F27+H27) -> 193015
B28: รวมเงินหน้านี้ | I28: =SUM(I9:I26) -> 193015
B29: ระบบไฟฟ้าภายนอก (ต่อ)
B30: ตู้ MDB -1
B31: - ตู้ MIAN DISTRIBUTION BOARD (OUTDOOR TYPE) และ
B32: 300 A. 230/400 V.AC. 3 Ø - 4 W. 50 HZ. CU. BUS BAR FN./HG. 1 ชุด
B33: - 200 AT/250 AF 3P. MCCB 25 kA. IC 1 ชุด
B34: - 175 AT/100 AF 3P. MCCB 25 kA. IC 1 ชุด
B35: - 30 AT/100 AF 3P. MCCB 30 kA. IC 4 ชุด
B36: - 200/5A CURRENT TRANSFORMER 3 ชุด | C36: 1 | D36: ตู้ | E36: 235297 | F36: =C36*E36 -> 235297 | G36: - | H36: - | I36: =SUM(F36) -> 235297
B37: - DIGITAL METERING DEVICE (I,V,F,PF,P,Q,E) 1 ชุด
B38: - FUSE 6 A 3 ชุด
B39: - PILOT LAMP 3 ชุด
B40: - 125 A. HRC. FUSES 3ชุด
B41: - 50 kA. 3P. 4W. SURGE PROTECTION DEVICE (CLASS I+II) 1 ชุด
B42: SLCP 1,2,3 ติดตั้งภายในตู้ MDB-1 พร้อมอปกรณ์ ตามแบบ
B43: - GROUNDING SYSTEM | C43: 1 | D43: งาน | E43: 2200 | F43: =SUM(C43*E43) -> 2200 | G43: - | H43: - | I43: =SUM(F43) -> 2200
B44: - ฐาน คสล. รองรับตู้ MDB | C44: 1 | D44: งาน | E44: 5000 | F44: =SUM(C44*E44) -> 5000 | G44: - | H44: - | I44: =SUM(F44) -> 5000
B45: - โคมไฟถนน LED TUBE ขนาดไม่น้อยกว่า 2x18 วัตต์พร้อมก้าน 1.20 เมตร | C45: 2 | D45: ชุด | E45: 2000 | F45: =SUM(C45*E45) -> 4000 | G45: - | H45: - | I45: =SUM(F45) -> 4000
B46: - ดวงโคมกล่องเหล็ก พร้อมครอบ หลอด LED TUBE
B47: ขนาดไม่น้อยกว่า 18 วัตต์จำนวน 1 หลอด | C47: 3 | D47: ชุด | E47: 960 | F47: =SUM(C47*E47) -> 2880 | G47: - | H47: - | I47: =SUM(F47) -> 2880
B49: รวม | F49: =SUM(F29:F47) -> 249377 | H49: =SUM(H30:H44) -> 0 | K49: =SUM(F49+H49) -> 249377
B50: รวมเงินหน้านี้ | I50: =SUM(I30:I49) -> 249377
B51: ระบบไฟฟ้าภายนอก ต่อ
B52: - โคมไฟถนน หลอด LED ขนาดไม่น้อยกว่า 100 วัตต์ พร้อมเสาเหล็กชุบกัลวาไนช์
B53: ยาวไม่น้อยกว่า 6 เมตร และฐาน คสล. | C53: 9 | D53: ชุด | E53: 18000 | F53: =SUM(C53*E53) -> 162000 | G53: - | H53: - | I53: =SUM(F53) -> 162000
B54: - GROUNDING ROD (เสาโคมไฟ) | C54: 9 | D54: ชุด | E54: 800 | F54: =SUM(C54*E54) -> 7200 | G54: - | H54: - | I54: =SUM(F54) -> 7200
B55: สายไฟฟ้าและท่อร้อยสายไฟฟ้า
B56: - 2.5 Sq.mm. IEC-01 | C56: 36 | D56: เมตร | E56: 8 | F56: =SUM(C56*E56) -> 288 | G56: - | H56: - | I56: =SUM(F56) -> 288
B57: - 4 Sq.mm. IEC-01 | C57: 71 | D57: เมตร | E57: 12 | F57: =SUM(C57*E57) -> 852 | G57: - | H57: - | I57: =SUM(F57) -> 852
B58: - 6 Sq.mm. IEC-01 | C58: 67 | D58: เมตร | E58: 28 | F58: =SUM(C58*E58) -> 1876 | G58: - | H58: - | I58: =SUM(F58) -> 1876
B59: - 6 Sq.mm. CV. XLPE 0.6 / 1.0 kV. | C59: 1004 | D59: เมตร | E59: 33 | F59: =SUM(C59*E59) -> 33132 | G59: - | H59: - | I59: =SUM(F59) -> 33132
B60: - 70 Sq.mm. CV. XLPE 0.6 / 1.0 kV. | C60: 115 | D60: เมตร | E60: 263 | F60: =SUM(C60*E60) -> 30245 | G60: - | H60: - | I60: =SUM(F60) -> 30245
B61: - 95 Sq.mm. CV. XLPE 0.6 / 1.0 kV. | C61: 37 | D61: เมตร | E61: 362 | F61: =SUM(C61*E61) -> 13394 | G61: - | H61: - | I61: =SUM(F61) -> 13394
B62: - 50 Sq.mm. SAC 25kV | C62: 166 | D62: เมตร | E62: 218 | F62: =C62*E62 -> 36188 | G62: - | H62: - | I62: =SUM(F62) -> 36188
B63: - ท่อ ขนาด ø 1/2" IMC | C63: 11 | D63: ท่อน | E63: 162 | F63: =SUM(C63*E63) -> 1782 | G63: - | H63: - | I63: =SUM(F63) -> 1782
B64: - ท่อ ขนาด ø 3/4" IMC | C64: 3 | D64: ท่อน | E64: 216 | F64: =SUM(C64*E64) -> 648 | G64: - | H64: - | I64: =SUM(F64) -> 648
B65: - ท่อ ขนาด ø 2 1/2" IMC | C65: 4 | D65: ท่อน | E65: 1491 | F65: =SUM(C65*E65) -> 5964 | G65: - | H65: - | I65: =SUM(F65) -> 5964
B66: - ท่อ ขนาด ø 3" IMC | C66: 3 | D66: ท่อน | E66: 1846 | F66: =SUM(C66*E66) -> 5538 | G66: - | H66: - | I66: =SUM(F66) -> 5538
B67: - ท่อ ขนาด ø 40 mm. HDPE | C67: 286 | D67: เมตร | E67: 34 | F67: =SUM(C67*E67) -> 9724 | G67: - | H67: - | I67: =SUM(F67) -> 9724
B68: - ท่อ ขนาด ø 90 mm. HDPE | C68: 18 | D68: เมตร | E68: 166 | F68: =SUM(C68*E68) -> 2988 | G68: - | H68: - | I68: =SUM(F68) -> 2988
B70: รวม | F70: =SUM(F52:F68) -> 311819 | K70: =SUM(F70+H70) -> 311819
B71: รวมเงินหน้านี้ | I71: =SUM(I52:I70) -> 311819
B72: ระบบไฟฟ้าภายนอก ต่อ
B73: - PREFORMED DEAD END 50 Sq.mm. | C73: 6 | D73: ชุด | E73: 166 | F73: =SUM(C73*E73) -> 996 | G73: - | H73: - | I73: =SUM(F73) -> 996
B74: - SERVICE ENTRANCE ø 3" | C74: 1 | D74: ชุด | E74: 150 | F74: =SUM(C74*E74) -> 150 | G74: - | H74: - | I74: =SUM(F74) -> 150
B75: - SECONDARY RACK 2 SPOON | C75: 3 | D75: ชุด | E75: 200 | F75: =SUM(C75*E75) -> 600 | G75: - | H75: - | I75: =SUM(F75) -> 600
B76: - PULL BOX (HOT-DIP GALVANIZED) | C76: 4 | D76: ชุด | E76: 686 | F76: =SUM(C76*E76) -> 2744 | G76: - | H76: - | I76: =SUM(F76) -> 2744
B77: - HAND HOLE TYPE D42S | C77: 10 | D77: ชุด | E77: 6000 | F77: =SUM(C77*E77) -> 60000 | G77: วัสดุ + แรงงาน | I77: =SUM(F77) -> 60000
B78: -งานรางวางท่อร้อยสายไฟพื้นดิน (รายละเอียดตามแบบ) | C78: 74 | D78: เมตร | E78: 300 | F78: =C78*E78 -> 22200 | G78: วัสดุ + แรงงาน | I78: =SUM(F78) -> 22200
B79: -งานรางวางท่อร้อยสายไฟพื้นถนน (รายละเอียดตามแบบ) | C79: 47 | D79: เมตร | E79: 400 | F79: =C79*E79 -> 18800 | G79: วัสดุ + แรงงาน | I79: =SUM(F79) -> 18800
B80: - อุปกรณ์ประกอบและอื่นๆ | C80: 1 | D80: งาน | E80: 63000 | F80: =SUM(C80*E80) -> 63000 | G80: - | H80: - | I80: =SUM(F80) -> 63000
B81: - ค่าติดตั้งระบบไฟฟ้าภายนอก | C81: 1 | D81: งาน | E81: - | F81: - | G81: 110000 | H81: =SUM(C81*G81) -> 110000 | I81: =SUM(H81) -> 110000
B82: งานสื่อสารภายนอก
B83: - 40 Pairs TELEPHONE CABINET with SURGE ARRESTER (TC1,2) | C83: 2 | D83: ตู้ | E83: 15000 | F83: =SUM(C83*E83) -> 30000 | G83: - | H83: - | I83: =SUM(F83) -> 30000
B84: - สายโทรศัพท์ 40 PAIR AP (FSF) | C84: 25 | D84: เมตร | E84: 280 | F84: =SUM(C84*E84) -> 7000 | G84: - | H84: - | I84: =SUM(F84) -> 7000
B85: - ท่อ Ø 3/4" IMC | C85: 4 | D85: ท่อน | E85: 216 | F85: =C85*E85 -> 864 | G85: - | H85: - | I85: =SUM(F85) -> 864
B86: - ท่อ Ø 90 mm HDPE | C86: 15 | D86: เมตร | E86: 116 | F86: =C86*E86 -> 1740 | G86: - | H86: - | I86: =SUM(F86) -> 1740
B87: '- SERVICE ENTRANCE ø 3/4" | C87: 1 | D87: ชุด | E87: 45 | F87: =SUM(C87*E87) -> 45 | G87: - | H87: - | I87: =SUM(F87) -> 45
B88: - อุปกรณ์ประกอบและอื่น ๆ | C88: 1 | D88: งาน | E88: 6000 | F88: =C88*E88 -> 6000 | G88: - | H88: - | I88: =SUM(F88) -> 6000
B89: - ค่าแรงระบบสื่อสารภายนอก | C89: 1 | D89: งาน | E89: - | F89: - | G89: 9000 | H89: =SUM(G89*C89) -> 9000 | I89: =SUM(H89) -> 9000
B91: รวม | F91: =SUM(F73:F89) -> 214139 | H91: =SUM(H73:H89) -> 119000 | K91: =SUM(F91+H91) -> 333139
B92: รวมเงินหน้านี้ | I92: =SUM(I72:I90) -> 333139
B93: งานระบบ GROUNDING SYSTEM (กราวด์ตาข่าย)
B94: - CU.BUS BAR TIN COVER 50x6mm.L≈0.50 m.W/INSULATION SUPPORTER | C94: 1 | D94: ชุด | E94: 2000 | F94: =SUM(C94*E94) -> 2000 | G94: - | H94: - | I94: =SUM(F94) -> 2000
B95: - 50 Sq.mm. CU.GROUND WIRE | C95: 67 | D95: เมตร | E95: 229 | F95: =SUM(C95*E95) -> 15343 | G95: - | H95: - | I95: =SUM(F95) -> 15343
B96: - 70 Sq.mm. ANNEALED COPPER CLAD STEEL WIRE | C96: 60 | D96: เมตร | E96: 200 | F96: =SUM(C96*E96) -> 12000 | G96: - | H96: - | I96: =SUM(F96) -> 12000
B97: - ø 5/8''-8' COPPER 357 MICRON CLAD STEEL GROUND ROD | C97: 8 | D97: ชุด | E97: 1000 | F97: =SUM(C97*E97) -> 8000 | G97: - | H97: - | I97: =SUM(F97) -> 8000
B98: - EXOTERMIC WELDINGS | C98: 49 | D98: ชุด | E98: 200 | F98: =SUM(C98*E98) -> 9800 | G98: - | H98: - | I98: =SUM(F98) -> 9800
B99: - ท่อ ขนาด ø 1" IMC | C99: 2 | D99: ท่อน | E99: 291 | F99: =SUM(C99*E99) -> 582 | G99: - | H99: - | I99: =SUM(F99) -> 582
B100: - ท่อ ขนาด ø 1" PVC | C100: 16 | D100: ท่อน | E100: 58 | F100: =SUM(C100*E100) -> 928 | G100: - | H100: - | I100: =SUM(F100) -> 928
B101: - อุปกรณ์ประกอบและอื่นๆ | C101: 1 | D101: ชุด | E101: 6000 | F101: =SUM(C101*E101) -> 6000 | G101: - | H101: - | I101: =SUM(F101) -> 6000
B102: - ค่าแรงติดตั้ง GROUNDING SYSTEM (กราวด์ตาข่าย) | C102: 1 | D102: งาน | E102: - | F102: - | G102: 9000 | H102: =SUM(G102*C102) -> 9000 | I102: =SUM(H102) -> 9000
B112: รวม | F112: =SUM(F94:F110) -> 54653 | H112: =SUM(H94:H110) -> 9000 | K112: =SUM(F112+H112) -> 63653
B113: รวมเงินหน้านี้ | I113: =SUM(I94:I112) -> 63653
I116: =SUM(I28+I50+I71+I92+I113) -> 1151003

Sheet ปป.ภายนอก
A1: แบบแสดงรายการปริมาณงานและราคา | L1: 304000
A2: กลุ่มงาน | B2: งานอาคาร
A3: ชื่อโครงการ | B3: =+'แบบ ปร.6'!B2 -> งานก่อสร้างอาคารกองบังคับการ กอง รปภ.สพ.ทร. จำนวน 1 หลัง | F3: แบบเลขที่ | G3: 62 - 4 - 016
A4: สถานที่ | B4: =+'แบบ ปร.6'!B3 -> อ.สัตหีบ จว.ชลบุรี | C4: หน่วยงานเจ้าของโครงการ | F4: =+'แบบ ปร.6'!C5 -> สพ.ทร.
A6: ลำดับที่ | B6: =+ปป.ภายใน!B6 -> รายการ | C6: จำนวน | D6: หน่วย | E6: ค่าวัสดุ (บาท ) | G6: ค่าแรงงาน (บาท ) | I6: รวม (บาท ) | J6: หมายเหตุ
E7: ราคาหน่วยละ | F7: จำนวนเงิน | G7: ราคาหน่วยละ | H7: จำนวนเงิน | I7: วัสดุและแรงงาน
B8: งานประปาภายนอก
B9: HDPE PE100,PN10
B10: - Ø 63 mm. | C10: 36 | D10: เมตร | E10: 86 | F10: =SUM(E10*C10) -> 3096 | G10: 75 | H10: =SUM(G10*C10) -> 2700 | I10: =SUM(H10+F10) -> 5796
B11: - Ø 110 mm. | C11: 42 | D11: เมตร | E11: 248 | F11: =SUM(E11*C11) -> 10416 | G11: 150 | H11: =SUM(G11*C11) -> 6300 | I11: =SUM(H11+F11) -> 16716
B12: GSP(Sleeve)
B13: - Ø 4 " | C13: 7 | D13: เมตร | E13: 401 | F13: =SUM(E13*C13) -> 2807 | G13: 200 | H13: =SUM(G13*C13) -> 1400 | I13: =SUM(H13+F13) -> 4207
B14: - Ø 6 " (พร้อมปรับพื้นผิวถนนให้พร้อมใช้งาน) | C14: 6 | D14: เมตร | E14: 1270 | F14: =SUM(E14*C14) -> 7620 | G14: - | H14: - | I14: =SUM(F14) -> 7620
B15: อุปกรณ์ข้อต่อ HDPE (สวมอัด)
B16: - ข้อต่อ 90° Ø 63 x 63 mm. | C16: 1 | D16: อัน | E16: 359 | F16: =SUM(C16*E16) -> 359 | G16: - | H16: - | I16: =SUM(F16) -> 359
B17: - ข้อต่อตรงลด Ø 90 x 63 mm. | C17: 1 | D17: อัน | E17: 550 | F17: =SUM(C17*E17) -> 550 | G17: - | H17: - | I17: =SUM(F17) -> 550
B18: - ข้อต่อตรงลด Ø 110 x 90 mm. | C18: 1 | D18: อัน | E18: 900 | F18: =SUM(C18*E18) -> 900 | G18: - | H18: - | I18: =SUM(F18) -> 900
B19: - ข้อต่อ 3 ทาง T Ø 110 x 110 x 110 mm. | C19: 1 | D19: อัน | E19: 1250 | F19: =SUM(C19*E19) -> 1250 | G19: - | H19: - | I19: =SUM(F19) -> 1250
B20: อุปกรณ์ประกอบ
B21: มาตรวัดน้ำประปา
B22: - GATE VALVE Ø 2" | C22: 2 | D22: ชุด | E22: 3565 | F22: =SUM(E22*C22) -> 7130 | G22: 400 | H22: =SUM(G22*C22) -> 800 | I22: =SUM(H22+F22) -> 7930
B23: - WATER METER Ø 2" | C23: 1 | D23: ชุด | E23: 6000 | F23: =SUM(E23*C23) -> 6000 | G23: 400 | H23: =SUM(G23*C23) -> 400 | I23: =SUM(H23+F23) -> 6400
B25: รวม | F25: =SUM(F10:F24) -> 40128 | H25: =SUM(H10:H24) -> 11600 | K25: =SUM(H25+F25) -> 51728
B26: รวมเงินหน้านี้ | I26: =SUM(I10:I25) -> 51728
B27: งานประปาภายนอก (ต่อ)
B28: อุปกรณ์ประกอบ
B29: มาตรวัดน้ำประปา (ต่อ)
B30: - STRAINER Ø 2" | C30: 1 | D30: ชุด | E30: 3035 | F30: =SUM(E30*C30) -> 3035 | G30: 400 | H30: =SUM(G30*C30) -> 400 | I30: =SUM(H30+F30) -> 3435
B31: - UNION Ø 2" | C31: 2 | D31: อัน | E31: 130 | F31: =SUM(E31*C31) -> 260 | G31: - | H31: - | I31: =SUM(F31) -> 260
B32: - SUPPORT ค.ส.ล. | C32: 1 | D32: งาน | E32: 1500 | F32: =SUM(E32*C32) -> 1500 | G32: วัสดุ+แรงงาน | I32: =SUM(H32+F32) -> 1500
B33: VALVE BOX
B34: - VALVE BOX w/ GATE VALVE Ø 4" | C34: 1 | D34: ชุด | E34: 19840 | F34: =SUM(E34*C34) -> 19840 | G34: - | H34: - | I34: =SUM(F34) -> 19840
B35: หัวดับเพลิง
B36: - ท่อ HDPE Ø 110" | C36: 1.5 | D36: เมตร | E36: 300 | F36: =SUM(E36*C36) -> 450 | G36: 150 | H36: =SUM(G36*C36) -> 225 | I36: =SUM(H36+F36) -> 675
B37: - ท่อ GSP Ø 4" | C37: 1.5 | D37: เมตร | E37: 454 | F37: =SUM(E37*C37) -> 681 | G37: 250 | H37: =SUM(G37*C37) -> 375 | I37: =SUM(H37+F37) -> 1056
B38: - FIRE HYDRANT Ø 4"x4"x4" พร้อมข้อต่อต่อสวมเร็ว ฝาปิดและโซ่คล้อง | C38: 1 | D38: ชุด | E38: 2725 | F38: =SUM(E38*C38) -> 2725 | G38: - | H38: - | I38: =SUM(F38) -> 2725
B39: - SURFACE BOX | C39: 1 | D39: อัน | E39: 280 | F39: =SUM(E39*C39) -> 280 | G39: - | H39: - | I39: =SUM(F39) -> 280
B40: - หลอดกันดิน | C40: 1 | D40: อัน | E40: 950 | F40: =SUM(E40*C40) -> 950 | G40: - | H40: - | I40: =SUM(F40) -> 950
B44: รวม | F44: =SUM(F28:F43) -> 29721 | H44: =SUM(H27:H43) -> 1000 | K44: =SUM(H44+F44) -> 30721
B45: รวมเงินหน้านี้ | I45: =SUM(I28:I44) -> 30721
B46: งานประปาภายนอก (ต่อ)
B47: หัวดับเพลิง
B48: - Ø 4" OS & Y GATE VALVE | C48: 1 | D48: ชุด | E48: 20000 | F48: =SUM(E48*C48) -> 20000 | G48: - | H48: - | I48: =SUM(F48) -> 20000
B49: - ท่อโค้งตีนเป็ด 90° x 100 mm. | C49: 1 | D49: อัน | E49: 2400 | F49: =SUM(E49*C49) -> 2400 | G49: - | H49: - | I49: =SUM(F49) -> 2400
B50: - ท่อสั้นหน้าจานคู่ Ø 4" | C50: 1 | D50: อัน | E50: 1640 | F50: =SUM(E50*C50) -> 1640 | G50: - | H50: - | I50: =SUM(F50) -> 1640
B51: - STUBEND Ø 110 mm. | C51: 1 | D51: ชุด | E51: 1284 | F51: =SUM(E51*C51) -> 1284 | G51: - | H51: - | I51: =SUM(F51) -> 1284
B52: - แท่น ค.ส.ล. ขนาด 0.50×1.0×0.10 m.เสริมเหล็ก Ø 9 mm.@ 0.15 m. | C52: 1 | D52: งาน | E52: 1200 | F52: =SUM(E52*C52) -> 1200 | G52: วัสดุ+แรงงาน | I52: =SUM(H52+F52) -> 1200
B53: - แท่น ค.ส.ล.ขนาด 0.40×0.40×0.15 m.เสริมเหล็ก Ø 9 mm.@ 0.15 m. | C53: 1 | D53: งาน | E53: 800 | F53: =SUM(E53*C53) -> 800 | G53: วัสดุ+แรงงาน | I53: =SUM(H53+F53) -> 800
B54: - แท่น ค.ส.ล. รองรับประตูน้ำ เสริมเหล็ก Ø 9 mm.@ 0.15 m. | C54: 1 | D54: งาน | E54: 500 | F54: =SUM(E54*C54) -> 500 | G54: วัสดุ+แรงงาน | I54: =SUM(H54+F54) -> 500
B55: - Accessories & Painting,Cleaning | C55: 1 | D55: งาน | E55: 2626 | F55: =SUM(E55*C55) -> 2626 | G55: - | H55: - | I55: =SUM(F55) -> 2626
B56: - ดินขุดกลบคืน | C56: 17 | D56: ลบ.ม. | E56: - | F56: - | G56: 99 | H56: =SUM(G56*C56) -> 1683 | I56: =SUM(H56) -> 1683
B57: - ทรายหยาบอัดแน่น | C57: 10 | D57: ลบ.ม. | E57: 537 | F57: =SUM(E57*C57) -> 5370 | G57: 91 | H57: =SUM(G57*C57) -> 910 | I57: =SUM(H57+F57) -> 6280
B64: รวม | F64: =SUM(F48:F63) -> 35820 | H64: =SUM(H46:H63) -> 2593 | K64: =SUM(H64+F64) -> 38413
B65: รวมเงินหน้านี้ | I65: =SUM(I48:I64) -> 38413
B66: งานประปาภายนอก (ต่อ)
B67: PVC 8.5
B68: - Ø 8 " | C68: 4 | D68: เมตร | E68: 469 | F68: =SUM(E68*C68) -> 1876 | G68: - | H68: - | I68: =SUM(F68) -> 1876
B69: ท่อ ค.ส.ล. ชั้น 2
B70: - Ø 0.30 m. | C70: 26 | D70: ท่อน | E70: 396 | F70: =SUM(E70*C70) -> 10296 | G70: - | H70: - | I70: =SUM(F70) -> 10296
B71: ท่อ ค.ส.ล. ชั้น 3
B72: - Ø 0.30 m. | C72: 170 | D72: ท่อน | E72: 276 | F72: =SUM(E72*C72) -> 46920 | G72: - | H72: - | I72: =SUM(F72) -> 46920
B73: รางระบายน้ำ
B74: - รางระบายน้ำ ค.ส.ล. (ฝาตะแกรงเหล็ก) ความกว้างภายใน 0.25 m.
B75: ความลึกต้นราง 0.25 m. | C75: 20 | D75: เมตร | E75: 1650 | F75: =SUM(E75*C75) -> 33000 | G75: วัสดุ+แรงงาน | I75: =SUM(H75+F75) -> 33000
B76: บ่อพักน้ำ
B77: บ่อพักน้ำฝาตะแกรงเหล็ก
B78: - MH 2 | C78: 2 | D78: บ่อ | E78: 3960 | F78: =SUM(E78*C78) -> 7920 | G78: วัสดุ+แรงงาน | I78: =SUM(H78+F78) -> 7920
B79: บ่อพักน้ำฝา ค.ส.ล. พร้อมช่องรับน้ำและตะแกรงดักขยะ 1 ข้าง
B80: - MH 2 | C80: 37 | D80: บ่อ | E80: 4200 | F80: =SUM(E80*C80) -> 155400 | G80: วัสดุ+แรงงาน | I80: =SUM(H80+F80) -> 155400
B83: รวม | F83: =SUM(F67:F80) -> 255412 | H83: =SUM(H68:H81) -> 0 | K83: =SUM(H83+F83) -> 255412
B84: รวมเงินหน้านี้ | I84: =SUM(I68:I83) -> 255412
B85: งานประปาภายนอก (ต่อ)
B86: บ่อพักน้ำ
B87: บ่อพักน้ำฝา ค.ส.ล. พร้อมช่องรับน้ำและตะแกรงดักขยะ 2 ข้าง
B88: - MH 2 | C88: 3 | D88: บ่อ | E88: 4600 | F88: =SUM(E88*C88) -> 13800 | G88: วัสดุ+แรงงาน | I88: =SUM(H88+F88) -> 13800
B89: - ปูนยาแนวท่อ | C89: 1 | D89: งาน | E89: 16000 | F89: =SUM(E89*C89) -> 16000 | G89: วัสดุ+แรงงาน | I89: =SUM(H89+F89) -> 16000
B90: - ดินขุดกลบคืน | C90: 153.12 | D90: ลบ.ม. | E90: - | F90: - | G90: 99 | H90: =SUM(G90*C90) -> 15158.88 | I90: =SUM(H90) -> 15158.88
B91: - ทรายหยาบอัดแน่น | C91: 74 | D91: ลบ.ม. | E91: 537 | F91: =SUM(E91*C91) -> 39738 | G91: 91 | H91: =SUM(G91*C91) -> 6734 | I91: =SUM(H91+F91) -> 46472
B102: รวม | F102: =SUM(F86:F101) -> 69538 | H102: =SUM(H86:H101) -> 21892.88 | K102: =SUM(H102+F102) -> 91430.88
B103: รวมเงินหน้านี้ | I103: =SUM(I86:I102) -> 91430.88
I105: =SUM(I26+I45+I65+I84+I103) -> 467704.88

Sheet ครุภัณฑ์
A1: แบบแสดงรายการปริมาณงานและราคา | L1: 304000
A2: กลุ่มงาน | B2: งานอาคาร
A3: ชื่อโครงการ | B3: =+'แบบ ปร.6'!B2 -> งานก่อสร้างอาคารกองบังคับการ กอง รปภ.สพ.ทร. จำนวน 1 หลัง | E3: แบบเลขที่ | F3: 59 - 2 - 104,62 - 6 - 009,62 - 5 - 034,62 - 4 - 017
A4: สถานที่ | B4: =+'แบบ ปร.6'!B3 -> อ.สัตหีบ จว.ชลบุรี | C4: หน่วยงานเจ้าของโครงการ | F4: =+'แบบ ปร.6'!C5 -> สพ.ทร.
A6: ลำดับที่ | B6: รายการ | C6: จำนวน | D6: หน่วย | E6: ค่าวัสดุ (บาท ) | G6: ค่าแรงงาน (บาท ) | I6: รวม (บาท ) | J6: หมายเหตุ
E7: ราคาหน่วยละ | F7: จำนวนเงิน | G7: ราคาหน่วยละ | H7: จำนวนเงิน | I7: วัสดุและแรงงาน
B8: งานครุภัณฑ์ประจำอาคาร | K8: ครุภัณฑ์ใช้ของเดิม
B9: - F 1 โต๊ะทำงาน | C9: 1 | D9: ตัว | E9: 26300 | F9: =SUM(C9*E9) -> 26300 | G9: - | H9: - | I9: =SUM(F9) -> 26300
B10: - F 2 โต๊ะทำงานรอง | C10: 1 | D10: ตัว | E10: 10980 | F10: =SUM(C10*E10) -> 10980 | G10: - | H10: - | I10: =SUM(F10) -> 10980
B11: - F 3 โต๊ะคอมพิวเตอร์ | C11: 30 | D11: ตัว | E11: 6000 | F11: =SUM(C11*E11) -> 180000 | G11: - | H11: - | I11: =SUM(F11) -> 180000
B12: - F 4 เก้าอี้ทำงานมีที่ท้าวแขน | C12: 81 | D12: ตัว | E12: 5000 | F12: =SUM(C12*E12) -> 405000 | G12: - | H12: - | I12: =SUM(F12) -> 405000
B13: - F 5 เก้าอี้ทำงานมีที่ท้าวแขน | C13: 5 | D13: ตัว | E13: 5500 | F13: =SUM(C13*E13) -> 27500 | G13: - | H13: - | I13: =SUM(F13) -> 27500
B14: - F 6 เก้าอี้ทำงาน ผบ.พัน. | C14: 3 | D14: ตัว | E14: 8460 | F14: =SUM(C14*E14) -> 25380 | G14: - | H14: - | I14: =SUM(F14) -> 25380
B15: - F 7 โซฟา 2 ที่นั่ง | C15: 4 | D15: ตัว | E15: 9065 | F15: =SUM(C15*E15) -> 36260 | G15: - | H15: - | I15: =SUM(F15) -> 36260
B16: - F 8 โซฟา 1 ที่นั่ง | C16: 3 | D16: ตัว | E16: 6515 | F16: =SUM(C16*E16) -> 19545 | G16: - | H16: - | I16: =SUM(F16) -> 19545
B17: - F 9 ตู้เก็บเอกสาร | C17: 17 | D17: ตู้ | E17: 7730 | F17: =SUM(C17*E17) -> 131410 | G17: - | H17: - | I17: =SUM(F17) -> 131410
B18: - F 10 ตู้เก็บเอกสารเหล็ก | C18: 10 | D18: ตู้ | E18: 6735 | F18: =SUM(C18*E18) -> 67350 | G18: - | H18: - | I18: =SUM(F18) -> 67350
B19: - F 11 โต๊ะกลางรับรอง | C19: 2 | D19: ตัว | E19: 3800 | F19: =SUM(C19*E19) -> 7600 | G19: - | H19: - | I19: =SUM(F19) -> 7600
B20: - F 12 โต๊ะข้างรับรอง | C20: 8 | D20: ตัว | E20: 2345 | F20: =SUM(C20*E20) -> 18760 | G20: - | H20: - | I20: =SUM(F20) -> 18760
B21: - F 13 โต๊ะทานอาหารเล็ก | C21: 1 | D21: ตัว | E21: 4070 | F21: =SUM(C21*E21) -> 4070 | G21: - | H21: - | I21: =SUM(F21) -> 4070
B26: รวม | F26: =SUM(F9:F25) -> 960155 | H26: =SUM(H9:H25) -> 0 | L26: =SUM(F26+H26) -> 960155
B27: รวมเงินหน้านี้ | I27: =SUM(I9:I26) -> 960155
B28: งานครุภัณฑ์ประจำอาคาร(ต่อ)
B29: - F 14 เก้าอี้รับประทานอาหาร | C29: 2 | D29: ตัว | E29: 3630 | F29: =SUM(C29*E29) -> 7260 | G29: - | H29: - | I29: =SUM(F29) -> 7260
B30: - F 15 ตู้เสื้อผ้าเหล็ก | C30: 2 | D30: ตู้ | E30: 7350 | F30: =SUM(C30*E30) -> 14700 | G30: - | H30: - | I30: =SUM(F30) -> 14700
B31: - F 16 เตียงนอน 2 ชั้น + ที่นอนยางพาราอัด + หมอน | C31: 1 | D31: ชุด | E31: 19000 | F31: =SUM(C31*E31) -> 19000 | G31: - | H31: - | I31: =SUM(F31) -> 19000
B32: - F 17 โต๊ะประชุมเล็ก | C32: 1 | D32: ตัว | E32: 35000 | F32: =SUM(C32*E32) -> 35000 | G32: - | H32: - | I32: =SUM(F32) -> 35000
B33: - F 18 ตู้เหล็กวางหนังสือ | C33: 8 | D33: ตู้ | E33: 3230 | F33: =SUM(C33*E33) -> 25840 | G33: - | H33: - | I33: =SUM(F33) -> 25840
B34: - F 19 เก้าอี้อ่านหนังสือ | C34: 8 | D34: ตัว | E34: 2000 | F34: =SUM(C34*E34) -> 16000 | G34: - | H34: - | I34: =SUM(F34) -> 16000
B35: - F 20 โต๊ะอ่านหนังสือ | C35: 4 | D35: ตัว | E35: 3400 | F35: =SUM(C35*E35) -> 13600 | G35: - | H35: - | I35: =SUM(F35) -> 13600
B36: - F 21 เตียงนอน 1 ชั้น + ที่นอนยางพาราอัด + หมอน | C36: 1 | D36: ชุด | E36: 17070 | F36: =SUM(C36*E36) -> 17070 | G36: - | H36: - | I36: =SUM(F36) -> 17070
B37: - F 22 ตู้เสื้อผ้าบานเลื่อน | C37: 1 | D37: ตู้ | E37: 25000 | F37: =SUM(C37*E37) -> 25000 | G37: - | H37: - | I37: =SUM(F37) -> 25000
B38: - F 23 โต๊ะเครื่องแป้ง | C38: 1 | D38: ตัว | E38: 4900 | F38: =SUM(C38*E38) -> 4900 | G38: - | H38: - | I38: =SUM(F38) -> 4900
B39: - F 24 โต๊ะประชุมตรง | C39: 19 | D39: ตัว | E39: 4500 | F39: =SUM(C39*E39) -> 85500 | G39: - | H39: - | I39: =SUM(F39) -> 85500
B40: - F 25 โต๊ะประชุมเข้ามุม | C40: 2 | D40: ตัว | E40: 1800 | F40: =SUM(C40*E40) -> 3600 | G40: - | H40: - | I40: =SUM(F40) -> 3600
K44: =I47+I27 -> 1227625
B46: รวม | F46: =SUM(F29:F45) -> 267470 | H46: =SUM(H29:H44) -> 0 | K46: =SUM(F46) -> 267470
B47: รวมเงินหน้านี้ | I47: =SUM(I29:I46) -> 267470
B48: ครุภัณฑ์เครื่องปรับอากาศ
B49: - เครื่องปรับอากาศแบบติดผนัง ขนาด 12,000 BTU | C49: 2 | D49: ชุด | E49: 15888 | F49: =SUM(C49*E49) -> 31776 | G49: วัสดุ+แรงงาน | I49: =SUM(F49) -> 31776
B50: - เครื่องปรับอากาศแบบติดผนัง ขนาด 15,000 BTU | C50: 3 | D50: ชุด | E50: 18692 | F50: =SUM(C50*E50) -> 56076 | G50: วัสดุ+แรงงาน | I50: =SUM(F50) -> 56076
B51: - เครื่องปรับอากาศแบบติดผนัง ขนาด 18,000 BTU | C51: 1 | D51: ชุด | E51: 19626 | F51: =SUM(C51*E51) -> 19626 | G51: วัสดุ+แรงงาน | I51: =SUM(F51) -> 19626
B52: - เครื่องปรับอากาศแบบแขวนใต้ฝ้า ขนาด 18,000 BTU | C52: 5 | D52: ชุด | E52: 26729 | F52: =SUM(C52*E52) -> 133645 | G52: วัสดุ+แรงงาน | I52: =SUM(F52) -> 133645
B53: - เครื่องปรับอากาศแบบแขวนใต้ฝ้า ขนาด 24,000 BTU | C53: 1 | D53: ชุด | E53: 30280 | F53: =SUM(C53*E53) -> 30280 | G53: วัสดุ+แรงงาน | I53: =SUM(F53) -> 30280
B54: - เครื่องปรับอากาศแบบแขวนใต้ฝ้า ขนาด 30,000 BTU | C54: 1 | D54: ชุด | E54: 37570 | F54: =SUM(C54*E54) -> 37570 | G54: วัสดุ+แรงงาน | I54: =SUM(F54) -> 37570
B55: - เครื่องปรับอากาศแบบฝังฝ้า ขนาด 40,000 BTU | C55: 4 | D55: ชุด | E55: 73900 | F55: =SUM(C55*E55) -> 295600 | G55: วัสดุ+แรงงาน | I55: =SUM(F55) -> 295600
K57: =SUM(I49:I55) -> 604573 | M57: =SUM(C49:C54) -> 13
F66: =SUM(F49:F65) -> 604573 | H66: =SUM(H48:H64) -> 0 | K66: =SUM(F66+H66) -> 604573
B67: รวมเงินหน้านี้ | I67: =SUM(I49:I66) -> 604573
B68: ระบบคอมพิวเตอร์ NETWORK
B69: - Switch 24 Port POE | C69: 1 | D69: ชุด | E69: 7000 | F69: =C69*E69 -> 7000 | G69: - | H69: - | I69: =SUM(F69) -> 7000
B70: - Cable Management (แบบมีฝาครอบ) | C70: 1 | D70: ชุด | E70: 1000 | F70: =C70*E70 -> 1000 | G70: - | H70: - | I70: =SUM(F70) -> 1000
B71: - UPS 3000VA/2700W | C71: 1 | D71: ชุด | E71: 45000 | F71: =C71*E71 -> 45000 | G71: - | H71: - | I71: =SUM(F71) -> 45000
B72: - SINGLE COMPUTER (LAN) OUTLET | C72: 17 | D72: ชุด | E72: 300 | F72: =SUM(C72*E72) -> 5100 | G72: - | H72: - | I72: =SUM(F72) -> 5100
B73: - Fix Shelf for Rack 80 cm. Deep 65 cm. (แบบยึด 4 ด้าน) | C73: 1 | D73: ชุด | E73: 1000 | F73: =SUM(C73*E73) -> 1000 | G73: - | H73: - | I73: =SUM(F73) -> 1000
B74: - Close Rack 27 U.+ PDU 12 Outlet + FAN 2xØ4"(ความลึก 100 cm.) | C74: 1 | D74: ชุด | E74: 28000 | F74: =SUM(C74*E74) -> 28000 | G74: - | H74: - | I74: =SUM(F74) -> 28000
B75: - CAT.6 CABLE | C75: 357 | D75: เมตร | E75: 18 | F75: =C75*E75 -> 6426 | G75: - | H75: - | I75: =SUM(F75) -> 6426
B76: - ท่อ Ø 15 mm. EMT. | C76: 100 | D76: ท่อน | E76: 76 | F76: =C76*E76 -> 7600 | G76: - | H76: - | I76: =SUM(F76) -> 7600 | M76: =SUM(C69:C73) -> 21
B77: - อุปกรณ์ประกอบและอื่น ๆ | C77: 1 | D77: งาน | E77: 15200 | F77: =SUM(C77*E77) -> 15200 | G77: - | H77: - | I77: =SUM(F77) -> 15200
B78: - งานติดตั้งระบบคอมพิวเตอร์ | C78: 1 | D78: งาน | E78: 25000 | F78: =SUM(C78*E78) -> 25000 | G78: - | H78: - | I78: =SUM(F78) -> 25000
F86: =SUM(F69:F85) -> 141326 | H86: =SUM(H68:H84) -> 0 | K86: =SUM(F86+H86) -> 141326
B87: รวมเงินหน้านี้ | I87: =SUM(I69:I86) -> 141326
B88: ระบบประปาและระบบสุขาภิบาล
B89: ครุภัณฑ์
B90: ถังเก็บน้ำ (ชั้นหลังคาและใต้ดิน)
B91: - ถังเก็บน้ำสำเร็จรูป (ไฟเบอร์กลาสเสริมแรง) ขนาดความจุไม่น้อยกว่า - | C91: 1 | D91: ถัง | E91: 34190 | F91: =SUM(E91*C91) -> 34190 | G91: - | H91: - | I91: =SUM(F91) -> 34190
B92: 4.0 ลบ.ม. (ชั้นหลังคา)
B93: - ถังเก็บน้ำสำเร็จรูป (ไฟเบอร์กลาสเสริมแรง) ชนิดวางใต้ดิน | C93: 1 | D93: ถัง | E93: 58850 | F93: =SUM(E93*C93) -> 58850 | G93: - | H93: - | I93: =SUM(F93) -> 58850
B94: ขนาดความจุไม่น้อยกว่า 5.0 ลบ.ม.
B95: เครื่องสูบน้ำ
B96: - เครื่องสูบน้ำเสริมแรงดัน พร้อมระบบควบคุม | C96: 2 | D96: เครื่อง | E96: 53650 | F96: =SUM(E96*C96) -> 107300 | G96: - | H96: - | I96: =SUM(F96) -> 107300
B97: End Suction Close Coupled Centrifugal Pumps
B98: อัตราการสูบจ่ายไม่น้อยกว่า 10 ลบ./ม. ต่อชั่วโมง ที่ TDH 20 ม.
B99: ขับด้วยมอเตอร์ไฟฟ้า (TEFC) ขนาดไม่น้อยกว่า 1.5 กิโลวัตต์
F106: =SUM(F89:F105) -> 200340 | H106: =SUM(H88:H104) -> 0 | K106: =SUM(F106+H106) -> 200340
B107: รวมเงินหน้านี้ | I107: =SUM(I89:I106) -> 200340

Sheet แบบ ปร.4(พ)
A1: แบบแสดงรายการปริมาณงานและราคา
A2: (ค่าใช้จ่ายพิเศษตามข้อกำหนดและค่าใช้จ่ายอื่นที่จำเป็นต้องมี)
A3: กลุ่มงาน | B3: งานอาคาร
A4: ชื่อโครงการ | B4: =+'แบบ ปร.6'!B2 -> งานก่อสร้างอาคารกองบังคับการ กอง รปภ.สพ.ทร. จำนวน 1 หลัง | C4: แบบเลขที่ | D4: =+ฟฟ.!G3 -> 62 - 5 - 034
A5: สถานที่ | B5: =+'แบบ ปร.6'!B3 -> อ.สัตหีบ จว.ชลบุรี | C5: หน่วยงานเจ้าของโครงการ | E5: =+'แบบ ปร.6'!C5 -> สพ.ทร.
A6: คำนวณราคาโดย | B6: =+ฟฟ.ภนอ.!B5 -> 0 | C6: =+'แบบ ปร.6'!B7 -> 0
A7: ลำดับที่ | B7: รายการ | C7: จำนวน | D7: หน่วย | E7: ค่าใช้จ่ายรวม (บาท ) | F7: หมายเหตุ
E8: ( ค่าก่อสร้าง )
A9: 1 | B9: งานระบบไฟฟ้าภายนอก ค่าขอเพิ่ม CURRENT TRANSFORMER (CT)
B10: สำหรับมิเตอร์ไฟฟ้าแรงสูง (2 อาคาร) | C10: 1 | D10: งาน | E10: =+'แบบแสดงการคำนวณ ฯ(พ)ตามข้อกำหนด'!K37 -> 0
B23: รวมเงิน ค่าใช้จ่ายพิเศษตามข้อกำหนดทุกรายการ | E23: =SUM(E9:E22) -> 0

Sheet แบบแสดงการคำนวณ ฯ(พ)ตามข้อกำหนด
A1: หน้าที่ 11
A2: แบบแสดงการคำนวณและเหตุผลความจำเป็น
A3: สำหรับค่าใช้จ่ายพิเศษตามข้อกำหนดฯ
A4: รายการ (ระบุรายการค่าใช้จ่ายพิเศษตามข้อกำหนด)
A5: ชื่อโครงการ | D5: =+'แบบ ปร.6'!B2 -> งานก่อสร้างอาคารกองบังคับการ กอง รปภ.สพ.ทร. จำนวน 1 หลัง
A6: สถานที่ก่อสร้าง | D6: =+'แบบ ปร.6'!B3 -> อ.สัตหีบ จว.ชลบุรี | G6: แบบเลขที่ | H6: =+'แบบ ปร.4(พ)'!D4 -> 62 - 5 - 034
A7: หน่วยงานเจ้าของโครงการ | D7: =+'แบบ ปร.6'!C5 -> สพ.ทร.
A8: คำนวณราคากลางโดย | D8: =+'แบบ ปร.4(พ)'!B6 -> 0 | H8: =+'แบบ ปร.6'!B7 -> 0
A9: 1. เหตุผลและความจำเป็นที่ต้องมีค่าใช้จ่ายพิเศษตามข้อกำหนดฯ รายการนี้
A10: ประสานกิจการไฟฟ้าสัตหีบ เพื่อขอเพิ่ม CURRENT TRANSFORMER (CT) สำหรับมิเตอร์ไฟฟ้าแรงสูงต้นทางของการไฟฟ้าสัตหีบ
A11: อีก 200 kVA.
A16: 2. รายละเอียดการคำนวณ
A17: ที่ | B17: รายการค่าใช้จ่าย | H17: จำนวน | I17: หน่วย | J17: ราคาต่อหน่วย | K17: ราคารวม | L17: หมายเหตุ
A18: 1 | B18: งานระบบไฟฟ้าภายนอก
A19: 1.1 | B19: ค่าขอเพิ่ม CURRENT TRANSFORMER (CT)
B20: สำหรับมิเตอร์ไฟฟ้าแรงสูง | H20: 1 | I20: งาน | J20: 0 | K20: =H20*J20 -> 0
M28: ค่าเครน 15,000 ค่าธรรมเนียม 10,000
M29: ประมาณ 5 % ของค่าวัสดุ ทั้งโครงการ ( ค่าวัสดุทั้งหมด 10.4 ล้าน )
M30: ค่าแรงเพิ่มอีก 35 % ของค่าแรงปกติ เฉพาะงานโครงสร้างท่าเรือ (ค่าแรง = 600,000)
M32: ค่าเช่า 15,000/ เดือน ค่าน้ำมัน 1,200 / วัน
E35: รวมค่าใช้จ่าย | K35: =+K20 -> 0
E36: ค่าภาษีมูลค่าเพิ่ม
E37: สรปค่าใช้จ่ายพิเศษ | K37: =+K35 -> 0

Sheet F_Advance(งานอาคาร)
A1: 1 | B1: 2 | C1: 3 | D1: 4 | E1: 5 | F1: 6 | G1: 7 | H1: 8 | I1: 9 | J1: 10 | K1: 11 | L1: 12 | M1: 13 | N1: 14 | O1: 15 | P1: 16 | Q1: 17
A2: ประกันผลงาน | B2: 0 | F2: 0.05 | J2: 0.1
B3: Advance | F3: Advance | J3: Advance
A4: BUDJET | B4: 0 | C4: 0.05 | D4: 0.1 | E4: 0.15 | F4: 0 | G4: 0.05 | H4: 0.1 | I4: 0.15 | J4: 0 | K4: 0.05 | L4: 0.1 | M4: 0.15
A5: 0 | B5: 1.3074 | C5: 1.3065 | D5: 1.3055 | E5: 1.3046 | F5: 1.3078 | G5: 1.3069 | H5: 1.3059 | I5: 1.305 | J5: 1.3082 | K5: 1.3073 | L5: 1.3063 | M5: 1.3054
A6: 0.5 | B6: 1.3074 | C6: 1.3065 | D6: 1.3055 | E6: 1.3046 | F6: 1.3078 | G6: 1.3069 | H6: 1.3059 | I6: 1.305 | J6: 1.3082 | K6: 1.3073 | L6: 1.3063 | M6: 1.3054
A7: 1 | B7: 1.305 | C7: 1.304 | D7: 1.3029 | E7: 1.3018 | F7: 1.3056 | G7: 1.3045 | H7: 1.3034 | I7: 1.3024 | J7: 1.3061 | K7: 1.305 | L7: 1.304 | M7: 1.3029
A8: 2 | B8: 1.3035 | C8: 1.3023 | D8: 1.3011 | E8: 1.2999 | F8: 1.3042 | G8: 1.303 | H8: 1.3018 | I8: 1.3006 | J8: 1.3049 | K8: 1.3036 | L8: 1.3024 | M8: 1.3012
A9: 5 | B9: 1.3003 | C9: 1.2987 | D9: 1.2971 | E9: 1.2955 | F9: 1.3014 | G9: 1.2998 | H9: 1.2982 | I9: 1.2966 | J9: 1.3025 | K9: 1.3009 | L9: 1.2993 | M9: 1.2976
A10: 10 | B10: 1.2943 | C10: 1.2922 | D10: 1.2901 | E10: 1.2879 | F10: 1.296 | G10: 1.2938 | H10: 1.2917 | I10: 1.2895 | J10: 1.2976 | K10: 1.2954 | L10: 1.2933 | M10: 1.2911
A11: 15 | B11: 1.2594 | C11: 1.2573 | D11: 1.2551 | E11: 1.253 | F11: 1.261 | G11: 1.2589 | H11: 1.2567 | I11: 1.2546 | J11: 1.2626 | K11: 1.2605 | L11: 1.2583 | M11: 1.2562
A12: 20 | B12: 1.2518 | C12: 1.2495 | D12: 1.2472 | E12: 1.245 | F12: 1.2535 | G12: 1.2513 | H12: 1.249 | I12: 1.2467 | J12: 1.2553 | K12: 1.253 | L12: 1.2057 | M12: 1.2484
A13: 25 | B13: 1.2248 | C13: 1.2225 | D13: 1.2203 | E13: 1.218 | F13: 1.2266 | G13: 1.2243 | H13: 1.222 | I13: 1.2197 | J13: 1.2283 | K13: 1.226 | L13: 1.2237 | M13: 1.2215
A14: 30 | B14: 1.2164 | C14: 1.214 | D14: 1.2116 | E14: 1.2092 | F14: 1.2183 | G14: 1.2159 | H14: 1.2135 | I14: 1.2111 | J14: 1.2202 | K14: 1.2178 | L14: 1.2154 | M14: 1.213
A15: 40 | B15: 1.2161 | C15: 1.2136 | D15: 1.2112 | E15: 1.2088 | F15: 1.2179 | G15: 1.2155 | H15: 1.2131 | I15: 1.2107 | J15: 1.2198 | K15: 1.2174 | L15: 1.215 | M15: 1.2126
A16: 50 | B16: 1.2159 | C16: 1.2133 | D16: 1.2106 | E16: 1.2079 | F16: 1.2181 | G16: 1.2154 | H16: 1.2127 | I16: 1.2101 | J16: 1.2202 | K16: 1.2175 | L16: 1.2149 | M16: 1.2122
... A28: 500 | B28: 1.1853 | C28: 1.1801 | D28: 1.1749 | E28: 1.1696 | F28: 1.19 | G28: 1.1848 | H28: 1.1795 | I28: 1.1743 | J28: 1.1946 | K28: 1.1894 | L28: 1.1842 | M28: 1.179
A29: > 500 | B29: 1.1788 | C29: 1.1733 | D29: 1.1678 | E29: 1.1624 | F29: 1.1838 | G29: 1.1783 | H29: 1.1728 | I29: 1.1673 | J29: 1.1887 | K29: 1.1832 | L29: 1.1777 | M29: 1.1723

Sheet F_Advance(สะพาน)
A1: 1 | B1: 2 | C1: 3 | D1: 4 | E1: 5 | F1: 6 | G1: 7 | H1: 8 | I1: 9 | J1: 10 | K1: 11 | L1: 12 | M1: 13 | N1: 14 | O1: 15 | P1: 16 | Q1: 17
A2: ประกันผลงาน | B2: 0 | F2: 0.05 | J2: 0.1
B3: Advance | F3: Advance | J3: Advance | N3: Advance
A4: BUDJET | B4: 0 | C4: 0.05 | D4: 0.1 | E4: 0.15 | F4: 0 | G4: 0.05 | H4: 0.1 | I4: 0.15 | J4: 0 | K4: 0.05 | L4: 0.1 | M4: 0.15 | N4: 0 | O4: 0.05 | P4: 0.1 | Q4: 0.15
A5: 0 | B5: 1.2782 | C5: 1.2772 | D5: 1.2761 | E5: 1.275
A6: 0.5 | B6: 1.2782 | C6: 1.2772 | D6: 1.2761 | E6: 1.275
A7: 10 | B7: 1.2446 | C7: 1.12432 | D7: 1.2419 | E7: 1.2406
A8: 15 | B8: 1.2375 | C8: 1.2359 | D8: 1.2342 | E8: 1.2326
A9: 20 | B9: 1.2304 | C9: 1.2286 | D9: 1.2266 | E9: 1.2248
A10: 25 | B10: 1.2145 | C10: 1.2125 | D10: 1.2107 | E10: 1.2088
A11: 30 | B11: 1.2133 | C11: 1.211 | D11: 1.2088 | E11: 1.2064
A12: 35 | B12: 1.2079 | C12: 1.2055 | D12: 1.2031 | E12: 1.2006
A13: 40 | B13: 1.2001 | C13: 1.1977 | D13: 1.1953 | E13: 1.1928
A14: 45 | B14: 1.1887 | C14: 1.1863 | D14: 1.1838 | E14: 1.1815
A15: 50 | B15: 1.1838 | C15: 1.1814 | D15: 1.179 | E15: 1.1766
A16: 55 | B16: 1.1826 | C16: 1.1801 | D16: 1.1777 | E16: 1.1753
... A44: 195 | B44: 1.1505 | C44: 1.1474 | D44: 1.1443 | E44: 1.1413
A45: >200 | B45: 1.1499 | C45: 1.1468 | D45: 1.1438 | E45: 1.1407

Sheet งวดงาน
E1: 23253000
B2: มูลค่างานในงวด | C2: ค่าใช้จ่ายพิเศษ | D2: รวมมูลค่างวด | E2: คิดเป็น | F2: ปรับเป็น
A3: 1 | B3: =1.2352*1000000 -> 1235200 | C3: 650000 | D3: =+C3+B3 -> 1885200 | E3: =+D3/$E$1 -> 0.08107341 | F3: 0.1
A4: 2 | B4: =2100000*1.2352 -> 2593920 | C4: 650000 | D4: =+C4+B4 -> 3243920 | E4: =+D4/$E$1 -> 0.13950544 | F4: 0.1
A5: 3 | B5: =1.2352*850000 -> 1049920 | C5: 400000 | D5: =+C5+B5 -> 1449920 | E5: =+D5/$E$1 -> 0.062354105 | F5: 0.08
A6: 4 | B6: =1.2352*1250000 -> 1544000 | C6: 400000 | D6: =+C6+B6 -> 1944000 | E6: =+D6/$E$1 -> 0.083602116 | F6: 0.08
A7: 5 | B7: =1.2352*1250000 -> 1544000 | C7: 400000 | D7: =+C7+B7 -> 1944000 | E7: =+D7/$E$1 -> 0.083602116 | F7: 0.08
A8: 6 | B8: =1.2352*1300000 -> 1605760 | C8: 400000 | D8: =+C8+B8 -> 2005760 | E8: =+D8/$E$1 -> 0.086258117 | F8: 0.08
A9: 7 | B9: =1.2352*800000 -> 988160 | C9: 400000 | D9: =+C9+B9 -> 1388160 | E9: =+D9/$E$1 -> 0.059698103 | F9: 0.06
A10: 8 | B10: =1.2352*400000 -> 494080 | C10: 400000 | D10: =+C10+B10 -> 894080 | E10: =+D10/$E$1 -> 0.038450092 | F10: 0.04
A11: 9 | B11: =1.2352*400000 -> 494080 | C11: 300000 | D11: =+C11+B11 -> 794080 | E11: =+D11/$E$1 -> 0.034149572 | F11: 0.04
A12: 10 | B12: =1.2352*1350000 -> 1667520 | C12: 300000 | D12: =+C12+B12 -> 1967520 | E12: =+D12/$E$1 -> 0.084613598 | F12: 0.08
A13: 11 | B13: =1.2352*1350000 -> 1667520 | C13: 300000 | D13: =+C13+B13 -> 1967520 | E13: =+D13/$E$1 -> 0.084613598 | F13: 0.08
A14: 12 | B14: =1.2352*1580000 -> 1951616 | C14: 300000 | D14: =+C14+B14 -> 2251616 | E14: =+D14/$E$1 -> 0.096831205 | F14: 0.08
A15: 13 | B15: =1.2352*1000000 -> 1235200 | C15: 300000 | D15: =+C15+B15 -> 1535200 | E15: =+D15/$E$1 -> 0.066021589 | F15: 0.1
B16: =SUM(B3:B15) -> 18070976 | C16: =SUM(C3:C15) -> 5200000 | D16: =+C16+B16 -> 23270976 | E16: =SUM(E3:E15) -> 1.0007731 | F16: =SUM(F3:F15) -> 1
