Workbook
Name BUDJET1: 'F_Advance(งานอาคาร)'!$A$5:$A$29
Name BUDJET2: 'F_Advance(งานทาง)'!$A$6:$A$43
Name BUDJET3: 'F_Advance(งานทาง)'!$A$6:$A$43
Name BUDJET3: 'F_Advance(สะพาน)'!$A$5:$A$45
Name FBRIDGE: 'F_Advance(สะพาน)'!$A$1:$Q$45
Name FBUILD: 'F_Advance(งานอาคาร)'!$A$2:$Q$29
Name FROAD: 'F_Advance(งานทาง)'!$A$3:$AK$43
Name RET_0: 'F_Advance(งานอาคาร)'!$A$4:$E$29
Name RET_10: 'F_Advance(งานอาคาร)'!$A$4:$A$29,'F_Advance(งานอาคาร)'!$J$4:$L$29
Name RET_5: 'F_Advance(งานอาคาร)'!$A$4:$A$29,'F_Advance(งานอาคาร)'!$F$4:$I$29

Sheet แบบ ปร.6
A1: แบบสรุปราคากลาง งานก่อสร้าง
A2: ชื่อโครงการ/ | B2: งานก่อสร้างอาคารพักประทวน ขนาด 64 ครอบครัว พร้อมระบบสาธารณูปโภคและสิ่งอำนวยความสะดวก
B3: ของ กบร.กร. จำนวน 1 หลัง
A4: สถานที่ก่อสร้าง | B4: อ.บ้านฉาง จว.ระยอง
A5: แบบเลขที่ | B5: 62 - 2 - 083 , 61 - 2 - 040 , 58 - 2 - 059 , 61 - 2 - 070 , 62 - 4 - 014 , 62 - 5 - 032
A6: หน่วยงานเจ้าของโครงการ/งานก่อสร้าง | C6: กบร.กร.
A7: แบบ ปร.4 และ ปร.5 ที่แนบ | C7: 48
A10: ลำดับที่ | B10: รายการ | C10: ค่าก่อสร้าง | D10: หมายเหตุ
C11: ( บาท )
A12: 1 | B12: งานก่อสร้างอาคารพักนายทหารประทวน 64 ครอบครัว | C12: =+'ใบสรุปแบบ ปร.5 (ก) '!H25 -> 63166082
A13: 2 | B13: งานครุภัณฑ์ | C13: =+'ใบสรุปแบบ ปร.5 (ข)'!H24 -> 9834043.7
B23: รวมค่าก่อสร้างทั้งโครงการ | C23: =SUM(C12:C22) -> 73000126
B24: สรุปราคา | C24: 73000000 | E24: =+C24-C23 -> -125.73116
B25: ="ราคา ( "&BAHTTEXT(C24)&" )" -> ราคา ( เจ็ดสิบสามล้านบาทถ้วน )
B27: คณะกรรมการกำหนดราคากลาง
A28: น.อ. | B28: สมหมาย แสวงกิจ | C28: ประธานกรรมการ
A30: น.อ. | B30: จักรกฤษณ์ กุลศรีสมบัติ | C30: กรรมการ
A32: น.ท. | B32: สมศักดิ์ อุนานุยา | C32: กรรมการและเลขานุการ
A34: น.ต. | B34: ธีรทัต กงทอง | C34: กรรมการ
A36: น.ต. | B36: ขวัญชัย จันทร์ทอง | C36: กรรมการ

Sheet ใบสรุปแบบ ปร.5 (ก) 
A1: =+'แบบ ปร.6'!A1 -> แบบสรุปราคากลาง งานก่อสร้าง
A2: กลุ่มงาน | B2: งานอาคาร
A3: ชื่อโครงการ | B3: ='แบบ ปร.6'!B2 -> งานก่อสร้างอาคารพักประทวน ขนาด 64 ครอบครัว พร้อมระบบสาธารณูปโภคและสิ่งอำนวยความสะดวก
B4: ของ กบร.กร. จำนวน 1 หลัง
A5: สถานที่ก่อสร้าง | B5: =+'แบบ ปร.6'!B4 -> อ.บ้านฉาง จว.ระยอง | D5: แบบเลขที่ 62-2-083,61-2-040,58-2-059,61-2-070,62-4-014,62-5-032
A6: หน่วยงานเจ้าของโครงการ/งานก่อสร้าง | D6: =+'แบบ ปร.6'!C6 -> กบร.กร. | F6: แบบ ปร. 4 ที่แนบ จำนวน | H6: 44
A8: ลำดับที่ | B8: รายการ | F8: ค่างานต้นทุน | G8: FACTOR F | H8: =+'แบบ ปร.6'!C10 -> ค่าก่อสร้าง | I8: หมายเหตุ | K8: ฝนชุก 1 ได้แก่ จังหวัด : | M8: กรุงเทพ,กระบี่,จันทบุรี,ชุมพร,เชียงราย,ตรัง,นครนายก,ปราจีนบุรี,พัทลุง,ภูเก็ต,ยะลา,สกลนคร,สตูล,หนองคาย
F9: ( บาท ) | H9: ( บาท ) | K9: ฝนชุก 2 ได้แก่ จังหวัด : | M9: ตราด,นครพนม,นครศรธรรมราช,นราธิวาส,บึงกาฬ,พังงา,ระนอง,สงขลา
A10: 1 | B10: งานอาคารพักนายทหารประทวน | F10: =SUM('แบบ ปร.4_อาคาร'!I28+'แบบ ปร.4_อาคาร'!I49+'แบบ ปร.4_อาคาร'!I70+'แบบ ปร.4_อาคาร'!I91+'แบบ ปร.4_อาคาร'!I112+'แบบ ปร.4_อาคาร'!I133+'แบบ ปร.4_อาคาร'!I154+'แบบ ปร.4_อาคาร'!I175+'แบบ ปร.4_อาคาร'!I196+'แบบ ปร.4_อาคาร'!I217) -> 37628651
A11: 2 | B11: งานระบบไฟฟ้าภายในอาคาร | F11: =SUM('แบบ ปร.4ไฟฟ้าภายใน'!I29+'แบบ ปร.4ไฟฟ้าภายใน'!I50+'แบบ ปร.4ไฟฟ้าภายใน'!I71+'แบบ ปร.4ไฟฟ้าภายใน'!I92+'แบบ ปร.4ไฟฟ้าภายใน'!I113+'แบบ ปร.4ไฟฟ้าภายใน'!I134+'แบบ ปร.4ไฟฟ้าภายใน'!I155+'แบบ ปร.4ไฟฟ้าภายใน'!I176+'แบบ ปร.4ไฟฟ้าภายใน'!I197+'แบบ ปร.4ไฟฟ้าภายใน'!I218) -> 5913860
A12: 3 | B12: งานระบบประปาและสุขาภิบาลภายในอาคาร | F12: =SUM('แบบ ปร.4_ประปาภายใน'!I29+'แบบ ปร.4_ประปาภายใน'!I51+'แบบ ปร.4_ประปาภายใน'!I72+'แบบ ปร.4_ประปาภายใน'!I93+'แบบ ปร.4_ประปาภายใน'!I114+'แบบ ปร.4_ประปาภายใน'!I135+'แบบ ปร.4_ประปาภายใน'!I156+'แบบ ปร.4_ประปาภายใน'!I177+'แบบ ปร.4_ประปาภายใน'!I199+'แบบ ปร.4_ประปาภายใน'!I220+'แบบ ปร.4_ประปาภายใน'!I241+'แบบ ปร.4_ประปาภายใน'!I262+'แบบ ปร.4_ประปาภายใน'!I283) -> 4607126 | L12: =SUM(F10:F12) -> 48149637
A13: 4 | B13: งานภูมิสถาปัตย์,ถนนและลานราดยาง | F13: =SUM('แบบ ปร.4 ภูมิ+ถนน+ลาน'!I27+'แบบ ปร.4 ภูมิ+ถนน+ลาน'!I47) -> 1290490
A14: 5 | B14: งานระบบไฟฟ้าภายนอกอาคาร | F14: =SUM('แบบ ปร.ไฟฟ้านอก'!I27+'แบบ ปร.ไฟฟ้านอก'!I47+'แบบ ปร.ไฟฟ้านอก'!I67) -> 1728393
A15: 6 | B15: งานระบบประปาและสุขาภิบาลภายนอกอาคาร | F15: =SUM('แบบ ปร.ประปานอก'!I27+'แบบ ปร.ประปานอก'!I47+'แบบ ปร.ประปานอก'!I68+'แบบ ปร.ประปานอก'!I88+'แบบ ปร.ประปานอก'!I108+'แบบ ปร.ประปานอก'!I128) -> 1229723.6
B18: ราคารวม วัสดุ + แรงงาน | F18: =SUM(F10:F17) -> 52398243 | G18: =+O23 -> 1.2055 | H18: =F18*G18 -> 63166082
Q19: กรณี งานอาคาร | S19: =+IF(K20="งานอาคาร",1,0) -> 1 | V19: กรณีงานสะพาน | X19: =+IF(K20="งานสะพานและท่อเหลี่ยม",1,0) -> 0 | Z19: กรณีงานทาง | AA19: =+G9 -> 0 | AB19: =+IF(K20="งานทาง",1,0) -> 0
B20: เงื่อนไขการใช้ตาราง Factor F | K20: =+B2 -> งานอาคาร | N20: ส่วนต่างวงเงิน | O20: ค่าเปลี่ยนแปลง | R20: RETENSION | V20: RETENSION | Z20: RETENSION
B21: เงินล่วงหน้าจ่าย | F21: 0.15 | K21: วงเงิน | L21: FACTOR F | N21: =IF(TYPE(K22)=2,0,F18-K22*1000000) -> 2398243.1 | O21: =IF(TYPE(K23)=2,L22,L22-L23) -> 0.0098 | Q21: วงเงิน | R21: 0 | S21: 0.05 | T21: 0.1 | V21: 0 | W21: 0.05 | X21: 0.1 | Z21: 0 | AA21: 0.05 | AB21: 0.1
B22: เงินประกันผลงานหัก | F22: 0 | K22: 50 | L22: =IF(K20="งานอาคาร",HLOOKUP(F22,R21:T23,2),IF(K20="งานสะพานและท่อเหลี่ยม",HLOOKUP(F22,V21:X23,2),HLOOKUP(F22,Z21:AB23,2))) -> 1.2079 | N22: =IF(TYPE(K22)=2,0,(K23-K22)*1000000) -> 10000000 | O22: =IF(TYPE(K23)=2,0,O21*N21/N22) -> 0.0023502783 | Q22: =+K22 -> 50 | R22: =(IF(F22=0,IF(F21=0%,VLOOKUP(K22,FBUILD,2),IF(F21=5%,VLOOKUP(K22,FBUILD,3),IF(F21=10%,VLOOKUP(K22,FBUILD,4),IF(F21=15%,VLOOKUP(K22,FBUILD,5),"ERROR"))))))*S19 -> 1.2079 | S22: =+IF(F22=5%,IF(F21=0%,VLOOKUP(K22,FBUILD,6),IF(F21=5%,VLOOKUP(K22,FBUILD,7),IF(F21=10%,VLOOKUP(K22,FBUILD,8),IF(F21=15%,VLOOKUP(K22,FBUILD,9),"ERROR")))))*S19 -> 0 | T22: =+IF(F22=10%,IF(F21=0%,VLOOKUP(K22,FBUILD,10),IF(F21=5%,VLOOKUP(K22,FBUILD,11),IF(F21=10%,VLOOKUP(K22,FBUILD,12),IF(F21=15%,VLOOKUP(K22,FBUILD,13),"ERROR")))))*S19 -> 0 | V22: =(IF(F22=0,IF(F21=0%,VLOOKUP(K22,FBRIDGE,2),IF(F21=5%,VLOOKUP(K22,FBRIDGE,3),IF(F21=10%,VLOOKUP(K22,FBRIDGE,4),IF(F21=15%,VLOOKUP(K22,FBRIDGE,5),"ERROR"))))))*X19 -> 0 | W22: =+IF(F22=5%,IF(F21=0%,VLOOKUP(K22,FBRIDGE,6),IF(F21=5%,VLOOKUP(K22,FBRIDGE,7),IF(F21=10%,VLOOKUP(K22,FBRIDGE,8),IF(F21=15%,VLOOKUP(K22,FBRIDGE,9),"ERROR")))))*X19 -> 0 | X22: =+IF(F22=10%,IF(F21=0%,VLOOKUP(K22,FBRIDGE,10),IF(F21=5%,VLOOKUP(K22,FBRIDGE,11),IF(F21=10%,VLOOKUP(K22,FBRIDGE,12),IF(F21=15%,VLOOKUP(K22,FBRIDGE,13),"ERROR")))))*X19 -> 0 | Z22: =(IF(F22=0,IF(F21=0%,VLOOKUP(K22,FROAD,IF(AA19="ปกติ",2,IF(AA19="ฝนชุก1",3,4))),IF(F21=5%,VLOOKUP(K22,FROAD,IF(AA19="ปกติ",5,IF(AA19="ฝนชุก1",6,7))),IF(F21=10%,VLOOKUP(K22,FROAD,IF(AA19="ปกติ",8,IF(AA19="ฝนชุก1",9,10))),IF(F21=15%,VLOOKUP(K22,FROAD,IF(AA19="ปกติ",11,IF(AA19="ฝนชุก1",12,13))),"ERROR"))))))*AB19 -> 0 | AA22: =+IF(F22=5%,IF(F21=0%,VLOOKUP(K22,FROAD,IF(AA19="ปกติ",14,IF(AA19="ฝนชุก1",15,16))),IF(F21=5%,VLOOKUP(K22,FROAD,IF(AA19="ปกติ",17,IF(AA19="ฝนชุก1",18,19))),IF(F21=10%,VLOOKUP(K22,FROAD,IF(AA19="ปกติ",20,IF(AA19="ฝนชุก1",21,22))),IF(F21=15%,VLOOKUP(K22,FROAD,IF(AA19="ปกติ",23,IF(AA19="ฝนชุก1",24,25))),"ERROR")))))*AB19 -> 0 | AB22: =+IF(F22=10%,IF(F21=0%,VLOOKUP(K22,FROAD,IF(AA19="ปกติ",26,IF(AA19="ฝนชุก1",27,28))),IF(F21=5%,VLOOKUP(K22,FROAD,IF(AA19="ปกติ",29,IF(AA19="ฝนชุก1",30,31))),IF(F21=10%,VLOOKUP(K22,FROAD,IF(AA19="ปกติ",32,IF(AA19="ฝนชุก1",33,34))),IF(F21=15%,VLOOKUP(K22,FROAD,IF(AA19="ปกติ",35,IF(AA19="ฝนชุก1",36,37))),"ERROR")))))*AB19 -> 0
B23: ดอกเบี้ยเงินกู้ | F23: 0.06 | K23: 60 | L23: =IF(K20="งานอาคาร",HLOOKUP(F22,R21:T23,3),IF(K20="งานสะพานและท่อเหลี่ยม",HLOOKUP(F22,V21:X23,3),HLOOKUP(F22,Z21:AB23,3))) -> 1.1981 | N23: FACTOR F ---> | O23: =ROUND(L22-O22,4) -> 1.2055 | Q23: =+K23 -> 60 | R23: =IF(F22=0,IF(F21=0%,VLOOKUP(K23,FBUILD,2),IF(F21=5%,VLOOKUP(K23,FBUILD,3),IF(F21=10%,VLOOKUP(K23,FBUILD,4),IF(F21=15%,VLOOKUP(K23,FBUILD,5),"ERROR")))))*S19 -> 1.1981 | S23: =+IF(F22=5%,IF(F21=0%,VLOOKUP(K23,FBUILD,6),IF(F21=5%,VLOOKUP(K23,FBUILD,7),IF(F21=10%,VLOOKUP(K23,FBUILD,8),IF(F21=15%,VLOOKUP(K23,FBUILD,9),"ERROR")))))*S19 -> 0 | T23: =+IF(F22=10%,IF(F21=0%,VLOOKUP(K23,FBUILD,10),IF(F21=5%,VLOOKUP(K23,FBUILD,11),IF(F21=10%,VLOOKUP(K23,FBUILD,12),IF(F21=15%,VLOOKUP(K23,FBUILD,13),"ERROR")))))*S19 -> 0 | V23: =IF(F22=0,IF(F21=0%,VLOOKUP(K23,FBRIDGE,2),IF(F21=5%,VLOOKUP(K23,FBRIDGE,3),IF(F21=10%,VLOOKUP(K23,FBRIDGE,4),IF(F21=15%,VLOOKUP(K23,FBRIDGE,5),"ERROR")))))*X19 -> 0 | W23: =+IF(F22=5%,IF(F21=0%,VLOOKUP(K23,FBRIDGE,6),IF(F21=5%,VLOOKUP(K23,FBRIDGE,7),IF(F21=10%,VLOOKUP(K23,FBRIDGE,8),IF(F21=15%,VLOOKUP(K23,FBRIDGE,9),"ERROR")))))*X19 -> 0 | X23: =+IF(F22=10%,IF(F21=0%,VLOOKUP(K23,FBRIDGE,10),IF(F21=5%,VLOOKUP(K23,FBRIDGE,11),IF(F21=10%,VLOOKUP(K23,FBRIDGE,12),IF(F21=15%,VLOOKUP(K23,FBRIDGE,13),"ERROR")))))*X19 -> 0 | Z23: =(IF(F22=0,IF(F21=0%,VLOOKUP(K23,FROAD,IF(AA19="ปกติ",2,IF(AA19="ฝนชุก1",3,4))),IF(F21=5%,VLOOKUP(K23,FROAD,IF(AA19="ปกติ",5,IF(AA19="ฝนชุก1",6,7))),IF(F21=10%,VLOOKUP(K23,FROAD,IF(AA19="ปกติ",8,IF(AA19="ฝนชุก1",9,10))),IF(F21=15%,VLOOKUP(K23,FROAD,IF(AA19="ปกติ",11,IF(AA19="ฝนชุก1",12,13))),"ERROR"))))))*AB19 -> 0 | AA23: =+IF(F22=5%,IF(F21=0%,VLOOKUP(K23,FROAD,IF(AA19="ปกติ",14,IF(AA19="ฝนชุก1",15,16))),IF(F21=5%,VLOOKUP(K23,FROAD,IF(AA19="ปกติ",17,IF(AA19="ฝนชุก1",18,19))),IF(F21=10%,VLOOKUP(K23,FROAD,IF(AA19="ปกติ",20,IF(AA19="ฝนชุก1",21,22))),IF(F21=15%,VLOOKUP(K23,FROAD,IF(AA19="ปกติ",23,IF(AA19="ฝนชุก1",24,25))),"ERROR")))))*AB19 -> 0 | AB23: =+IF(F22=10%,IF(F21=0%,VLOOKUP(K23,FROAD,IF(AA19="ปกติ",26,IF(AA19="ฝนชุก1",27,28))),IF(F21=5%,VLOOKUP(K23,FROAD,IF(AA19="ปกติ",29,IF(AA19="ฝนชุก1",30,31))),IF(F21=10%,VLOOKUP(K23,FROAD,IF(AA19="ปกติ",32,IF(AA19="ฝนชุก1",33,34))),IF(F21=15%,VLOOKUP(K23,FROAD,IF(AA19="ปกติ",35,IF(AA19="ฝนชุก1",36,37))),"ERROR")))))*AB19 -> 0
B24: VAT | F24: 0.07 | K24: หมายเหตุ : ใช้ FACTOR F ที่ปรับปรุงและทบทวน ของ กรมบัญชีกลาง ล่าสุด ตามหนังสือเวียน
A25: รวมราคาก่อสร้าง | H25: =SUM(H10:H24) -> 63166082 | L25: ที่ กค.0405.3/ ว.364 เมื่อวันที่ 15 ก.ย. 2559
C27: คณะกรรมการกำหนดราคากลาง
B28: น.อ. | C28: สมหมาย แสวงกิจ | D28: ประธานกรรมการ
B30: น.อ. | C30: จักรกฤษณ์ กุลศรีสมบัติ | D30: กรรมการ
B32: น.ท. | C32: สมศักดิ์ อุนานุยา | D32: กรรมการและเลขานุการ
B34: น.ต. | C34: ธีรทัต กงทอง | D34: กรรมการ
B36: น.ต. | C36: ขวัญชัย จันทร์ทอง | D36: กรรมการ

Sheet ใบสรุปแบบ ปร.5 (ข)
A1: แบบสรุปค่าครุภัณฑ์ จัดซื้อ
A2: กลุ่มงาน | B2: ='ใบสรุปแบบ ปร.5 (ก) '!B2 -> งานอาคาร
A3: ชื่อโครงการ | B3: ='แบบ ปร.6'!B2 -> งานก่อสร้างอาคารพักประทวน ขนาด 64 ครอบครัว พร้อมระบบสาธารณูปโภคและสิ่งอำนวยความสะดวก
B4: ของ กบร.กร. จำนวน 1 หลัง
A5: สถานที่ก่อสร้าง | B5: =+'แบบ ปร.6'!B4 -> อ.บ้านฉาง จว.ระยอง | D5: แบบเลขที่ | E5: 61 - 2 - 070 , 58 - 2 - 059
A6: หน่วยงานเจ้าของโครงการ/งานก่อสร้าง | D6: =+'แบบ ปร.6'!C6 -> กบร.กร. | F6: แบบ ปร. 4 ที่แนบ จำนวน | H6: 2
A8: ลำดับที่ | B8: รายการ | F8: ค่างาน | G8: ภาษี | H8: ค่าก่อสร้าง | I8: หมายเหตุ
F9: ( บาท ) | G9: มูลค่าเพิ่ม | H9: ( บาท )
A10: 1 | B10: รวมครุภัณฑ์ประจำอาคารพักประทวน 64 ครอบครัว | F10: =SUM('แบบ ปร.4_ครุภัณฑ์'!I26) -> 7520000
A11: 2 | B11: รวมครุภัณฑ์ระบบประปาและสุขาภิบาล | F11: =SUM('แบบ ปร.4_ครุภัณฑ์'!I45) -> 1670695
B22: ราคารวม ค่าครุภัณฑ์ | F22: =SUM(F10:F18) -> 9190695 | G22: 1.07 | H22: =F22*G22 -> 9834043.7
A24: รวมราคา ค่าครุภัณฑ์ จัดซื้อ | H24: =SUM(H10:H23) -> 9834043.7
C26: คณะกรรมการกำหนดราคากลาง
B27: น.อ. | C27: สมหมาย แสวงกิจ | D27: ประธานกรรมการ
B29: น.อ. | C29: จักรกฤษณ์ กุลศรีสมบัติ | D29: กรรมการ
B31: น.ท. | C31: สมศักดิ์ อุนานุยา | D31: กรรมการและเลขานุการ
B33: น.ต. | C33: ธีรทัต กงทอง | D33: กรรมการ
B35: น.ต. | C35: ขวัญชัย จันทร์ทอง | D35: กรรมการ

Sheet แบบ ปร.4_อาคาร
A1: แบบแสดงรายการปริมาณงานและราคา
A2: กลุ่มงาน | B2: ='ใบสรุปแบบ ปร.5 (ก) '!B2 -> งานอาคาร
A3: ชื่อโครงการ | B3: =+'แบบ ปร.6'!B2 -> งานก่อสร้างอาคารพักประทวน ขนาด 64 ครอบครัว พร้อมระบบสาธารณูปโภคและสิ่งอำนวยความสะดวก | F3: แบบเลขที่ | G3: 61 - 2 - 040 , 58 - 2 - 059
A4: สถานที่ | B4: =+'แบบ ปร.6'!B4 -> อ.บ้านฉาง จว.ระยอง | C4: หน่วยงานเจ้าของโครงการ | F4: =+'แบบ ปร.6'!C6 -> กบร.กร.
A6: ลำดับที่ | B6: รายการ | C6: จำนวน | D6: หน่วย | E6: ค่าวัสดุ (บาท ) | G6: ค่าแรงงาน (บาท ) | I6: รวม (บาท ) | J6: หมายเหตุ
E7: ราคาหน่วยละ | F7: จำนวนเงิน | G7: ราคาหน่วยละ | H7: จำนวนเงิน | I7: วัสดุและแรงงาน
B8: อาคารพักนายทหารประทวน 64 ครอบครัว
B9: งานฐานรากและเสาตอม่อ
B10: - งานขุดดิน | C10: 498 | D10: ลบ.ม. | E10: - | F10: - | G10: 99 | H10: =SUM(C10*G10) -> 49302 | I10: =SUM(H10) -> 49302
B11: - คอนกรีตหยาบ | C11: 24 | D11: ลบ.ม. | E11: 2065 | F11: =SUM(C11*E11) -> 49560 | G11: 398 | H11: =SUM(C11*G11) -> 9552 | I11: =SUM(F11+H11) -> 59112
B12: - คอนกรีตฐานราก | C12: 248 | D12: ลบ.ม. | E12: 2140 | F12: =SUM(C12*E12) -> 530720 | G12: 485 | H12: =SUM(C12*G12) -> 120280 | I12: =SUM(F12+H12) -> 651000
B13: - ไม้แบบ | C13: 515 | D13: ตร.ม. | E13: 200 | F13: =SUM(C13*E13) -> 103000 | G13: 115 | H13: =SUM(C13*G13) -> 59225 | I13: =SUM(F13+H13) -> 162225
B14: - เหล็กเสริมผิวเรียบ
B15: RB 9 มม. (SR 24) | C15: 0.972 | D15: ตัน | E15: 19936 | F15: =SUM(C15*E15) -> 19377.792 | G15: 4100 | H15: =SUM(C15*G15) -> 3985.2 | I15: =SUM(F15+H15) -> 23362.992
B16: - เหล็กเสริมผิวข้ออ้อย
B17: DB 16 มม. (SD 40) | C17: 1.613 | D17: ตัน | E17: 18695 | F17: =SUM(C17*E17) -> 30155.035 | G17: 3300 | H17: =SUM(C17*G17) -> 5322.9 | I17: =SUM(F17+H17) -> 35477.935
B18: DB 20 มม. (SD 40) | C18: 17.407 | D18: ตัน | E18: 18962 | F18: =SUM(C18*E18) -> 330071.53 | G18: 2900 | H18: =SUM(C18*G18) -> 50480.3 | I18: =SUM(F18+H18) -> 380551.83
B19: DB 25 มม. (SD 40) | C19: 5.073 | D19: ตัน | E19: 18644 | F19: =SUM(C19*E19) -> 94581.012 | G19: 2900 | H19: =SUM(C19*G19) -> 14711.7 | I19: =SUM(F19+H19) -> 109292.71
B20: - ลวดผูกเหล็ก | C20: 752 | D20: กก. | E20: 60 | F20: =SUM(C20*E20) -> 45120 | G20: - | H20: - | I20: =SUM(F20) -> 45120
B21: - ตะปู | C21: 129 | D21: กก. | E21: 36 | F21: =SUM(C21*E21) -> 4644 | G21: - | H21: - | I21: =SUM(F21) -> 4644
B22: - เสาเข็มเจาะ ขนาดเส้นผ่าศูนย์กลาง 0.50 x 12.00 ม. | C22: 216 | D22: ต้น | E22: 14400 | F22: =SUM(C22*E22) -> 3110400 | G22: วัสดุ+ | H22: แรงงาน | I22: =SUM(F22) -> 3110400 | K22: 14500 | L22: 5 แผ่น
B23: - SEISMIC TEST | C23: 216 | D23: ต้น | E23: 250 | F23: =SUM(C23*E23) -> 54000 | G23: วัสดุ+ | H23: แรงงาน | I23: =SUM(F23) -> 54000
B24: - DYNAMIC LOAD TEST | C24: 2 | D24: ต้น | E24: 25000 | F24: =SUM(C24*E24) -> 50000 | G24: วัสดุ+ | H24: แรงงาน | I24: =SUM(F24) -> 50000
B25: - ค่าสกัดหัวเสาเข็มเจาะ ขนาดเส้นผ่าศูนย์กลาง 0.50 | C25: 216 | D25: ต้น | E25: - | F25: - | G25: 500 | H25: =SUM(C25*G25) -> 108000 | I25: =SUM(H25) -> 108000 | M25: =SUM(I28+I49+I70+#REF!+#REF!) -> #REF!
B27: รวม | F27: =SUM(F9:F26) -> 4421629.4 | H27: =SUM(H8:H26) -> 420859.1 | K27: =+H27+F27 -> 4842488.5
B28: รวมเงินหน้านี้ | I28: =SUM(I9:I26) -> 4842488.5
B29: งานโครงสร้าง
B30: - คอนกรีต | C30: 896 | D30: ลบ.ม. | E30: 2140 | F30: =SUM(C30*E30) -> 1917440 | G30: 485 | H30: =SUM(C30*G30) -> 434560 | I30: =SUM(F30+H30) -> 2352000
B31: - Non Shrink Grout | C31: 0.5 | D31: ลบ.ม. | E31: 20625 | F31: =SUM(C31*E31) -> 10312.5 | G31: วัสดุ+ | H31: แรงงาน | I31: =SUM(F31) -> 10312.5
B32: - ไม้แบบ | C32: 9429 | D32: ตร.ม. | E32: 200 | F32: =SUM(C32*E32) -> 1885800 | G32: 115 | H32: =SUM(C32*G32) -> 1084335 | I32: =SUM(F32+H32) -> 2970135
B33: - เหล็กเสริมผิวเรียบ
B34: RB 6 มม. (SR 24) | C34: 10.371 | D34: ตัน | E34: 21266 | F34: =SUM(C34*E34) -> 220549.69 | G34: 4100 | H34: =SUM(C34*G34) -> 42521.1 | I34: =SUM(F34+H34) -> 263070.79
B35: RB 9 มม. (SR 24) | C35: 18.45 | D35: ตัน | E35: 19936 | F35: =SUM(C35*E35) -> 367819.2 | G35: 4100 | H35: =SUM(C35*G35) -> 75645 | I35: =SUM(F35+H35) -> 443464.2
B36: - เหล็กเสริมผิวข้ออ้อย
B37: DB 12 มม. (SD 40) | C37: 13.412 | D37: ตัน | E37: 19189 | F37: =SUM(C37*E37) -> 257362.87 | G37: 3300 | H37: =SUM(C37*G37) -> 44259.6 | I37: =SUM(F37+H37) -> 301622.47
B38: DB 16 มม. (SD 40) | C38: 32.645 | D38: ตัน | E38: 18695 | F38: =SUM(C38*E38) -> 610298.28 | G38: 3300 | H38: =SUM(C38*G38) -> 107728.5 | I38: =SUM(F38+H38) -> 718026.78
B39: DB 20 มม. (SD 40) | C39: 32.086 | D39: ตัน | E39: 18962 | F39: =SUM(C39*E39) -> 608414.73 | G39: 2900 | H39: =SUM(C39*G39) -> 93049.4 | I39: =SUM(F39+H39) -> 701464.13
B40: DB 25 มม. (SD 40) | C40: 7.004 | D40: ตัน | E40: 18644 | F40: =SUM(C40*E40) -> 130582.58 | G40: 2900 | H40: =SUM(C40*G40) -> 20311.6 | I40: =SUM(F40+H40) -> 150894.18
B41: - ตะปู | C41: 2358 | D41: กก. | E41: 36 | F41: =SUM(C41*E41) -> 84888 | G41: - | H41: - | I41: =SUM(F41) -> 84888
B42: - ลวดผูกเหล็ก | C42: 3420 | D42: กก. | E42: 60 | F42: =SUM(C42*E42) -> 205200 | G42: - | H42: - | I42: =SUM(F42) -> 205200
...

Sheet แบบ ปร.4ไฟฟ้าภายใน
A1: แบบแสดงรายการปริมาณงานและราคา
A2: กลุ่มงาน | B2: ='ใบสรุปแบบ ปร.5 (ก) '!B2 -> งานอาคาร
A3: ชื่อโครงการ | B3: =+'แบบ ปร.6'!B2 -> งานก่อสร้างอาคารพักประทวน ขนาด 64 ครอบครัว พร้อมระบบสาธารณูปโภคและสิ่งอำนวยความสะดวก | F3: แบบเลขที่ | G3: 61 - 2 - 040 , 58 - 2 - 059
A4: สถานที่ | B4: =+'แบบ ปร.6'!B4 -> อ.บ้านฉาง จว.ระยอง | C4: หน่วยงานเจ้าของโครงการ | F4: =+'แบบ ปร.6'!C6 -> กบร.กร.
A6: ลำดับที่ | B6: รายการ | C6: จำนวน | D6: หน่วย | E6: ค่าวัสดุ (บาท ) | G6: ค่าแรงงาน (บาท ) | I6: รวม (บาท ) | J6: หมายเหตุ
E7: ราคาหน่วยละ | F7: จำนวนเงิน | G7: ราคาหน่วยละ | H7: จำนวนเงิน | I7: วัสดุและแรงงาน
B8: ระบบไฟฟ้าภายในอาคารพักนายทหารประทวน 64 ครอบครัว
B9: - โคมไฟกล่องเหล็กติดลอยแบบเปลือย (แบบอกไก่) หลอด LED TUBE
B10: 2x18W แสง Daylight | C10: 2 | D10: ชุด | E10: 1310 | F10: =SUM(C10*E10) -> 2620 | G10: 150 | H10: =C10*G10 -> 300 | I10: =SUM(F10+H10) -> 2920
B11: - โคมไฟกล่องเหล็กติดลอยแบบเปลือย หลอด LED TUBE
B12: 1x18W แสง Daylight | C12: 76 | D12: ชุด | E12: 690 | F12: =SUM(C12*E12) -> 52440 | G12: 115 | H12: =C12*G12 -> 8740 | I12: =SUM(F12+H12) -> 61180
B13: - โคมไฟกล่องเหล็กติดลอยแบบเปลือย หลอด LED TUBE
B14: 1x9W แสง Daylight | C14: 64 | D14: ชุด | E14: 560 | F14: =SUM(C14*E14) -> 35840 | G14: 115 | H14: =C14*G14 -> 7360 | I14: =SUM(F14+H14) -> 43200
B15: - CELING LUMINAIRE 4x5W. LED. BUBE LAMP | C15: 256 | D15: ชุด | E15: 1100 | F15: =SUM(C15*E15) -> 281600 | G15: 115 | H15: =SUM(C15*G15) -> 29440 | I15: =SUM(F15+H15) -> 311040
B16: - SURFACE TYPE DOWNLIGHT LUMINAIRE 5W.
B17: LED. BUBE LAMP OUTDOOR TYPE | C17: 64 | D17: ชุด | E17: 600 | F17: =SUM(C17*E17) -> 38400 | G17: 115 | H17: =SUM(C17*G17) -> 7360 | I17: =SUM(F17+H17) -> 45760
B18: - RECESS TYPE DOWNLIGHT LUMINAIRE 5W.
B19: LED. BUBE LAMP INDOOR TYPE | C19: 128 | D19: ชุด | E19: 400 | F19: =SUM(C19*E19) -> 51200 | G19: 115 | H19: =SUM(C19*G19) -> 14720 | I19: =SUM(F19+H19) -> 65920
B20: - สวิทซ์ปิด-เปิดทางเดียว ทนกระแสไม่น้อนกว่า 16A.
B21: ทนแรงดันไม่น้อยกว่า 250V.AC. | C21: 474 | D21: ชุด | E21: 60 | F21: =SUM(C21*E21) -> 28440 | G21: 80 | H21: =C21*G21 -> 37920 | I21: =SUM(F21+H21) -> 66360
B22: - สวิทซ์ปิด-เปิดสองทาง ทนกระแสไม่น้อนกว่า 16A.
B23: ทนแรงดันไม่น้อยกว่า 250V.AC. | C23: 40 | D23: ชุด | E23: 96 | F23: =SUM(C23*E23) -> 3840 | G23: 90 | H23: =C23*G23 -> 3600 | I23: =SUM(F23+H23) -> 7440
B24: - เต้ารับคู่แบบมีกราวด์ (2P+G) ทนกระแสไม่น้อยกว่า 16A.
B25: ทนแรงดันไม่น้อยกว่า 250V.AC. | C25: 724 | D25: ชุด | E25: 200 | F25: =SUM(C25*E25) -> 144800 | G25: 90 | H25: =SUM(C25*G25) -> 65160 | I25: =SUM(F25+H25) -> 209960
B28: รวม | F28: =SUM(F8:F26) -> 639180 | H28: =SUM(H8:H26) -> 174600 | K28: =+H28+F28 -> 813780
B29: รวมเงินหน้านี้ | I29: =SUM(I10:I27) -> 813780
B30: ระบบไฟฟ้าภายในอาคารพักนายทหารประทวน 64 ครอบครัว (ต่อ)
B31: - เต้ารับเดี่ยวแบบไม่มีกราวด์ (2P) ทนกระแสไม่น้อยกว่า 16A.
B32: ทนแรงดันไม่น้อยกว่า 250V.AC. | C32: 64 | D32: ชุด | E32: 110 | F32: =SUM(C32*E32) -> 7040 | G32: 90 | H32: =SUM(C32*G32) -> 5760 | I32: =SUM(F32+H32) -> 12800
B33: - 6" EXHAUST FAN | C33: 64 | D33: ชุด | E33: 900 | F33: =SUM(C33*E33) -> 57600 | G33: 350 | H33: =SUM(C33*G33) -> 22400 | I33: =SUM(F33+H33) -> 80000
B34: - JUNCTION BOX | C34: 320 | D34: ชุด | E34: 70 | F34: =SUM(C34*E34) -> 22400 | G34: 60 | H34: =SUM(C34*G34) -> 19200 | I34: =SUM(F34+H34) -> 41600
B35: - 800A. 600V.AC. SAFETY SWITCHES HEAVY DUTY FUSIBLE (INDOOR TYPE) | C35: 1 | D35: ชุด | E35: 192960 | F35: =SUM(C35*E35) -> 192960 | G35: 100 | H35: =SUM(C35*G35) -> 100 | I35: =SUM(F35+H35) -> 193060
B36: ตู้ CU. 1-64
B37: - ตู้ CONSUMER UNIT ชนิดมี 6 ช่อง พร้อม MAIN CIRCUIT
B38: BREAKER 50AT. 2P MCB 10kA. IC at 240 V. | C38: 64 | D38: ตู้ | E38: 2835 | F38: =SUM(C38*E38) -> 181440 | G38: 800 | H38: =SUM(C38*G38) -> 51200 | I38: =SUM(F38+H38) -> 232640
B39: - BRANCH BREAKER 20AT. 1P 6kA. IC | C39: 320 | D39: ชุด | E39: 158 | F39: =SUM(C39*E39) -> 50560 | G39: - | H39: - | I39: =SUM(F39) -> 50560
B40: - BRANCH BREAKER 32AT. 1P 6kA. IC ELCB. | C40: 64 | D40: ชุด | E40: 1533 | F40: =SUM(C40*E40) -> 98112 | G40: - | H40: - | I40: =SUM(F40) -> 98112
B41: ตู้ MDB.TS 1436
B42: - ตู้ MAIN DISTRIBUTION BOARD และ CU BUSBAR
B43: FN/HG 1000A. 3Ph - 4W. 50Hz. พร้อมอุปกรณ์ | C43: 1 | D43: ตู้ | E43: 200000 | F43: =SUM(C43*E43) -> 200000 | G43: 30000 | H43: =SUM(C43*G43) -> 30000 | I43: =SUM(F43+H43) -> 230000
...

Sheet แบบ ปร.4_ประปาภายใน
A1: แบบแสดงรายการปริมาณงานและราคา
A2: กลุ่มงาน | B2: ='ใบสรุปแบบ ปร.5 (ก) '!B2 -> งานอาคาร
A3: ชื่อโครงการ | B3: =+'แบบ ปร.6'!B2 -> งานก่อสร้างอาคารพักประทวน ขนาด 64 ครอบครัว พร้อมระบบสาธารณูปโภคและสิ่งอำนวยความสะดวก | F3: แบบเลขที่ | G3: 61 - 2 - 040 , 58 - 2 - 059
A4: สถานที่ | B4: =+'แบบ ปร.6'!B4 -> อ.บ้านฉาง จว.ระยอง | C4: หน่วยงานเจ้าของโครงการ | F4: =+'แบบ ปร.6'!C6 -> กบร.กร.
A6: ลำดับที่ | B6: รายการ | C6: จำนวน | D6: หน่วย | E6: ค่าวัสดุ (บาท ) | G6: ค่าแรงงาน (บาท ) | I6: รวม (บาท ) | J6: หมายเหตุ
E7: ราคาหน่วยละ | F7: จำนวนเงิน | G7: ราคาหน่วยละ | H7: จำนวนเงิน | I7: วัสดุและแรงงาน
B8: ระบบประปาและสุขาภิบาลภายในอาคารพักนายทหารประทวน 64 ครอบครัว
B9: เดินท่อฯ จาก มิเตอร์น้ำประปา ภายนอก เข้าถังเก็บน้ำฯ ชั้นล่าง
B10: HDPE PN 10,PE 100
B11: - Ø 50 mm. | C11: 7 | D11: เมตร | E11: 54 | F11: =SUM(E11*C11) -> 378 | G11: 50 | H11: =SUM(G11*C11) -> 350 | I11: =SUM(H11+F11) -> 728
B12: - Ø 90 mm. | C12: 15 | D12: เมตร | E12: 166 | F12: =SUM(E12*C12) -> 2490 | G12: 120 | H12: =SUM(G12*C12) -> 1800 | I12: =SUM(H12+F12) -> 4290
B13: - ข้อต่อ อุปกรณ์ยึดท่อ + อื่นๆ | C13: 1 | D13: งาน | E13: 750 | F13: =SUM(E13*C13) -> 750 | G13: - | H13: - | I13: =SUM(F13) -> 750
B14: - ทดสอบ ทำความสะอาด ทาสี ทำสัญลักษณ์ท่อฯ | C14: 1 | D14: งาน | E14: 300 | F14: =SUM(E14*C14) -> 300 | G14: 100 | H14: =SUM(G14*C14) -> 100 | I14: =SUM(H14+F14) -> 400
B15: GSP ( bs-m )
B16: - Ø 4" | C16: 4 | D16: ม. | E16: 427 | F16: =SUM(E16*C16) -> 1708 | G16: 250 | H16: =SUM(G16*C16) -> 1000 | I16: =SUM(H16+F16) -> 2708
B17: - ข้อต่อ อุปกรณ์ยึดท่อ + อื่นๆ | C17: 1 | D17: งาน | E17: 400 | F17: =SUM(E17*C17) -> 400 | G17: - | H17: - | I17: =SUM(F17) -> 400
B18: - ทดสอบ ทำความสะอาด ทาสี ทำสัญลักษณ์ท่อฯ | C18: 1 | D18: งาน | E18: 200 | F18: =SUM(E18*C18) -> 200 | G18: 100 | H18: =SUM(G18*C18) -> 100 | I18: =SUM(H18+F18) -> 300
B19: GATE VALVE
B20: - Ø 3" | C20: 4 | D20: ตัว | E20: 11415 | F20: =C20*E20 -> 45660 | G20: 600 | H20: =SUM(C20*G20) -> 2400 | I20: =SUM(F20+H20) -> 48060
B21: - Ø 4" | C21: 1 | D21: ตัว | E21: 16340 | F21: =C21*E21 -> 16340 | G21: 800 | H21: =SUM(C21*G21) -> 800 | I21: =SUM(F21+H21) -> 17140
B22: WATER METER
B23: - Ø 2 1/2" | C23: 1 | D23: ตัว | E23: 14553 | F23: =SUM(E23*C23) -> 14553 | G23: 500 | H23: =SUM(G23*C23) -> 500 | I23: =SUM(H23+F23) -> 15053
B24: MODULATING FLOAT VALVE
B25: - Ø 3" | C25: 2 | D25: ตัว | E25: 35800 | F25: =SUM(E25*C25) -> 71600 | G25: - | H25: - | I25: =SUM(F25) -> 71600
B26: - หน้าแปลนเหล็ก Ø 4" | C26: 6 | D26: แผ่น | E26: 454 | F26: =C26*E26 -> 2724 | G26: - | H26: - | I26: =SUM(F26) -> 2724
B28: รวม | F28: =SUM(F9:F26) -> 157103 | H28: =SUM(H9:H27) -> 7050 | K28: =SUM(F28+H28) -> 164153
B29: รวมเงินหน้านี้ | I29: =SUM(I9:I26) -> 164153
B30: ระบบประปาและสุขาภิบาลภายในอาคารพักนายทหารประทวน 64 ครอบครัว (ต่อ)
B31: MODULATING FLOAT VALVE (ต่อ)
B32: - ประเก็นยาง Ø 4" + น๊อต | C32: 6 | D32: ชุด | E32: 435 | F32: =C32*E32 -> 2610 | G32: - | H32: - | I32: =SUM(F32) -> 2610 | K32: =SUM(F28+H28) -> 164153
B33: - Valve Box ขนาดเท่ากับบ่อพักน้ำ MH 2 มีฝาเหล็ก หนา 3 มม. | M33: =SUM(I29) -> 164153
B34: ปิดครอบกันน้ำฝน พร้อมด้ามจับ ทั้ง 2 ด้าน ทาสีกันสนิม 2 ชั้น | C34: 1 | D34: ชุด | E34: 4500 | F34: =C34*E34 -> 4500 | G34: วัสดุ+แรงงาน | I34: =SUM(F34) -> 4500
B35: เดินท่อฯ จาก ถังเก็บน้ำไฟเบอร์กลาส ชั้นล่าง จ่ายขึ้นถังเก็บน้ำฯ
B36: บนหลังคา
B37: GSP ( bs-m )
B38: - Ø 3" | C38: 96 | D38: ม. | E38: 293 | F38: =SUM(E38*C38) -> 28128 | G38: 175 | H38: =SUM(G38*C38) -> 16800 | I38: =SUM(H38+F38) -> 44928 | M38: =SUM(I32:I34) -> 7110 | N38: =SUM(M33+M38) -> 171263
B39: - Ø 4" | C39: 4 | D39: ม. | E39: 427 | F39: =SUM(E39*C39) -> 1708 | G39: 250 | H39: =SUM(G39*C39) -> 1000 | I39: =SUM(H39+F39) -> 2708
B40: - Ø 6" | C40: 13 | D40: ม. | E40: 690 | F40: =SUM(E40*C40) -> 8970 | G40: 400 | H40: =SUM(G40*C40) -> 5200 | I40: =SUM(H40+F40) -> 14170
B41: - ข้อต่อ อุปกรณ์ยึดท่อ + อื่นๆ | C41: 1 | D41: งาน | E41: 7900 | F41: =SUM(E41*C41) -> 7900 | G41: - | H41: - | I41: =SUM(F41) -> 7900
B42: - ทดสอบ ทำความสะอาด ทาสี ทำสัญลักษณ์ท่อฯ | C42: 1 | D42: งาน | E42: 3000 | F42: =SUM(E42*C42) -> 3000 | G42: 900 | H42: =SUM(G42*C42) -> 900 | I42: =SUM(H42+F42) -> 3900
...

Sheet แบบ ปร.4 ภูมิ+ถนน+ลาน
A1: แบบแสดงรายการปริมาณงานและราคา
A2: กลุ่มงาน | B2: ='ใบสรุปแบบ ปร.5 (ก) '!B2 -> งานอาคาร
A3: ชื่อโครงการ | B3: =+'แบบ ปร.6'!B2 -> งานก่อสร้างอาคารพักประทวน ขนาด 64 ครอบครัว พร้อมระบบสาธารณูปโภคและสิ่งอำนวยความสะดวก | F3: แบบเลขที่ | G3: 62 - 2 - 083
A4: สถานที่ | B4: =+'แบบ ปร.6'!B4 -> อ.บ้านฉาง จว.ระยอง | C4: หน่วยงานเจ้าของโครงการ | F4: =+'แบบ ปร.6'!C6 -> กบร.กร.
A6: ลำดับที่ | B6: รายการ | C6: จำนวน | D6: หน่วย | E6: ค่าวัสดุ (บาท ) | G6: ค่าแรงงาน (บาท ) | I6: รวม (บาท ) | J6: หมายเหตุ
E7: ราคาหน่วยละ | F7: จำนวนเงิน | G7: ราคาหน่วยละ | H7: จำนวนเงิน | I7: วัสดุและแรงงาน
B8: งานภูมิสถาปัตยกรรม
B9: - ไถปรับระดับ (ตัดดิน) พื้นที่ก่อสร้าง ให้ได้ระดับพร้อมขุดลอกหน้าดิน
B10: ที่อ่อนและมีว้ชพืชออก | C10: 5198 | D10: ตร.ม. | E10: - | F10: - | G10: 60 | H10: =SUM(C10*G10) -> 311880 | I10: =SUM(H10) -> 311880
B11: - งานขอบคัน ค.ส.ล. | C11: 383 | D11: ม. | E11: 250 | F11: =SUM(C11*E11) -> 95750 | G11: วัสดุ + | H11: แรงงาน | I11: =SUM(F11) -> 95750
B12: - งานปรับระดับดินพร้อมปลูกหญ้านวลน้อย | C12: 1105 | D12: ตร.ม. | E12: 60 | F12: =SUM(C12*E12) -> 66300 | G12: วัสดุ + | H12: แรงงาน | I12: =SUM(F12) -> 66300
B13: - งานพื้นกระเบื้องคอนกรีตบล๊อคพิมพ์ลาย
B14: ขนาด 0.30 x 0.30 ม. ความหนา 6 ซม. | C14: 376 | D14: ตร.ม. | E14: 450 | F14: =SUM(C14*E14) -> 169200 | G14: วัสดุ + | H14: แรงงาน | I14: =SUM(F14) -> 169200
B15: - แท่งคอนครีตหยุดล้อรถ (Wheel Stopper) พร้อมอุปกรณ์ยึด | C15: 39 | D15: ชุด | E15: 150 | F15: =SUM(C15*E15) -> 5850 | G15: วัสดุ + | H15: แรงงาน | I15: =SUM(F15) -> 5850
B16: - ตีเส้นแบ่งที่จอดรถ | C16: 222 | D16: ม. | E16: 35 | F16: =SUM(C16*E16) -> 7770 | G16: วัสดุ + | H16: แรงงาน | I16: =SUM(F16) -> 7770
B26: รวม | F26: =SUM(F9:F25) -> 344870 | H26: =SUM(H10:H25) -> 311880 | K26: =+H26+F26 -> 656750
B27: รวมเงินหน้านี้ | I27: =SUM(I9:I25) -> 656750
B28: งานถนนและลานลาดยาง (ถนนและลาน = 1,246 ตร.ม.)
B29: - ค่าแรงบดอัดแน่นดินเดิม | C29: 1246 | D29: ตร.ม. | E29: - | F29: - | G29: 20 | H29: =SUM(G29*C29) -> 24920 | I29: =SUM(H29) -> 24920
B30: - งานลูกรังชั้นรองพื้นทาง | C30: 424 | D30: ลบ.ม. | E30: 200 | F30: =SUM(C30*E30) -> 84800 | G30: - | H30: - | I30: =SUM(F30) -> 84800
B31: - ค่าแรงบดอัดชั้นรองพื้นทาง | C31: 1246 | D31: ตร.ม. | E31: - | F31: - | G31: 20 | H31: =SUM(G31*C31) -> 24920 | I31: =SUM(H31) -> 24920
B32: - งานหินคลุกชั้นพื้นทาง | C32: 300 | D32: ลบ.ม. | E32: 210 | F32: =SUM(C32*E32) -> 63000 | G32: - | H32: - | I32: =SUM(F32) -> 63000
B33: - ค่าแรงบดอัดชั้นพื้นทาง | C33: 1246 | D33: ตร.ม. | E33: - | F33: - | G33: 20 | H33: =SUM(G33*C33) -> 24920 | I33: =SUM(H33) -> 24920
B34: - PRIME COAT | C34: 1246 | D34: ตร.ม. | E34: 30 | F34: =SUM(C34*E34) -> 37380 | G34: วัสดุ+ | H34: แรงงาน | I34: =SUM(F34) -> 37380
B35: - ผิงทาง ASPHALTIC CONCRETE หนา 0.05 ม. | C35: 1246 | D35: ตร.ม. | E35: 300 | F35: =SUM(C35*E35) -> 373800 | G35: วัสดุ+ | H35: แรงงาน | I35: =SUM(F35) -> 373800
B46: รวม | F46: =SUM(F29:F45) -> 558980 | H46: =SUM(H28:H42) -> 74760 | K46: =SUM(F46+H46) -> 633740
B47: รวมเงินหน้านี้ | I47: =SUM(I29:I46) -> 633740

Sheet แบบ ปร.ไฟฟ้านอก
A1: แบบแสดงรายการปริมาณงานและราคา
A2: กลุ่มงาน | B2: ='ใบสรุปแบบ ปร.5 (ก) '!B2 -> งานอาคาร
A3: ชื่อโครงการ | B3: =+'แบบ ปร.6'!B2 -> งานก่อสร้างอาคารพักประทวน ขนาด 64 ครอบครัว พร้อมระบบสาธารณูปโภคและสิ่งอำนวยความสะดวก | F3: แบบเลขที่ | G3: 62 - 5 - 032
A4: สถานที่ | B4: =+'แบบ ปร.6'!B4 -> อ.บ้านฉาง จว.ระยอง | C4: หน่วยงานเจ้าของโครงการ | F4: =+'แบบ ปร.6'!C6 -> กบร.กร.
A6: ลำดับที่ | B6: รายการ | C6: จำนวน | D6: หน่วย | E6: ค่าวัสดุ (บาท ) | G6: ค่าแรงงาน (บาท ) | I6: รวม (บาท ) | J6: หมายเหตุ
E7: ราคาหน่วยละ | F7: จำนวนเงิน | G7: ราคาหน่วยละ | H7: จำนวนเงิน | I7: วัสดุและแรงงาน
B8: งานระบบไฟฟ้าภายนอก
B9: - เสาไฟฟ้าแรงสูง คอร. ขนาด 12.20 ม. | C9: 13 | D9: ต้น | E9: 7900 | F9: =C9*E9 -> 102700 | G9: - | H9: - | I9: =SUM(F9) -> 102700
B10: - คอนนั่งร้านหม้อแปลงไฟฟ้า คอร. | C10: 2 | D10: ชุด | E10: 2200 | F10: =C10*E10 -> 4400 | G10: - | H10: - | I10: =SUM(F10) -> 4400
B11: - คอนรับสายลงหม้อแปลงไฟฟ้า (HOTDIP CHANNEL STELL BEAM) | C11: 2 | D11: ชุด | E11: 7225 | F11: =C11*E11 -> 14450 | G11: - | H11: - | I11: =SUM(F11) -> 14450
B12: - เหล็กหูช้างรับคานนั่งร้าน | C12: 4 | D12: ชุด | E12: 1340 | F12: =C12*E12 -> 5360 | G12: - | H12: - | I12: =SUM(F12) -> 5360
B13: - คอนสปั่น คอร. | C13: 32 | D13: ชุด | E13: 2550 | F13: =C13*E13 -> 81600 | G13: - | H13: - | I13: =SUM(F13) -> 81600
B14: - เหล็กประกับไม้คอน. ขนาด 1 1/4" x 1/4" x 36" | C14: 64 | D14: ชุด | E14: 100 | F14: =C14*E14 -> 6400 | G14: - | H14: - | I14: =SUM(F14) -> 6400
B15: - ฮอทไลท์แคล้มป์ | C15: 6 | D15: ชุด | E15: 360 | F15: =C15*E15 -> 2160 | G15: - | H15: - | I15: =SUM(F15) -> 2160
B16: - เบลแคล้มป์ | C16: 6 | D16: ชุด | E16: 440 | F16: =C16*E16 -> 2640 | G16: - | H16: - | I16: =SUM(F16) -> 2640
B17: - DROP FUSE | C17: 3 | D17: ชุด | E17: 5900 | F17: =C17*E17 -> 17700 | G17: - | H17: - | I17: =SUM(F17) -> 17700
B18: - FUSE LINK | C18: 3 | D18: ชุด | E18: 250 | F18: =C18*E18 -> 750 | G18: - | H18: - | I18: =SUM(F18) -> 750
B19: - LIGHTNING ARRESTER ( HV) | C19: 3 | D19: ชุด | E19: 4200 | F19: =C19*E19 -> 12600 | G19: - | H19: - | I19: =SUM(F19) -> 12600
B20: - LINE POST INSULATOR | C20: 16 | D20: ชุด | E20: 720 | F20: =C20*E20 -> 11520 | G20: - | H20: - | I20: =SUM(F20) -> 11520
B21: - SUSPENSION INSULATOR | C21: 240 | D21: ชุด | E21: 480 | F21: =C21*E21 -> 115200 | G21: - | H21: - | I21: =SUM(F21) -> 115200
B22: - 500 KVA. 22 KV-400/230 V.AC .3ø-4W 50 Hz. OIL - IMMSED
B23: TYPE ( HERMETTICALLY SEALED) PLAT FORM TRANSFORMER | C23: 1 | D23: ชุด | E23: 340000 | F23: =SUM(C23*E23) -> 340000 | G23: - | H23: - | I23: =SUM(F23) -> 340000
B24: - GROUND ROD LOW HIGH VOLTAGE | C24: 1 | D24: ชุด | E24: 5600 | F24: =SUM(C24*E24) -> 5600 | I24: =SUM(F24+H24) -> 5600
B26: รวม | F26: =SUM(F9:F25) -> 723080 | K26: =+H26+F26 -> 723080
B27: รวมเงินหน้านี้ | I27: =SUM(I9:I25) -> 723080
B28: งานระบบไฟฟ้าภายนอก (ต่อ)
B29: - SAFETY SWITCH 800A.600V.AC. | C29: 1 | D29: ชุด | E29: 294975 | F29: =SUM(C29*E29) -> 294975 | G29: - | H29: - | I29: =SUM(F29) -> 294975
B30: - สายไฟฟ้า 6 Sq.mm. THW | C30: 440 | D30: เมตร | E30: 20 | F30: =C30*E30 -> 8800 | G30: - | H30: - | I30: =SUM(F30) -> 8800
B31: - สายไฟฟ้า 6 Sq.mm. CV. 0.6/1 kV. | C31: 20 | D31: เมตร | E31: 33 | F31: =C31*E31 -> 660 | G31: - | H31: - | I31: =SUM(F31) -> 660
B32: - สายไฟฟ้า 240 Sq.mm. CV. 0.6/1 kV. | C32: 57 | D32: เมตร | E32: 925 | F32: =C32*E32 -> 52725 | G32: - | H32: - | I32: =SUM(F32) -> 52725
B33: - สายไฟฟ้า 300 Sq.mm. CV. 0.6/1 kV. | C33: 173 | D33: เมตร | E33: 1168 | F33: =C33*E33 -> 202064 | G33: - | H33: - | I33: =SUM(F33) -> 202064
B34: - สายไฟฟ้า 50 Sq.mm. SAC 24 kV. | C34: 812 | D34: เมตร | E34: 136 | F34: =C34*E34 -> 110432 | G34: - | H34: - | I34: =SUM(F34) -> 110432
B35: - ท่อ ขนาด 1" IMC | C35: 3 | D35: ท่อน | E35: 291 | F35: =C35*E35 -> 873 | G35: - | H35: - | I35: =SUM(F35) -> 873
B36: - ท่อ ขนาด 4" IMC | C36: 1 | D36: ท่อน | E36: 2438 | F36: =C36*E36 -> 2438 | G36: - | H36: - | I36: =SUM(F36) -> 2438
B37: - ท่อ ขนาด 40 mm. HDPE | C37: 10 | D37: เมตร | E37: 34 | F37: =C37*E37 -> 340 | G37: - | H37: - | I37: =SUM(F37) -> 340
B38: - PREFORMED 50 Sq.mm. | C38: 60 | D38: ชุด | E38: 166 | F38: =C38*E38 -> 9960 | G38: - | H38: - | I38: =SUM(F38) -> 9960
B39: - สายล่อฟ้า 25 Sq.mm. OHGW | C39: 255 | D39: เมตร | E39: 22 | F39: =C39*E39 -> 5610 | G39: - | H39: - | I39: =SUM(F39) -> 5610
B40: - OVER HEAD BAYONET 65X65X6X2250 mm. | C40: 8 | D40: ชุด | E40: 1112 | F40: =SUM(C40*E40) -> 8896 | G40: - | H40: - | I40: =SUM(F40) -> 8896
B41: - CONNER BAYONET 65X65X6X2150 mm. | C41: 4 | D41: ชุด | E41: 1120 | F41: =SUM(C41*E41) -> 4480 | G41: - | H41: - | I41: =SUM(F41) -> 4480
B42: - DEAD END BAYONET 65X65X6X2250 mm. | C42: 1 | D42: ชุด | E42: 1344 | F42: =SUM(C42*E42) -> 1344 | G42: - | H42: - | I42: =SUM(F42) -> 1344
...

Sheet แบบ ปร.ประปานอก
A1: แบบแสดงรายการปริมาณงานและราคา
A2: กลุ่มงาน | B2: ='ใบสรุปแบบ ปร.5 (ก) '!B2 -> งานอาคาร
A3: ชื่อโครงการ | B3: =+'แบบ ปร.6'!B2 -> งานก่อสร้างอาคารพักประทวน ขนาด 64 ครอบครัว พร้อมระบบสาธารณูปโภคและสิ่งอำนวยความสะดวก | F3: แบบเลขที่ | G3: 62 - 4 - 014
A4: สถานที่ | B4: =+'แบบ ปร.6'!B4 -> อ.บ้านฉาง จว.ระยอง | C4: หน่วยงานเจ้าของโครงการ | F4: =+'แบบ ปร.6'!C6 -> กบร.กร.
A6: ลำดับที่ | B6: รายการ | C6: จำนวน | D6: หน่วย | E6: ค่าวัสดุ (บาท ) | G6: ค่าแรงงาน (บาท ) | I6: รวม (บาท ) | J6: หมายเหตุ
E7: ราคาหน่วยละ | F7: จำนวนเงิน | G7: ราคาหน่วยละ | H7: จำนวนเงิน | I7: วัสดุและแรงงาน
B8: งานประปาภายนอก
B9: HDPE PE100,PN10
B10: - Ø 90 mm. | C10: 127 | D10: เมตร | E10: 166 | F10: =SUM(E10*C10) -> 21082 | G10: 120 | H10: =SUM(G10*C10) -> 15240 | I10: =SUM(H10+F10) -> 36322
B11: - Ø 110 mm. | C11: 129 | D11: เมตร | E11: 248 | F11: =SUM(E11*C11) -> 31992 | G11: 150 | H11: =SUM(G11*C11) -> 19350 | I11: =SUM(H11+F11) -> 51342
B12: SP(Sleeve) (ใช้วิธีดันลอด)
B13: - Ø 6 " | C13: 9 | D13: เมตร | E13: 3774 | F13: =SUM(E13*C13) -> 33966 | G13: - | H13: - | I13: =SUM(F13) -> 33966
B14: อุปกรณ์ข้อต่อ HDPE (สวมอัด)
B15: - ข้อต่อ 90° Ø 90 x 90 mm. | C15: 4 | D15: อัน | E15: 1243 | F15: =SUM(C15*E15) -> 4972 | G15: - | H15: - | I15: =SUM(F15) -> 4972
B16: - ข้อต่อตรง Ø 90 x 90 mm. | C16: 1 | D16: อัน | E16: 1152 | F16: =SUM(C16*E16) -> 1152 | G16: - | H16: - | I16: =SUM(F16) -> 1152
B17: - ข้อต่อตรง Ø 110 x 110 mm. | C17: 2 | D17: อัน | E17: 1411 | F17: =SUM(C17*E17) -> 2822 | G17: - | H17: - | I17: =SUM(F17) -> 2822
B18: - Accessories & Painting,Cleaning | C18: 1 | D18: งาน | E18: 8700 | F18: =SUM(E18*C18) -> 8700 | G18: 2600 | H18: =SUM(G18*C18) -> 2600 | I18: =SUM(H18+F18) -> 11300
B26: รวม | F26: =SUM(F9:F25) -> 104686 | H26: =SUM(H8:H24) -> 37190 | K26: =+H26+F26 -> 141876
B27: รวมเงินหน้านี้ | I27: =SUM(I9:I25) -> 141876
B28: งานประปาภายนอก (ต่อ)
B29: อุปกรณ์ประกอบ
B30: VALVE BOX เดิมเปลี่ยนอุปกรณ์บางส่วน (รายละเอียดตามแบบ)
B31: - GATE VALVE Ø 4" | C31: 1 | D31: ชุด | E31: 16340 | F31: =SUM(E31*C31) -> 16340 | G31: 800 | H31: =SUM(G31*C31) -> 800 | I31: =SUM(H31+F31) -> 17140
B32: - ท่อ GSP Ø 4" | C32: 1.5 | D32: เมตร | E32: 453.9 | F32: =SUM(E32*C32) -> 680.85 | G32: 250 | H32: =SUM(G32*C32) -> 375 | I32: =SUM(H32+F32) -> 1055.85
B33: - FLEXIBLE CONNECTOR Ø 4" | C33: 1 | D33: ชุด | E33: 2450 | F33: =SUM(E33*C33) -> 2450 | G33: 800 | H33: =SUM(G33*C33) -> 800 | I33: =SUM(H33+F33) -> 3250
B34: - ตัดบรรจบท่อเมนประปาเดิม (ในบ่อ VALVE BOX) | C34: 1 | D34: งาน | E34: 800 | F34: =SUM(E34*C34) -> 800 | G34: วัสดุ+ | H34: แรงงาน | I34: =SUM(F34) -> 800
B35: VALVE BOX 1
B36: - บ่อ VALVE (รายละเอียดตามแบบ) | C36: 1 | D36: บ่อ | E36: 2500 | F36: =SUM(E36*C36) -> 2500 | G36: วัสดุ+ | H36: แรงงาน | I36: =SUM(F36) -> 2500
B37: - ท่อ GSP Ø 3" | C37: 1.5 | D37: เมตร | E37: 293 | F37: =SUM(E37*C37) -> 439.5 | G37: 175 | H37: =SUM(G37*C37) -> 262.5 | I37: =SUM(H37+F37) -> 702
B38: - ท่อ GSP Ø 4" | C38: 1.5 | D38: เมตร | E38: 453.9 | F38: =SUM(E38*C38) -> 680.85 | G38: 250 | H38: =SUM(G38*C38) -> 375 | I38: =SUM(H38+F38) -> 1055.85
B39: - GATE VALVE Ø 3" | C39: 1 | D39: ชุด | E39: 11415 | F39: =SUM(E39*C39) -> 11415 | G39: 600 | H39: =SUM(G39*C39) -> 600 | I39: =SUM(H39+F39) -> 12015
B40: - GATE VALVE Ø 4" | C40: 1 | D40: ชุด | E40: 16340 | F40: =SUM(E40*C40) -> 16340 | G40: 800 | H40: =SUM(G40*C40) -> 800 | I40: =SUM(H40+F40) -> 17140
B41: - FLEXIBLE CONNECTOR Ø 3" | C41: 1 | D41: ชุด | E41: 2120 | F41: =SUM(E41*C41) -> 2120 | G41: 600 | H41: =SUM(G41*C41) -> 600 | I41: =SUM(H41+F41) -> 2720
B42: - FLEXIBLE CONNECTOR Ø 4" | C42: 2 | D42: ชุด | E42: 3120 | F42: =SUM(E42*C42) -> 6240 | G42: 800 | H42: =SUM(G42*C42) -> 1600 | I42: =SUM(H42+F42) -> 7840
B46: รวม | F46: =SUM(F30:F45) -> 60006.2 | H46: =SUM(H30:H43) -> 6212.5 | K46: =+H46+F46 -> 66218.7
B47: รวมเงินหน้านี้ | I47: =SUM(I30:I45) -> 66218.7
B48: งานประปาภายนอก (ต่อ)
B49: VALVE BOX 2
B50: - บ่อ VALVE (รายละเอียดตามแบบ) | C50: 1 | D50: บ่อ | E50: 2500 | F50: =SUM(E50*C50) -> 2500 | G50: วัสดุ+แรงงาน | I50: =SUM(H50+F50) -> 2500
B51: - ท่อ GSP Ø 4" | C51: 1.5 | D51: เมตร | E51: 453.9 | F51: =SUM(E51*C51) -> 680.85 | G51: 250 | H51: =SUM(G51*C51) -> 375 | I51: =SUM(H51+F51) -> 1055.85
...

Sheet แบบ ปร.4_ครุภัณฑ์
A1: แบบแสดงรายการปริมาณงานและราคา
A2: กลุ่มงาน | B2: ='ใบสรุปแบบ ปร.5 (ก) '!B2 -> งานอาคาร
A3: ชื่อโครงการ | B3: =+'แบบ ปร.6'!B2 -> งานก่อสร้างอาคารพักประทวน ขนาด 64 ครอบครัว พร้อมระบบสาธารณูปโภคและสิ่งอำนวยความสะดวก | F3: แบบเลขที่ | G3: 61 - 2 - 070 ,58 - 2 - 059
A4: สถานที่ | B4: =+'แบบ ปร.6'!B4 -> อ.บ้านฉาง จว.ระยอง | C4: หน่วยงานเจ้าของโครงการ | F4: =+'แบบ ปร.6'!C6 -> กบร.กร.
A6: ลำดับที่ | B6: รายการ | C6: จำนวน | D6: หน่วย | E6: ค่าวัสดุ (บาท ) | G6: ค่าแรงงาน (บาท ) | I6: รวม (บาท ) | J6: หมายเหตุ
E7: ราคาหน่วยละ | F7: จำนวนเงิน | G7: ราคาหน่วยละ | H7: จำนวนเงิน | I7: วัสดุและแรงงาน
B8: งานครุภัณฑ์ อาคารพักประทวน 64 ครอบครัว
B9: - F 1 เตียงนอนสำหรับที่นอน ขนาด 6 ฟุต พร้อมที่นอน | C9: 64 | D9: เตียง | E9: 20000 | F9: =SUM(C9*E9) -> 1280000 | G9: - | H9: - | I9: =SUM(F9) -> 1280000
B10: - F 2 ตู้ข้างเตียง | C10: 128 | D10: ตัว | E10: 2000 | F10: =SUM(C10*E10) -> 256000 | G10: - | H10: - | I10: =SUM(F10) -> 256000
B11: - F 3 โต๊ะเครื่องแป้ง | C11: 64 | D11: ตัว | E11: 5000 | F11: =SUM(C11*E11) -> 320000 | G11: - | H11: - | I11: =SUM(F11) -> 320000
B12: - F 4 ตู้เสื้อผ้าบานเลื่อน | C12: 64 | D12: ตู้ | E12: 17500 | F12: =SUM(C12*E12) -> 1120000 | G12: - | H12: - | I12: =SUM(F12) -> 1120000
B13: - F 5 ตู้วางทีวี | C13: 128 | D13: ตัว | E13: 6000 | F13: =SUM(C13*E13) -> 768000 | G13: - | H13: - | I13: =SUM(F13) -> 768000
B14: - F 6 โต๊ะอาหาร | C14: 64 | D14: ตัว | E14: 15000 | F14: =SUM(C14*E14) -> 960000 | G14: - | H14: - | I14: =SUM(F14) -> 960000
B15: - F 7 เก้าอี้ | C15: 256 | D15: ตัว | E15: 3500 | F15: =SUM(C15*E15) -> 896000 | G15: - | H15: - | I15: =SUM(F15) -> 896000
B16: - F 8 โซฟา 2 ที่นั่ง | C16: 64 | D16: ตัว | E16: 15000 | F16: =SUM(C16*E16) -> 960000 | G16: - | H16: - | I16: =SUM(F16) -> 960000
B17: - F 9 ตู้ลอยเหนือเคาน์เตอร์ครัว | C17: 64 | D17: ตู้ | E17: 10000 | F17: =SUM(C17*E17) -> 640000 | G17: - | H17: - | I17: =SUM(F17) -> 640000
B18: - F 10 โต๊ะกลาง | C18: 64 | D18: ตัว | E18: 5000 | F18: =SUM(C18*E18) -> 320000 | G18: - | H18: - | I18: =SUM(F18) -> 320000
B25: รวม | F25: =SUM(F9:F24) -> 7520000 | K25: =+H25+F25 -> 7520000
B26: รวมเงินหน้านี้ | I26: =SUM(I9:I25) -> 7520000
B27: งานครุภัณฑ์ระบบประปาและสุขาภิบาล
B28: - ถังเก็บน้ำสำเร็จรูป (PE) แบบตั้งพื้นบนดาดฟ้า ขนาดความจุ 20 ลบ.ม | C28: 2 | D28: ถัง | E28: 146240 | F28: =SUM(E28*C28) -> 292480 | G28: - | H28: - | I28: =SUM(F28) -> 292480
B29: - ถังเก็บน้ำสำเร็จรูป (PE) แบบตั้งพื้น ขนาดความจุไม่น้อยกว่า 25 ลบ.ม. | C29: 2 | D29: ถัง | E29: 176465 | F29: =SUM(C29*E29) -> 352930 | G29: - | H29: - | I29: =SUM(F29) -> 352930
B30: - Water Pump ( P1,P2 ) Capacity 50 m3/hr. THD. 30 m.Motor 10 HP | C30: 2 | D30: ชุด | E30: 70000 | F30: =C30*E30 -> 140000 | G30: - | H30: - | I30: =SUM(F30) -> 140000
B31: - ระบบควบคุมการทำงาน WATER PUMP | C31: 1 | D31: งาน | E31: 45000 | F31: =C31*E31 -> 45000 | G31: - | H31: - | I31: =SUM(F31) -> 45000
B32: - Booster Pump Capacity 20 m3/hr. THD. 30 m. Motor 5 HP
B33: (จำนวน 4 เครื่อง/2 เครื่องต่อ 1 ชุด)พร้อมถังอัดแรงดัน พร้อมระบบควบคุม
B34: แบบอัตโนมัติ | C34: 2 | D34: ชุด | E34: 132550 | F34: =C34*E34 -> 265100 | G34: - | H34: - | I34: =SUM(F34) -> 265100
B35: - Fire Pump อัตราการสูบไม่น้อยกว่า 500gpm สูบส่งได้ไม่น้อยกว่า 80m
B36: กำลังมอเตอร์ไม่น้อยกว่า 50 HP พร้อมตู้ควบคุมการทำงาน FIRE PUMP | C36: 1 | D36: ชุด | E36: 459335 | F36: =C36*E36 -> 459335 | G36: วัสดุ+แรงงาน | I36: =SUM(F36+H36) -> 459335
B37: - JUCKEY PUMP สูบน้ำได้ไม่น้อยกว่า 7 ลบ.ม./ชม. ที่ TDH.85 ม.
B38: ขับด้วยมอเตอร์ไฟฟ้า ขนาดไม่น้อยกว่า 5 HP ที่มีความเร็วรอบไม่เกิน 3,000
B39: รอบ/นาที ระบบไฟฟ้า 380 V/3P/50 Hz พร้อมตู้ควบคุมการทำงาน | C39: 1 | D39: ชุด | E39: 115850 | F39: =C39*E39 -> 115850 | G39: วัสดุ+แรงงาน | I39: =SUM(F39+H39) -> 115850
B44: รวม | F44: =SUM(F28:F43) -> 1670695 | K44: =+H44+F44 -> 1670695
B45: รวมเงินหน้านี้ | I45: =SUM(I28:I44) -> 1670695

Sheet แบบ ปร.4(พ)
A1: แบบแสดงรายการปริมาณงานและราคา
A2: (ค่าใช้จ่ายพิเศษตามข้อกำหนดและค่าใช้จ่ายอื่นที่จำเป็นต้องมี)
A3: กลุ่มงาน | B3: ='ใบสรุปแบบ ปร.5 (ก) '!B2 -> งานอาคาร
A4: ชื่อโครงการ | B4: =+'แบบ ปร.6'!B2 -> งานก่อสร้างอาคารพักประทวน ขนาด 64 ครอบครัว พร้อมระบบสาธารณูปโภคและสิ่งอำนวยความสะดวก | C4: แบบเลขที่ | D4: =+'แบบ ปร.6'!B5 -> 62 - 2 - 083 , 61 - 2 - 040 , 58 - 2 - 059 , 61 - 2 - 070 , 62 - 4 - 014 , 62 - 5 - 032
A5: สถานที่ | B5: =+'แบบ ปร.6'!B4 -> อ.บ้านฉาง จว.ระยอง | C5: หน่วยงานเจ้าของโครงการ | E5: =+'แบบ ปร.6'!C6 -> กบร.กร.
A6: คำนวณราคาโดย | B6: พี่ชาติ | C6: =+'แบบ ปร.6'!B8 -> 0
A7: ลำดับที่ | B7: รายการ | C7: จำนวน | D7: หน่วย | E7: ค่าใช้จ่ายรวม (บาท ) | F7: หมายเหตุ
E8: ( ค่าก่อสร้าง )
A9: 1 | C9: 1 | D9: งาน | E9: 5000
A10: 2 | C10: 2 | D10: งาน | E10: 3000
A11: 3 | C11: 3 | D11: งาน | E11: 2000
A12: 4 | C12: 2 | D12: งาน | E12: 1000
B27: รวมเงิน ค่าใช้จ่ายพิเศษตามข้อกำหนดทุกรายการ | E27: =SUM(E4:E26) -> 11000

Sheet แบบแสดงการคำนวณ ฯ(พ)ตามข้อกำหนด
A1: หน้าที่ 11
A2: แบบแสดงการคำนวณและเหตุผลความจำเป็น
A3: สำหรับค่าใช้จ่ายพิเศษตามข้อกำหนดฯ
A4: รายการ (ระบุรายการค่าใช้จ่ายพิเศษตามข้อกำหนด)
A5: ชื่อโครงการ | D5: =+'แบบ ปร.6'!B2 -> งานก่อสร้างอาคารพักประทวน ขนาด 64 ครอบครัว พร้อมระบบสาธารณูปโภคและสิ่งอำนวยความสะดวก
A6: สถานที่ก่อสร้าง | D6: =+'แบบ ปร.6'!B4 -> อ.บ้านฉาง จว.ระยอง | G6: แบบเลขที่ | H6: =+'แบบ ปร.6'!B5 -> 62 - 2 - 083 , 61 - 2 - 040 , 58 - 2 - 059 , 61 - 2 - 070 , 62 - 4 - 014 , 62 - 5 - 032
A7: หน่วยงานเจ้าของโครงการ | D7: =+'แบบ ปร.6'!C6 -> กบร.กร.
A8: คำนวณราคากลางโดย | D8: พี่ชาติ | H8: =+'แบบ ปร.6'!B8 -> 0
A9: 1. เหตุผลและความจำเป็นที่ต้องมีค่าใช้จ่ายพิเศษตามข้อกำหนดฯ รายการนี้
A10: เป็นงานก่อสร้างที่อยู่บนเกาะ ห่างจากฝั่งประมาณ 20 ไมล์ทะเล ต้องลำเลียงวัสดุจากฝั่งไปยังพื้นที่ก่อสร้างและขนจากเรือขึ้นฝั่งบนเกาะ
A11: การลำเลียงวัสดุจากฝั่งต้องใช้ท่าเทียบเรือของเอกชนหรือของกรมเจ้าท่าซึ่งต้องเสียค่าธรรมเนียม งานขนส่งเสาเข็มยาวต้องใช้โป๊ะขนาดใหญ่
A12: รวมทั้งเรือลำเลียงวัสดุ(เรือบาธ)ควรมีขนาดใหญ่ เพื่อความคุ้มค่าในการส่งวัสดุแต่ละครั้ง นอกจากนี้ พื้นที่ก่อสร้างอยู่บริเวณปลายเกาะ
A13: ไม่มีทางรถยนต์เข้าถึง เข้าดืทางเรือเท่านั้น และเป็นพื้นที่ทุรกันดารน้ำจืดไม่เพียงพอต่อการอุปโภค-บริโภค ไม่มีไฟฟ้าใช้
A14: ต้องจัดหาเครื่องกำเนิดไฟฟ้าและ จัดส่งน้ำจืดจากฝั่งเพื่อไปใช้ในงานก่อสร้าง สำหรับการก่อสร้างสะพานท่าเทียบเรือต้องก่อสร้างในทะเลน้ำลึก
A15: จำเป็นต้องมีงานนั่งร้านพิเศษเพิ่มเติมจากงานไม้แบบทั่วไป และการทำงานในน้ำจะได้ปริมาณงานน้อยกว่าทำบนฝั่งจึงมีค่าแรงที่เพิ่มสูงขึ้น
A16: 2. รายละเอียดการคำนวณ
A17: ที่ | B17: รายการค่าใช้จ่าย | H17: จำนวน | I17: หน่วย | J17: ราคาต่อหน่วย | K17: ราคารวม | L17: หมายเหตุ
A18: 1 | B18: งานเจาะสำรวจดิน
A19: 1.1 | B19: ค่าเจาะสำรวจดินในทะเล | I19: หลุม | J19: 15000 | K19: =H19*J19 -> 0
A20: 1.2 | B20: ค่าขนส่งเครื่องมือ ไป-กลับ | I20: งาน | J20: 50000 | K20: =H20*J20 -> 0
A21: 1.3 | B21: ค่าเดินทาง ค่าขนส่งตัวอย่างทดสอบ ค่ารายงานผล | I21: งาน | J21: 20000 | K21: =H21*J21 -> 0
A22: 1.4 | B22: ค่าโป๊ะหรือแพสำหรับตั้งเครื่องเจาะและเรือลาก | I22: งาน | J22: 80000 | K22: =H22*J22 -> 0
B23: รวมค่าใช้จ่ายพิเศษในงานเจาะสำรวจดิน | K23: =SUM(K19:K22) -> 0
A24: 3 | B24: ค่าลำเลียงวัสดุ และขนข้ายเครื่องมือเครื่องจักรทุ่นแรง
A25: 3.1 | B25: ค่าลากเรือลำเลียงและโป๊ะ กรุงเทพ-เกาะกูด(ไป-กลับ) | I25: ไมล์ | J25: 2500 | K25: =H25*J25 -> 0
A26: 3.2 | B26: ค่าเช่าเรือลำเลียงและค่าเรือลากจูง | I26: เดือน | J26: 150000 | K26: =H26*J26 -> 0
A27: 3.3 | B27: ค่าใช้จ่ายในการขนวัสดุระหว่างฝั่ง-เกาะ(เดือนละ2เที่ยว)
B28: ตลอดระยะเวลาก่อสร้าง( คิดเฉลี่ยประมาณ 6 เดือน ) | I28: เที่ยว | J28: 30000 | K28: =H28*J28 -> 0
A29: 3.5 | B29: ค่าเครนยกวัสดุลงเรือบาธ+ค่าธรรมเนียมการใช้ท่าเรือ | I29: เที่ยว | J29: 25000 | K29: =H29*J29 -> 0 | M29: ค่าเครน 15,000 ค่าธรรมเนียม 10,000
A30: 3.6 | B30: ค่าขนวัสดุจากเรือลำเลียงขึ้นฝั่งบนเกาะ | I30: งาน | J30: =0.05*10400000 -> 520000 | K30: =H30*J30 -> 0 | M30: ประมาณ 5 % ของค่าวัสดุ ทั้งโครงการ ( ค่าวัสดุทั้งหมด 10.4 ล้าน )
A31: 3.7 | B31: ค่าลำเลียงวัสดุและค่าประกอบติดตั้งงานโครงสร้างในน้ำ | I31: งาน | J31: =0.35*600000 -> 210000 | K31: =H31*J31 -> 0 | M31: ค่าแรงเพิ่มอีก 35 % ของค่าแรงปกติ เฉพาะงานโครงสร้างท่าเรือ (ค่าแรง = 600,000)
B32: รวมค่าใช้จ่ายพิเศษ การลำเลียงวัสดุ | K32: =SUM(K25:K31) -> 0
A33: 4 | B33: ค่าเช่าเครื่องกำเนิดไฟฟ้า + ค่าเชื้อเพลิง | I33: เดือน | J33: 51000 | K33: =H33*J33 -> 0 | M33: ค่าเช่า 15,000/ เดือน ค่าน้ำมัน 1,200 / วัน
A34: 5 | B34: ค่านั่งร้านทำงานในน้ำ | I34: ตรม. | J34: 1500 | K34: =H34*J34 -> 0
E36: รวมค่าใช้จ่าย
E37: ค่าภาษีมูลค่าเพิ่ม
E38: สรปค่าใช้จ่ายพิเศษ

Sheet F_Advance(งานอาคาร)
A1: 1 | B1: 2 | C1: 3 | D1: 4 | E1: 5 | F1: 6 | G1: 7 | H1: 8 | I1: 9 | J1: 10 | K1: 11 | L1: 12 | M1: 13 | N1: 14 | O1: 15 | P1: 16 | Q1: 17
A2: ประกันผลงาน | B2: 0 | F2: 0.05 | J2: 0.1
B3: Advance | F3: Advance | J3: Advance
A4: BUDJET | B4: 0 | C4: 0.05 | D4: 0.1 | E4: 0.15 | F4: 0 | G4: 0.05 | H4: 0.1 | I4: 0.15 | J4: 0 | K4: 0.05 | L4: 0.1 | M4: 0.15
A5: 0 | B5: 1.3074 | C5: 1.3065 | D5: 1.3055 | E5: 1.3046 | F5: 1.3078 | G5: 1.3069 | H5: 1.3059 | I5: 1.305 | J5: 1.3082 | K5: 1.3073 | L5: 1.3063 | M5: 1.3054
A6: 0.5 | B6: 1.3074 | C6: 1.3065 | D6: 1.3055 | E6: 1.3046 | F6: 1.3078 | G6: 1.3069 | H6: 1.3059 | I6: 1.305 | J6: 1.3082 | K6: 1.3073 | L6: 1.3063 | M6: 1.3054
A7: 1 | B7: 1.305 | C7: 1.304 | D7: 1.3029 | E7: 1.3018 | F7: 1.3056 | G7: 1.3045 | H7: 1.3034 | I7: 1.3024 | J7: 1.3061 | K7: 1.305 | L7: 1.304 | M7: 1.3029
A8: 2 | B8: 1.3035 | C8: 1.3023 | D8: 1.3011 | E8: 1.2999 | F8: 1.3042 | G8: 1.303 | H8: 1.3018 | I8: 1.3006 | J8: 1.3049 | K8: 1.3036 | L8: 1.3024 | M8: 1.3012
A9: 5 | B9: 1.3003 | C9: 1.2987 | D9: 1.2971 | E9: 1.2955 | F9: 1.3014 | G9: 1.2998 | H9: 1.2982 | I9: 1.2966 | J9: 1.3025 | K9: 1.3009 | L9: 1.2993 | M9: 1.2976
A10: 10 | B10: 1.2943 | C10: 1.2922 | D10: 1.2901 | E10: 1.2879 | F10: 1.296 | G10: 1.2938 | H10: 1.2917 | I10: 1.2895 | J10: 1.2976 | K10: 1.2954 | L10: 1.2933 | M10: 1.2911
A11: 15 | B11: 1.2594 | C11: 1.2573 | D11: 1.2551 | E11: 1.253 | F11: 1.261 | G11: 1.2589 | H11: 1.2567 | I11: 1.2546 | J11: 1.2626 | K11: 1.2605 | L11: 1.2583 | M11: 1.2562
A12: 20 | B12: 1.2518 | C12: 1.2495 | D12: 1.2472 | E12: 1.245 | F12: 1.2535 | G12: 1.2513 | H12: 1.249 | I12: 1.2467 | J12: 1.2553 | K12: 1.253 | L12: 1.2057 | M12: 1.2484
A13: 25 | B13: 1.2248 | C13: 1.2225 | D13: 1.2203 | E13: 1.218 | F13: 1.2266 | G13: 1.2243 | H13: 1.222 | I13: 1.2197 | J13: 1.2283 | K13: 1.226 | L13: 1.2237 | M13: 1.2215
A14: 30 | B14: 1.2164 | C14: 1.214 | D14: 1.2116 | E14: 1.2092 | F14: 1.2183 | G14: 1.2159 | H14: 1.2135 | I14: 1.2111 | J14: 1.2202 | K14: 1.2178 | L14: 1.2154 | M14: 1.213
A15: 40 | B15: 1.2161 | C15: 1.2136 | D15: 1.2112 | E15: 1.2088 | F15: 1.2179 | G15: 1.2155 | H15: 1.2131 | I15: 1.2107 | J15: 1.2198 | K15: 1.2174 | L15: 1.215 | M15: 1.2126
A16: 50 | B16: 1.2159 | C16: 1.2133 | D16: 1.2106 | E16: 1.2079 | F16: 1.2181 | G16: 1.2154 | H16: 1.2127 | I16: 1.2101 | J16: 1.2202 | K16: 1.2175 | L16: 1.2149 | M16: 1.2122
... A28: 500 | B28: 1.1853 | C28: 1.1801 | D28: 1.1749 | E28: 1.1696 | F28: 1.19 | G28: 1.1848 | H28: 1.1795 | I28: 1.1743 | J28: 1.1946 | K28: 1.1894 | L28: 1.1842 | M28: 1.179
A29: >500 | B29: 1.1788 | C29: 1.1733 | D29: 1.1678 | E29: 1.1624 | F29: 1.1838 | G29: 1.1783 | H29: 1.1728 | I29: 1.1673 | J29: 1.1887 | K29: 1.1832 | L29: 1.1777 | M29: 1.1723

Sheet F_Advance(งานทาง)
A1: 1 | B1: 2 | C1: 3 | D1: 4 | E1: 5 | F1: 6 | G1: 7 | H1: 8 | I1: 9 | J1: 10 | K1: 11 | L1: 12 | M1: 13 | N1: 14 | O1: 15 | P1: 16 | Q1: 17 | R1: 18 | S1: 19 | T1: 20 | U1: 21 | V1: 22 | W1: 23 | X1: 24 | Y1: 25 | Z1: 26 | AA1: 27 | AB1: 28 | AC1: 29 | AD1: 30 | AE1: 31 | AF1: 32 | AG1: 33 | AH1: 34 | AI1: 35 | AJ1: 36 | AK1: 37
A2: ประกันผลงาน | B2: 0 | N2: 0.05 | Z2: 0.1
B3: Advance | N3: Advance | Z3: Advance
B4: 0 | E4: 0.05 | H4: 0.1 | K4: 0.15 | N4: 0 | Q4: 0.05 | T4: 0.1 | W4: 0.15 | Z4: 0 | AC4: 0.05 | AF4: 0.1 | AI4: 0.15
A5: BUDJET | B5: ปกติ | C5: ฝนชุก1 | D5: ฝนชุก2 | E5: ปกติ | F5: ฝนชุก1 | G5: ฝนชุก2 | H5: ปกติ | I5: ฝนชุก1 | J5: ฝนชุก2 | K5: ปกติ | L5: ฝนชุก1 | M5: ฝนชุก2 | N5: ปกติ | O5: ฝนชุก1 | P5: ฝนชุก2 | Q5: ปกติ | R5: ฝนชุก1 | S5: ฝนชุก2 | T5: ปกติ | U5: ฝนชุก1 | V5: ฝนชุก2 | W5: ปกติ | X5: ฝนชุก1 | Y5: ฝนชุก2 | Z5: ปกติ | AA5: ฝนชุก1 | AB5: ฝนชุก2 | AC5: ปกติ | AD5: ฝนชุก1 | AE5: ฝนชุก2 | AF5: ปกติ | AG5: ฝนชุก1 | AH5: ฝนชุก2 | AI5: ปกติ | AJ5: ฝนชุก1 | AK5: ฝนชุก2
A6: 0 | B6: 1.3624 | C6: 1.3822 | D6: 1.4019 | E6: 1.3614 | F6: 1.3811 | G6: 1.4008 | H6: 1.3603 | I6: 1.38 | J6: 1.3997 | K6: 1.3592 | L6: 1.3789 | M6: 1.3987 | N6: 1.363 | O6: 1.3827 | P6: 1.4024 | Q6: 1.3619 | R6: 1.3816 | S6: 1.4013 | T6: 1.3608 | U6: 1.3805 | V6: 1.4003 | W6: 1.3598 | X6: 1.3795 | Y6: 1.3992 | Z6: 1.3635 | AA6: 1.3832 | AB6: 1.4029 | AC6: 1.3624 | AD6: 1.3822 | AE6: 1.4019 | AF6: 1.3614 | AG6: 1.3811 | AH6: 1.1008 | AI6: 1.3603 | AJ6: 1.38 | AK6: 1.3997
A7: 5 | B7: 1.3624 | C7: 1.3822 | D7: 1.4019 | E7: 1.3614 | F7: 1.3811 | G7: 1.4008 | H7: 1.3603 | I7: 1.38 | J7: 1.3997 | K7: 1.3592 | L7: 1.3789 | M7: 1.3987 | N7: 1.363 | O7: 1.3827 | P7: 1.4024 | Q7: 1.3619 | R7: 1.3816 | S7: 1.4013 | T7: 1.3608 | U7: 1.3805 | V7: 1.4003 | W7: 1.3598 | X7: 1.3795 | Y7: 1.3992 | Z7: 1.3635 | AA7: 1.3832 | AB7: 1.4029 | AC7: 1.3624 | AD7: 1.3822 | AE7: 1.4019 | AF7: 1.3614 | AG7: 1.3811 | AH7: 1.4008 | AI7: 1.3603 | AJ7: 1.38 | AK7: 1.3997
A8: 10 | B8: 1.3116 | C8: 1.3319 | D8: 1.3522 | E8: 1.3103 | F8: 1.3306 | G8: 1.3509 | H8: 1.3089 | I8: 1.3292 | J8: 1.3496 | K8: 1.3076 | L8: 1.328 | M8: 1.3483 | N8: 1.3125 | O8: 1.3328 | P8: 1.3531 | Q8: 1.3111 | R8: 1.3314 | S8: 1.3517 | T8: 1.3098 | U8: 1.3301 | V8: 1.3504 | W8: 1.3084 | X8: 1.3287 | Y8: 1.349 | Z8: 1.3132 | AA8: 1.3335 | AB8: 1.3538 | AC8: 1.3119 | AD8: 1.3322 | AE8: 1.3526 | AF8: 1.3105 | AG8: 1.3308 | AH8: 1.3512 | AI8: 1.3093 | AJ8: 1.3296 | AK8: 1.3499
A9: 20 | B9: 1.2534 | C9: 1.12717 | D9: 1.2899 | E9: 1.2519 | F9: 1.2702 | G9: 1.2884 | H9: 1.2504 | I9: 1.2687 | J9: 1.2869 | K9: 1.249 | L9: 1.2673 | M9: 1.2855 | N9: 1.2544 | O9: 1.2726 | P9: 1.2909 | Q9: 1.2529 | R9: 1.2711 | S9: 1.2894 | T9: 1.2514 | U9: 1.2696 | V9: 1.2879 | W9: 1.2499 | X9: 1.2681 | Y9: 1.2864 | Z9: 1.2552 | AA9: 1.2735 | AB9: 1.2917 | AC9: 1.25378 | AD9: 1.2721 | AE9: 1.2903 | AF9: 1.2523 | AG9: 1.2706 | AH9: 1.2888 | AI9: 1.2508 | AJ9: 1.2691 | AK9: 1.2873
A10: 30 | B10: 1.2204 | C10: 1.2369 | D10: 1.2533 | E10: 1.2189 | F10: 1.2354 | G10: 1.2518 | H10: 1.2174 | I10: 1.2339 | J10: 1.2503 | K10: 1.2159 | L10: 1.2324 | M10: 1.2488 | N10: 1.2213 | O10: 1.2377 | P10: 1.2541 | Q10: 1.2199 | R10: 1.2363 | S10: 1.2527 | T10: 1.2184 | U10: 1.2348 | V10: 1.2512 | W10: 1.2169 | X10: 1.2333 | Y10: 1.2498 | Z10: 1.2223 | AA10: 1.2387 | AB10: 1.2551 | AC10: 1.2208 | AD10: 1.2372 | AE10: 1.2536 | AF10: 1.2194 | AG10: 1.2358 | AH10: 1.2522 | AI10: 1.2179 | AJ10: 1.2343 | AK10: 1.2507
A11: 40 | B11: 1.2137 | C11: 1.2316 | D11: 1.2496 | E11: 1.2119 | F11: 1.2298 | G11: 1.2478 | H11: 1.21 | I11: 1.2279 | J11: 1.2458 | K11: 1.2081 | L11: 1.2261 | M11: 1.244 | N11: 1.2151 | O11: 1.233 | P11: 1.251 | Q11: 1.2132 | R11: 1.2311 | S11: 1.249 | T11: 1.2113 | U11: 1.2293 | V11: 1.2472 | W11: 1.2094 | X11: 1.2274 | Y11: 1.2453 | Z11: 1.2164 | AA11: 1.2343 | AB11: 1.2522 | AC11: 1.2146 | AD11: 1.2325 | AE11: 1.2504 | AF11: 1.2126 | AG11: 1.2306 | AH11: 1.2485 | AI11: 1.2108 | AJ11: 1.2287 | AK11: 1.2467
A12: 50 | B12: 1.2085 | C12: 1.2265 | D12: 1.2445 | E12: 1.2064 | F12: 1.2245 | G12: 1.2425 | H12: 1.2045 | I12: 1.2225 | J12: 1.2406 | K12: 1.2025 | L12: 1.2205 | M12: 1.2385 | N12: 1.21 | O12: 1.228 | P12: 1.246 | Q12: 1.2079 | R12: 1.2259 | S12: 1.244 | T12: 1.2059 | U12: 1.2239 | V12: 1.2419 | W12: 1.204 | X12: 1.222 | Y12: 1.24 | Z12: 1.2115 | AA12: 1.2295 | AB12: 1.2475 | AC12: 1.2094 | AD12: 1.2274 | AE12: 1.2455 | AF12: 1.2074 | AG12: 1.2254 | AH12: 1.434 | AI12: 1.2054 | AJ12: 1.2234 | AK12: 1.2414
A13: 60 | B13: 1.2025 | C13: 1.2204 | D13: 1.2384 | E13: 1.2003 | F13: 1.2183 | G13: 1.2363 | H13: 1.1982 | I13: 1.2162 | J13: 1.2341 | K13: 1.196 | L13: 1.214 | M13: 1.232 | N13: 1.2041 | O13: 1.222 | P13: 1.24 | Q13: 1.2019 | R13: 1.2199 | S13: 1.2379 | T13: 1.1998 | U13: 1.2178 | V13: 1.2357 | W13: 1.1977 | X13: 1.2156 | Y13: 1.2336 | Z13: 1.2057 | AA13: 1.2236 | AB13: 1.2416 | AC13: 1.2035 | AD13: 1.2215 | AE13: 1.2395 | AF13: 1.2014 | AG13: 1.2194 | AH13: 1.2373 | AI13: 1.1993 | AJ13: 1.2172 | AK13: 1.2352
A14: 70 | B14: 1.1967 | C14: 1.2151 | D14: 1.2334 | E14: 1.1944 | F14: 1.2128 | G14: 1.2312 | H14: 1.1922 | I14: 1.2106 | J14: 1.229 | K14: 1.1899 | L14: 1.2083 | M14: 1.2267 | N14: 1.1985 | O14: 1.2169 | P14: 1.2353 | Q14: 1.1962 | R14: 1.2145 | S14: 1.2329 | T14: 1.1939 | U14: 1.2123 | V14: 1.2307 | W14: 1.1917 | X14: 1.21 | Y14: 1.2284 | Z14: 1.2002 | AA14: 1.2186 | AB14: 1.237 | AC14: 1.198 | AD14: 1.2164 | AE14: 1.2347 | AF14: 1.1956 | AG14: 1.214 | AH14: 1.2324 | AI14: 1.1934 | AJ14: 1.2118 | AK14: 1.2301
A15: 80 | B15: 1.1933 | C15: 1.2117 | D15: 1.2302 | E15: 1.1909 | F15: 1.2094 | G15: 1.2278 | H15: 1.1884 | I15: 1.2069 | J15: 1.2254 | K15: 1.1861 | L15: 1.2046 | M15: 1.223 | N15: 1.1952 | O15: 1.2137 | P15: 1.2321 | Q15: 1.1927 | R15: 1.2112 | S15: 1.2297 | T15: 1.1904 | U15: 1.2088 | V15: 1.2273 | W15: 1.1879 | X15: 1.2064 | Y15: 1.2248 | Z15: 1.197 | AA15: 1.2155 | AB15: 1.2339 | AC15: 1.1947 | AD15: 1.2131 | AE15: 1.2316 | AF15: 1.1922 | AG15: 1.2107 | AH15: 1.2291 | AI15: 1.1898 | AJ15: 1.2083 | AK15: 1.2268
A16: 90 | B16: 1.1874 | C16: 1.2052 | D16: 1.2231 | E16: 1.185 | F16: 1.2029 | G16: 1.2207 | H16: 1.1826 | I16: 1.2004 | J16: 1.2183 | K16: 1.1802 | L16: 1.1981 | M16: 1.2159 | N16: 1.1893 | O16: 1.2072 | P16: 1.225 | Q16: 1.1868 | R16: 1.2047 | S16: 1.2225 | T16: 1.1845 | U16: 1.2023 | V16: 1.2202 | W16: 1.182 | X16: 1.1999 | Y16: 1.2177 | Z16: 1.1911 | AA16: 1.209 | AB16: 1.2268 | AC16: 1.1888 | AD16: 1.2066 | AE16: 1.2245 | AF16: 1.1863 | AG16: 1.2042 | AH16: 1.222 | AI16: 1.184 | AJ16: 1.2018 | AK16: 1.2197
A17: 100 | B17: 1.1842 | C17: 1.2017 | D17: 1.2192 | E17: 1.1817 | F17: 1.1992 | G17: 1.2167 | H17: 1.1794 | I17: 1.1969 | J17: 1.2144 | K17: 1.1769 | L17: 1.1944 | M17: 1.2119 | N17: 1.186 | O17: 1.2035 | P17: 1.221 | Q17: 1.1836 | R17: 1.2011 | S17: 1.2187 | T17: 1.1812 | U17: 1.1987 | V17: 1.2162 | W17: 1.1788 | X17: 1.1963 | Y17: 1.2138 | Z17: 1.1879 | AA17: 1.2054 | AB17: 1.2229 | AC17: 1.1855 | AD17: 1.203 | AE17: 1.2205 | AF17: 1.1831 | AG17: 1.2006 | AH17: 1.2181 | AI17: 1.1806 | AJ17: 1.1982 | AK17: 1.2157
... A42: 700 | B42: 1.1478 | C42: 1.1641 | D42: 1.1805 | E42: 1.1443 | F42: 1.1606 | G42: 1.177 | H42: 1.1406 | I42: 1.157 | J42: 1.1733 | K42: 1.137 | L42: 1.1533 | M42: 1.1697 | N42: 1.1509 | O42: 1.1673 | P42: 1.1836 | Q42: 1.1473 | R42: 1.1636 | S42: 1.18 | T42: 1.1437 | U42: 1.1601 | V42: 1.1764 | W42: 1.1401 | X42: 1.1564 | Y42: 1.1728 | Z42: 1.154 | AA42: 1.1704 | AB42: 1.1867 | AC42: 1.1504 | AD42: 1.1667 | AE42: 1.1831 | AF42: 1.1467 | AG42: 1.1631 | AH42: 1.1791 | AI42: 1.1432 | AJ42: 1.1595 | AK42: 1.1759
A43: >700 | B43: 1.1478 | C43: 1.1641 | D43: 1.1805 | E43: 1.1443 | F43: 1.1606 | G43: 1.177 | H43: 1.1406 | I43: 1.157 | J43: 1.1733 | K43: 1.137 | L43: 1.1533 | M43: 1.1697 | N43: 1.1509 | O43: 1.1673 | P43: 1.1836 | Q43: 1.143 | R43: 1.1636 | S43: 1.18 | T43: 1.1437 | U43: 1.1601 | V43: 1.1764 | W43: 1.1401 | X43: 1.1564 | Y43: 1.1728 | Z43: 1.154 | AA43: 1.1704 | AB43: 1.1867 | AC43: 1.504 | AD43: 1.1667 | AE43: 1.1831 | AF43: 1.1467 | AG43: 1.1631 | AH43: 1.1794 | AI43: 1.1432 | AJ43: 1.1595 | AK43: 1.1759
A45: หมายเหตุ :
A46: ฝนชุก 1 ได้แก่ จังหวัด : | C46: กรุงเทพ,กระบี่,จันทบุรี,ชุมพร,เชียงราย,ตรัง,นครนายก,ปราจีนบุรี,พัทลุง,ภูเก็ต,ยะลา,สกลนคร,สตูล,หนองคาย
A47: ฝนชุก 2 ได้แก่ จังหวัด : | C47: ตราด,นครพนม,นครศรธรรมราช,นราธิวาส,บึงกาฬ,พังงา,ระนอง,สงขลา

Sheet F_Advance(สะพาน)
A1: 1 | B1: 2 | C1: 3 | D1: 4 | E1: 5 | F1: 6 | G1: 7 | H1: 8 | I1: 9 | J1: 10 | K1: 11 | L1: 12 | M1: 13 | N1: 14 | O1: 15 | P1: 16 | Q1: 17
A2: ประกันผลงาน | B2: 0 | F2: 0.05 | J2: 0.1
B3: Advance | F3: Advance | J3: Advance | N3: Advance
A4: BUDJET | B4: 0 | C4: 0.05 | D4: 0.1 | E4: 0.15 | F4: 0 | G4: 0.05 | H4: 0.1 | I4: 0.15 | J4: 0 | K4: 0.05 | L4: 0.1 | M4: 0.15 | N4: 0 | O4: 0.05 | P4: 0.1 | Q4: 0.15
A5: 0 | B5: 1.2782 | C5: 1.2772 | D5: 1.2761 | E5: 1.275 | F5: 1.2788 | G5: 1.2777 | H5: 1.2766 | I5: 1.2755 | J5: 1.2793 | K5: 1.2782 | L5: 1.2772 | M5: 1.2791
A6: 5 | B6: 1.2782 | C6: 1.2772 | D6: 1.2761 | E6: 1.275 | F6: 1.2788 | G6: 1.2777 | H6: 1.2766 | I6: 1.2755 | J6: 1.2793 | K6: 1.2782 | L6: 1.2772 | M6: 1.2791
A7: 10 | B7: 1.2446 | C7: 1.12432 | D7: 1.2419 | E7: 1.2406 | F7: 1.2454 | G7: 1.2441 | H7: 1.2427 | I7: 1.2414 | J7: 1.2462 | K7: 1.2448 | L7: 1.2436 | M7: 1.2422
A8: 15 | B8: 1.2375 | C8: 1.2359 | D8: 1.2342 | E8: 1.2326 | F8: 1.2385 | G8: 1.2369 | H8: 1.2353 | I8: 1.2337 | J8: 1.2396 | K8: 1.238 | L8: 1.2364 | M8: 1.2348
A9: 20 | B9: 1.2304 | C9: 1.2286 | D9: 1.2266 | E9: 1.2248 | F9: 1.2318 | G9: 1.2299 | H9: 1.228 | I9: 1.2261 | J9: 1.2331 | K9: 1.2312 | L9: 1.2292 | M9: 1.2275
A10: 25 | B10: 1.2145 | C10: 1.2125 | D10: 1.2107 | E10: 1.2088 | F10: 1.2157 | G10: 1.2139 | H10: 1.212 | I10: 1.2102 | J10: 1.2171 | K10: 1.2152 | L10: 1.2134 | M10: 1.2115
A11: 30 | B11: 1.2133 | C11: 1.211 | D11: 1.2088 | E11: 1.2064 | F11: 1.215 | G11: 1..2127 | H11: 1.2105 | I11: 1.2082 | J11: 1.2168 | K11: 1.2145 | L11: 1.2122 | M11: 1.21
A12: 35 | B12: 1.2079 | C12: 1.2055 | D12: 1.2031 | E12: 1.2006 | F12: 1.2097 | G12: 1.2074 | H12: 1.2049 | I12: 1.2026 | J12: 1.2117 | K12: 1.2092 | L12: 1.2069 | M12: 1.2044
A13: 40 | B13: 1.2001 | C13: 1.1977 | D13: 1.1953 | E13: 1.1928 | F13: 1.2019 | G13: 1.1996 | H13: 1.1971 | I13: 1.1948 | J13: 1.2039 | K13: 1.2014 | L13: 1.199 | M13: 1.1966
A14: 45 | B14: 1.1887 | C14: 1.1863 | D14: 1.1838 | E14: 1.1815 | F14: 1.1906 | G14: 1.1881 | H14: 1.1858 | I14: 1.1833 | J14: 1.1924 | K14: 1.1901 | L14: 1.1876 | M14: 1.1852
A15: 50 | B15: 1.1838 | C15: 1.1814 | D15: 1.179 | E15: 1.1766 | F15: 1.1857 | G15: 1.1833 | H15: 1.1809 | I15: 1.1785 | J15: 1.1876 | K15: 1.1851 | L15: 1.1828 | M15: 1.1803
A16: 55 | B16: 1.1826 | C16: 1.1801 | D16: 1.1777 | E16: 1.1753 | F16: 1.1844 | G16: 1.182 | H16: 1.1796 | I16: 1.1772 | J16: 1.1863 | K16: 1.1838 | L16: 1.1815 | M16: 1.179
A17: 60 | B17: 1.181 | C17: 1.1785 | D17: 1.1761 | E17: 1.1737 | F17: 1.1828 | G17: 1.1804 | H17: 1.178 | I17: 1.1756 | J17: 1.1847 | K17: 1.1822 | L17: 1.1799 | M17: 1.1774
A18: 65 | B18: 1.1776 | C18: 1.175 | D18: 1.1723 | E18: 1.1696 | F18: 1.1798 | G18: 1.1771 | H18: 1.1744 | I18: 1.1718 | J18: 1.1819 | K18: 1.1792 | L18: 1.1766 | M18: 1.1739
A19: 70 | B19: 1.1767 | C19: 1.1739 | D19: 1.1711 | E19: 1.1683 | F19: 1.179 | G19: 1.1761 | H19: 1.1734 | I19: 1.1706 | J19: 1.1813 | K19: 1.1785 | L19: 1.1756 | M19: 1.1728
A20: 75 | B20: 1.1742 | C20: 1.1714 | D20: 1.1685 | E20: 1.1658 | F20: 1.1765 | G20: 1.1737 | H20: 1.1709 | I20: 1.168 | J20: 1.1787 | K20: 1.1759 | L20: 1.1731 | M20: 1.1704
A21: 80 | B21: 1.1718 | C21: 1.169 | D21: 1.1661 | E21: 1.1633 | F21: 1.174 | G21: 1.1712 | H21: 1.1684 | I21: 1.1656 | J21: 1.763 | K21: 1.1735 | L21: 1.1707 | M21: 1.1679
A22: 85 | B22: 1.1696 | C22: 1.1667 | D22: 1.1639 | E22: 1.1612 | F22: 1.1719 | G22: 1.1691 | H22: 1.1662 | I22: 1.1634 | J22: 1.1741 | K22: 1.1713 | L22: 1.1685 | M22: 1.1657
A23: 90 | B23: 1.1687 | C23: 1.657 | D23: 1.1628 | E23: 1.1598 | F23: 1.171 | G23: 1.1681 | H23: 1.1654 | I23: 1.1622 | J23: 1.1735 | K23: 1.1705 | L23: 1.1676 | M23: 1.1646
... A44: 195 | B44: 1.1505 | C44: 1.1474 | D44: 1.1443 | E44: 1.1413 | F44: 1.153 | G44: 1.1499 | H44: 1.1468 | I44: 1.1437 | J44: 1.1555 | K44: 1.1525 | L44: 1.1494 | M44: 1.1463
