Workbook
Name BUDJET1: 'F_Advance(งานอาคาร)'!$A$5:$A$29
Name BUDJET2: 'F_Advance(งานทาง)'!$A$6:$A$43
Name BUDJET3: 'F_Advance(งานทาง)'!$A$6:$A$43
Name BUDJET3: 'F_Advance(สะพาน)'!$A$5:$A$45
Name FBRIDGE: 'F_Advance(สะพาน)'!$A$1:$Q$45
Name FBUILD: 'F_Advance(งานอาคาร)'!$A$2:$Q$29
Name FROAD: 'F_Advance(งานทาง)'!$A$3:$AK$43
Name RET_0: 'F_Advance(งานอาคาร)'!$A$4:$E$29
Name RET_10: 'F_Advance(งานอาคาร)'!$A$4:$A$29,'F_Advance(งานอาคาร)'!$J$4:$L$29
Name RET_5: 'F_Advance(งานอาคาร)'!$A$4:$A$29,'F_Advance(งานอาคาร)'!$F$4:$I$29

Sheet แบบ ปร.6
A1: แบบสรุปราคากลาง งานก่อสร้าง
A2: ชื่อโครงการ/ | B2: งานจ้างก่อสร้างอาคารพักนายทหารประทวนโสด (NCOQ) พร้อมสิ่งอำนวยความสะดวก ของ สอ.รฝ. จำนวน 2 หลัง
A3: สถานที่ก่อสร้าง | B3: จ.ชลบุรี
A4: แบบเลขที่ | B4: 62-2-101,63-5-006,62-4-030
A5: หน่วยงานเจ้าของโครงการ/งานก่อสร้าง | C5: สอ.รฝ.
A6: แบบ ปร.4 และ ปร.5 ที่แนบ | C6: 40
A9: ลำดับที่ | B9: รายการ | C9: ค่าก่อสร้าง | D9: หมายเหตุ
C10: ( บาท )
A11: 1 | B11: งานอาคารนายทหารประทวนโสด | C11: =+'ใบสรุปแบบ ปร.5 (ก) '!H24 -> 34162014
A12: 2 | B12: งานครุภัณฑ์ | C12: =+'ใบสรุปแบบ ปร.5 (ข)'!H23 -> 838175.94
G13: รวมค่าก่อสร้างทั้งโครงการ,รวมค่าซ่อมแซมทั้งโครงการ,รวมค่าปรับปรุงทั้งโครงการ,รวมค่าใช้จ่ายทั้งโครงการ,รวมค่าจัดซื้อทั้งโครงการ
B24: รวมค่าก่อสร้างทั้งโครงการ | C24: =SUM(C11:C23) -> 35000189
B25: สรุปราคา | C25: 35000000 | E25: =+C25-C24 -> -189.46908 | F25: =+E25/'ใบสรุปแบบ ปร.5 (ก) '!G17 -> -156.27605 | G25: =+F25/2 -> -78.138025
B26: ="ราคา ( "&BAHTTEXT(C25)&" )" -> ราคา ( สามสิบห้าล้านบาทถ้วน )
B28: คณะกรรมการกำหนดราคากลาง
A29: น.อ. | B29: สมหมาย แสวงกิจ | C29: ประธานกรรมการ
A31: น.ท. | B31: อนวัช วรรณศรี | C31: กรรมการ
A33: น.ท. | B33: สมศักดิ์ อุนานุยา | C33: กรรมการและเลขานุการ
A35: น.ต. | B35: ธีรทัต กงทอง | C35: กรรมการ
A37: ร.ต. | B37: ชาญวิทย์ ยาม่วง | C37: กรรมการ

Sheet ใบสรุปแบบ ปร.5 (ก) 
A1: =+'แบบ ปร.6'!A1 -> แบบสรุปราคากลาง งานก่อสร้าง
A2: กลุ่มงาน | B2: งานอาคาร
A3: ชื่อโครงการ | B3: ='แบบ ปร.6'!B2 -> งานจ้างก่อสร้างอาคารพักนายทหารประทวนโสด (NCOQ) พร้อมสิ่งอำนวยความสะดวก ของ สอ.รฝ. จำนวน 2 หลัง
A4: สถานที่ก่อสร้าง | B4: =+'แบบ ปร.6'!B3 -> จ.ชลบุรี | D4: แบบเลขที่ | E4: =+'แบบ ปร.6'!B4 -> 62-2-101,63-5-006,62-4-030
A5: หน่วยงานเจ้าของโครงการ/งานก่อสร้าง | D5: =+'แบบ ปร.6'!C5 -> สอ.รฝ. | F5: แบบ ปร. 4 ที่แนบ จำนวน | H5: 37
A7: ลำดับที่ | B7: รายการ | F7: ค่างานต้นทุน | G7: FACTOR F | H7: =+'แบบ ปร.6'!C9 -> ค่าก่อสร้าง | I7: หมายเหตุ | K7: ฝนชุก 1 ได้แก่ จังหวัด : | M7: กรุงเทพ,กระบี่,จันทบุรี,ชุมพร,เชียงราย,ตรัง,นครนายก,ปราจีนบุรี,พัทลุง,ภูเก็ต,ยะลา,สกลนคร,สตูล,หนองคาย
F8: ( บาท ) | H8: ( บาท ) | K8: ฝนชุก 2 ได้แก่ จังหวัด : | M8: ตราด,นครพนม,นครศรธรรมราช,นราธิวาส,บึงกาฬ,พังงา,ระนอง,สงขลา
A9: 1 | B9: งานอาคารนายทหารประทวนโสด 2 หลัง | F9: =+'แบบ ปร.4_อาคาร'!I177 -> 19268405
A10: 2 | B10: งานระบบไฟฟ้าภายใน ระบบโทรศัพท์ ระบบโทรทัศน์ | F10: =+ไฟฟ้าใน!I128 -> 2708778 | J10: =+F9/1440 -> 13380.837 | K10: =+J10/2 -> 6690.4183
B11: ระบบสัญญาณเตือนอัคคีภัย 2 หลัง
A12: 3 | B12: งานระบบประปาภายใน 2 หลัง | F12: =+ประปาใน!I253 -> 2028418 | J12: =SUM(F13:F16) -> 4171579.9 | K12: =J12/2 -> 2085789.9
A13: 4 | B13: งานปรับถมดิน ถนนลาดยาง | F13: =+งานภูมิทัศน์!I24 -> 1552990
A14: 5 | B14: งานระบบไฟฟ้าภายนอก | F14: =+ไฟฟ้านอก!K70 -> 1239503
A15: 6 | B15: งานระบบประปาภายนอก | F15: =+ประปานอก!K102 -> 1379086.9 | J15: =SUM(F9:F12) -> 24005601 | K15: =+J15/1440 -> 16670.556 | L15: =+K15/2 -> 8335.278
B17: ราคารวม วัสดุ + แรงงาน | F17: =SUM(F9:F16) -> 28177180 | G17: =+O22 -> 1.2124 | H17: =F17*G17 -> 34162014 | J17: =+H17-F17 -> 5984833.1
Q18: กรณี งานอาคาร | S18: =+IF(K19="งานอาคาร",1,0) -> 1 | V18: กรณีงานสะพาน | X18: =+IF(K19="งานสะพานและท่อเหลี่ยม",1,0) -> 0 | Z18: กรณีงานทาง | AA18: =+G8 -> 0 | AB18: =+IF(K19="งานทาง",1,0) -> 0
B19: เงื่อนไขการใช้ตาราง Factor F | K19: =+B2 -> งานอาคาร | N19: ส่วนต่างวงเงิน | O19: ค่าเปลี่ยนแปลง | R19: RETENSION | V19: RETENSION | Z19: RETENSION
B20: เงินล่วงหน้าจ่าย | F20: 0.15 | K20: วงเงิน | L20: FACTOR F | N20: =IF(TYPE(K21)=2,0,F17-K21*1000000) -> 3177180.4 | O20: =IF(TYPE(K22)=2,L21,L21-L22) -> 0.0088 | Q20: วงเงิน | R20: 0 | S20: 0.05 | T20: 0.1 | V20: 0 | W20: 0.05 | X20: 0.1 | Z20: 0 | AA20: 0.05 | AB20: 0.1
B21: เงินประกันผลงานหัก | F21: 0 | K21: 25 | L21: =IF(K19="งานอาคาร",HLOOKUP(F21,R20:T22,2),IF(K19="งานสะพานและท่อเหลี่ยม",HLOOKUP(F21,V20:X22,2),HLOOKUP(F21,Z20:AB22,2))) -> 1.218 | N21: =IF(TYPE(K21)=2,0,(K22-K21)*1000000) -> 5000000 | O21: =IF(TYPE(K22)=2,0,O20*N20/N21) -> 0.0055918375 | Q21: =+K21 -> 25 | R21: =(IF(F21=0,IF(F20=0%,VLOOKUP(K21,FBUILD,2),IF(F20=5%,VLOOKUP(K21,FBUILD,3),IF(F20=10%,VLOOKUP(K21,FBUILD,4),IF(F20=15%,VLOOKUP(K21,FBUILD,5),"ERROR"))))))*S18 -> 1.218 | S21: =+IF(F21=5%,IF(F20=0%,VLOOKUP(K21,FBUILD,6),IF(F20=5%,VLOOKUP(K21,FBUILD,7),IF(F20=10%,VLOOKUP(K21,FBUILD,8),IF(F20=15%,VLOOKUP(K21,FBUILD,9),"ERROR")))))*S18 -> 0 | T21: =+IF(F21=10%,IF(F20=0%,VLOOKUP(K21,FBUILD,10),IF(F20=5%,VLOOKUP(K21,FBUILD,11),IF(F20=10%,VLOOKUP(K21,FBUILD,12),IF(F20=15%,VLOOKUP(K21,FBUILD,13),"ERROR")))))*S18 -> 0 | V21: =(IF(F21=0,IF(F20=0%,VLOOKUP(K21,FBRIDGE,2),IF(F20=5%,VLOOKUP(K21,FBRIDGE,3),IF(F20=10%,VLOOKUP(K21,FBRIDGE,4),IF(F20=15%,VLOOKUP(K21,FBRIDGE,5),"ERROR"))))))*X18 -> 0 | W21: =+IF(F21=5%,IF(F20=0%,VLOOKUP(K21,FBRIDGE,6),IF(F20=5%,VLOOKUP(K21,FBRIDGE,7),IF(F20=10%,VLOOKUP(K21,FBRIDGE,8),IF(F20=15%,VLOOKUP(K21,FBRIDGE,9),"ERROR")))))*X18 -> 0 | X21: =+IF(F21=10%,IF(F20=0%,VLOOKUP(K21,FBRIDGE,10),IF(F20=5%,VLOOKUP(K21,FBRIDGE,11),IF(F20=10%,VLOOKUP(K21,FBRIDGE,12),IF(F20=15%,VLOOKUP(K21,FBRIDGE,13),"ERROR")))))*X18 -> 0 | Z21: =(IF(F21=0,IF(F20=0%,VLOOKUP(K21,FROAD,IF(AA18="ปกติ",2,IF(AA18="ฝนชุก1",3,4))),IF(F20=5%,VLOOKUP(K21,FROAD,IF(AA18="ปกติ",5,IF(AA18="ฝนชุก1",6,7))),IF(F20=10%,VLOOKUP(K21,FROAD,IF(AA18="ปกติ",8,IF(AA18="ฝนชุก1",9,10))),IF(F20=15%,VLOOKUP(K21,FROAD,IF(AA18="ปกติ",11,IF(AA18="ฝนชุก1",12,13))),"ERROR"))))))*AB18 -> 0 | AA21: =+IF(F21=5%,IF(F20=0%,VLOOKUP(K21,FROAD,IF(AA18="ปกติ",14,IF(AA18="ฝนชุก1",15,16))),IF(F20=5%,VLOOKUP(K21,FROAD,IF(AA18="ปกติ",17,IF(AA18="ฝนชุก1",18,19))),IF(F20=10%,VLOOKUP(K21,FROAD,IF(AA18="ปกติ",20,IF(AA18="ฝนชุก1",21,22))),IF(F20=15%,VLOOKUP(K21,FROAD,IF(AA18="ปกติ",23,IF(AA18="ฝนชุก1",24,25))),"ERROR")))))*AB18 -> 0 | AB21: =+IF(F21=10%,IF(F20=0%,VLOOKUP(K21,FROAD,IF(AA18="ปกติ",26,IF(AA18="ฝนชุก1",27,28))),IF(F20=5%,VLOOKUP(K21,FROAD,IF(AA18="ปกติ",29,IF(AA18="ฝนชุก1",30,31))),IF(F20=10%,VLOOKUP(K21,FROAD,IF(AA18="ปกติ",32,IF(AA18="ฝนชุก1",33,34))),IF(F20=15%,VLOOKUP(K21,FROAD,IF(AA18="ปกติ",35,IF(AA18="ฝนชุก1",36,37))),"ERROR")))))*AB18 -> 0
B22: ดอกเบี้ยเงินกู้ | F22: 0.06 | K22: 30 | L22: =IF(K19="งานอาคาร",HLOOKUP(F21,R20:T22,3),IF(K19="งานสะพานและท่อเหลี่ยม",HLOOKUP(F21,V20:X22,3),HLOOKUP(F21,Z20:AB22,3))) -> 1.2092 | N22: FACTOR F ---> | O22: =ROUND(L21-O21,4) -> 1.2124 | Q22: =+K22 -> 30 | R22: =IF(F21=0,IF(F20=0%,VLOOKUP(K22,FBUILD,2),IF(F20=5%,VLOOKUP(K22,FBUILD,3),IF(F20=10%,VLOOKUP(K22,FBUILD,4),IF(F20=15%,VLOOKUP(K22,FBUILD,5),"ERROR")))))*S18 -> 1.2092 | S22: =+IF(F21=5%,IF(F20=0%,VLOOKUP(K22,FBUILD,6),IF(F20=5%,VLOOKUP(K22,FBUILD,7),IF(F20=10%,VLOOKUP(K22,FBUILD,8),IF(F20=15%,VLOOKUP(K22,FBUILD,9),"ERROR")))))*S18 -> 0 | T22: =+IF(F21=10%,IF(F20=0%,VLOOKUP(K22,FBUILD,10),IF(F20=5%,VLOOKUP(K22,FBUILD,11),IF(F20=10%,VLOOKUP(K22,FBUILD,12),IF(F20=15%,VLOOKUP(K22,FBUILD,13),"ERROR")))))*S18 -> 0 | V22: =IF(F21=0,IF(F20=0%,VLOOKUP(K22,FBRIDGE,2),IF(F20=5%,VLOOKUP(K22,FBRIDGE,3),IF(F20=10%,VLOOKUP(K22,FBRIDGE,4),IF(F20=15%,VLOOKUP(K22,FBRIDGE,5),"ERROR")))))*X18 -> 0 | W22: =+IF(F21=5%,IF(F20=0%,VLOOKUP(K22,FBRIDGE,6),IF(F20=5%,VLOOKUP(K22,FBRIDGE,7),IF(F20=10%,VLOOKUP(K22,FBRIDGE,8),IF(F20=15%,VLOOKUP(K22,FBRIDGE,9),"ERROR")))))*X18 -> 0 | X22: =+IF(F21=10%,IF(F20=0%,VLOOKUP(K22,FBRIDGE,10),IF(F20=5%,VLOOKUP(K22,FBRIDGE,11),IF(F20=10%,VLOOKUP(K22,FBRIDGE,12),IF(F20=15%,VLOOKUP(K22,FBRIDGE,13),"ERROR")))))*X18 -> 0 | Z22: =(IF(F21=0,IF(F20=0%,VLOOKUP(K22,FROAD,IF(AA18="ปกติ",2,IF(AA18="ฝนชุก1",3,4))),IF(F20=5%,VLOOKUP(K22,FROAD,IF(AA18="ปกติ",5,IF(AA18="ฝนชุก1",6,7))),IF(F20=10%,VLOOKUP(K22,FROAD,IF(AA18="ปกติ",8,IF(AA18="ฝนชุก1",9,10))),IF(F20=15%,VLOOKUP(K22,FROAD,IF(AA18="ปกติ",11,IF(AA18="ฝนชุก1",12,13))),"ERROR"))))))*AB18 -> 0 | AA22: =+IF(F21=5%,IF(F20=0%,VLOOKUP(K22,FROAD,IF(AA18="ปกติ",14,IF(AA18="ฝนชุก1",15,16))),IF(F20=5%,VLOOKUP(K22,FROAD,IF(AA18="ปกติ",17,IF(AA18="ฝนชุก1",18,19))),IF(F20=10%,VLOOKUP(K22,FROAD,IF(AA18="ปกติ",20,IF(AA18="ฝนชุก1",21,22))),IF(F20=15%,VLOOKUP(K22,FROAD,IF(AA18="ปกติ",23,IF(AA18="ฝนชุก1",24,25))),"ERROR")))))*AB18 -> 0 | AB22: =+IF(F21=10%,IF(F20=0%,VLOOKUP(K22,FROAD,IF(AA18="ปกติ",26,IF(AA18="ฝนชุก1",27,28))),IF(F20=5%,VLOOKUP(K22,FROAD,IF(AA18="ปกติ",29,IF(AA18="ฝนชุก1",30,31))),IF(F20=10%,VLOOKUP(K22,FROAD,IF(AA18="ปกติ",32,IF(AA18="ฝนชุก1",33,34))),IF(F20=15%,VLOOKUP(K22,FROAD,IF(AA18="ปกติ",35,IF(AA18="ฝนชุก1",36,37))),"ERROR")))))*AB18 -> 0
B23: VAT | F23: 0.07 | K23: หมายเหตุ : ใช้ FACTOR F ที่ปรับปรุงและทบทวน ของ กรมบัญชีกลาง ล่าสุด ตามหนังสือเวียน
A24: รวมราคาปรับปรุง | H24: =SUM(H9:H23) -> 34162014 | L24: ที่ กค.0405.3/ ว.364 เมื่อวันที่ 15 ก.ย. 2559
B26: คณะกรรมการกำหนดราคากลาง
B27: น.อ. | C27: สมหมาย แสวงกิจ | E27: ประธานกรรมการ
B29: น.ท. | C29: อนวัช วรรณศรี | E29: กรรมการ
B31: น.ท. | C31: สมศักดิ์ อุนานุยา | E31: กรรมการและเลขานุการ
B33: น.ต. | C33: ธีรทัต กงทอง | E33: กรรมการ
B35: ร.ต. | C35: ชาญวิทย์ ยาม่วง | E35: กรรมการ

Sheet ใบสรุปแบบ ปร.5 (ข)
A1: แบบสรุปค่าครุภัณฑ์ จัดซื้อ
A2: กลุ่มงาน | B2: ='ใบสรุปแบบ ปร.5 (ก) '!B2 -> งานอาคาร
A3: ชื่อโครงการ | B3: ='แบบ ปร.6'!B2 -> งานจ้างก่อสร้างอาคารพักนายทหารประทวนโสด (NCOQ) พร้อมสิ่งอำนวยความสะดวก ของ สอ.รฝ. จำนวน 2 หลัง
A4: สถานที่ก่อสร้าง | B4: =+'แบบ ปร.6'!B3 -> จ.ชลบุรี | D4: แบบเลขที่ | E4: =+'แบบ ปร.6'!B4 -> 62-2-101,63-5-006,62-4-030
A5: หน่วยงานเจ้าของโครงการ/งานก่อสร้าง | D5: =+'แบบ ปร.6'!C5 -> สอ.รฝ. | F5: แบบ ปร. 4 ที่แนบ จำนวน | H5: 1
A7: ลำดับที่ | B7: รายการ | F7: ค่างาน | G7: ภาษี | H7: ค่าจัดซื้อ | I7: หมายเหตุ
F8: ( บาท ) | G8: มูลค่าเพิ่ม | H8: ( บาท )
A9: 1 | B9: ครุภัณฑ์ระบบประปา 2 หลัง | F9: =+ครุภัณฑ์!I26 -> 783342
B21: ราคารวม ค่าครุภัณฑ์ | F21: =SUM(F9:F17) -> 783342 | G21: 1.07 | H21: =F21*G21 -> 838175.94
A23: รวมราคา ค่าครุภัณฑ์ จัดซื้อ | H23: =SUM(H9:H22) -> 838175.94
B25: คณะกรรมการกำหนดราคากลาง
B26: น.อ. | C26: สมหมาย แสวงกิจ | E26: ประธานกรรมการ
B28: น.ท. | C28: อนวัช วรรณศรี | E28: กรรมการ
B30: น.ท. | C30: สมศักดิ์ อุนานุยา | E30: กรรมการและเลขานุการ
B32: น.ต. | C32: ธีรทัต กงทอง | E32: กรรมการ
B34: ร.ต. | C34: ชาญวิทย์ ยาม่วง | E34: กรรมการ

Sheet แบบ ปร.4_อาคาร
A1: แบบแสดงรายการปริมาณงานและราคา
A2: กลุ่มงาน | B2: ='ใบสรุปแบบ ปร.5 (ก) '!B2 -> งานอาคาร | C2: แบบเลขที่ | D2: =+'แบบ ปร.6'!B4 -> 62-2-101,63-5-006,62-4-030
A3: ชื่อโครงการ | B3: =+'แบบ ปร.6'!B2 -> งานจ้างก่อสร้างอาคารพักนายทหารประทวนโสด (NCOQ) พร้อมสิ่งอำนวยความสะดวก ของ สอ.รฝ. จำนวน 2 หลัง | K3: =7.5*4 -> 30
A4: สถานที่ | B4: =+'แบบ ปร.6'!B3 -> จ.ชลบุรี | C4: หน่วยงานเจ้าของโครงการ
A6: ลำดับที่ | B6: รายการ | C6: จำนวน | D6: หน่วย | E6: ค่าวัสดุ (บาท ) | G6: ค่าแรงงาน (บาท ) | I6: รวม (บาท ) | J6: หมายเหตุ
E7: ราคาหน่วยละ | F7: จำนวนเงิน | G7: ราคาหน่วยละ | H7: จำนวนเงิน | I7: วัสดุและแรงงาน | K7: =+I83+I102+I159+I177 -> 22649127
B8: อาคารพักทหารประทานโสด (NCOQ)
B9: งานเสาเข็ม และฐานราก | L9: =790-70 -> 720
B10: - งานขุดดิน | C10: 104 | D10: ลบ.ม. | E10: 0 | F10: =+E10*C10 -> 0 | G10: 99 | H10: =+G10*C10 -> 10296 | I10: =+H10+F10 -> 10296
B11: - งานเจาะสำรวจดิน | C11: 1 | D11: หลุม | E11: 30000 | F11: =SUM(C11*E11) -> 30000 | G11: วัสดุ + | H11: แรงงาน | I11: =SUM(F11) -> 30000
B12: - เสาเข็ม BORED PILE Ø 0.35 ม. ยาว 7.00ม. เสริมเหล็ก 6 DB 12 ตลอดต้น | C12: 110 | D12: ต้น | E12: =7000+1175 -> 8175 | F12: =SUM(C12*E12) -> 899250 | G12: วัสดุ + | H12: แรงงาน | I12: =SUM(F12) -> 899250
B13: - งานสกัดหัวเสาเข็มเจาะ ขนาด f 0.35 ม. | C13: 110 | D13: ต้น | E13: - | F13: - | G13: 350 | H13: =SUM(C13*G13) -> 38500 | I13: =SUM(H13) -> 38500
B14: - SEISMIC TEST | C14: 110 | D14: ต้น | E14: 250 | F14: =SUM(C14*E14) -> 27500 | G14: วัสดุ + | H14: แรงงาน | I14: =SUM(F14) -> 27500
B15: - คอนกรีตหยาบ | C15: 5 | D15: ลบ.ม. | E15: 2029 | F15: =SUM(C15*E15) -> 10145 | G15: วัสดุ + | H15: แรงงาน | I15: =SUM(F15) -> 10145
B16: - คอนกรีตฐานราก (240ksc) | C16: 39 | D16: ลบ.ม. | E16: 2141 | F16: =+E16*C16 -> 83499 | G16: 485 | H16: =+G16*C16 -> 18915 | I16: =+H16+F16 -> 102414
B17: - แบบหล่อคอนกรีต | C17: 172 | D17: ตร.ม. | E17: 200 | F17: =+E17*C17 -> 34400 | G17: 133 | H17: =+G17*C17 -> 22876 | I17: =+H17+F17 -> 57276
B18: - เหล็กเสริมคอนกรีต
B19: RB 9 mm (SR 24) | C19: 0.14 | D19: ตัน | E19: 21379 | F19: =+E19*C19 -> 2993.06 | G19: 4100 | H19: =+G19*C19 -> 574 | I19: =+H19+F19 -> 3567.06
B20: DB 12 mm (SD 40) | C20: 0.36 | D20: ตัน | E20: 21307 | F20: =+E20*C20 -> 7670.52 | G20: 3300 | H20: =+G20*C20 -> 1188 | I20: =+H20+F20 -> 8858.52
B21: DB 16 mm (SD 40) | C21: 3.79 | D21: ตัน | E21: 21541 | F21: =+E21*C21 -> 81640.39 | G21: 3300 | H21: =+G21*C21 -> 12507 | I21: =+H21+F21 -> 94147.39
B22: - ลวดผูกเหล็ก | C22: 130 | D22: กก. | E22: 31 | F22: =+E22*C22 -> 4030 | G22: 0 | H22: =+G22*C22 -> 0 | I22: =+H22+F22 -> 4030
B23: - ตะปู | C23: 43 | D23: กก. | E23: 47 | F23: =+E23*C23 -> 2021 | G23: 0 | H23: =+G23*C23 -> 0 | I23: =+H23+F23 -> 2021
B25: รวม | F25: =SUM(F9:F24) -> 1183149 | H25: =SUM(H9:H24) -> 104856 | K25: =+H25+F25 -> 1288005
B26: รวมเงินหน้านี้ | I26: =SUM(I9:I24) -> 1288005
B27: งานโครงสร้าง ค.ส.ล.
B28: - คอนกรีตโครงสร้าง (240ksc) | C28: 220 | D28: ลบ.ม. | E28: 2141 | F28: =+E28*C28 -> 471020 | G28: 485 | H28: =+G28*C28 -> 106700 | I28: =+H28+F28 -> 577720
B29: - แบบหล่อคอนกรีต | C29: 2475 | D29: ตร.ม. | E29: 200 | F29: =+E29*C29 -> 495000 | G29: 133 | H29: =+G29*C29 -> 329175 | I29: =+H29+F29 -> 824175
B30: - เหล็กเสริมคอนกรีต
B31: RB 6 mm (SR 24) | C31: 3.84 | D31: ตัน | E31: 21981 | F31: =+E31*C31 -> 84407.04 | G31: 4100 | H31: =+G31*C31 -> 15744 | I31: =+H31+F31 -> 100151.04
B32: RB 9 mm (SR 24) | C32: 7.01 | D32: ตัน | E32: 21379 | F32: =+E32*C32 -> 149866.79 | G32: 4100 | H32: =+G32*C32 -> 28741 | I32: =+H32+F32 -> 178607.79
B33: DB 12 mm (SD 40) | C33: 5.23 | D33: ตัน | E33: 21307 | F33: =+E33*C33 -> 111435.61 | G33: 3300 | H33: =+G33*C33 -> 17259 | I33: =+H33+F33 -> 128694.61
B34: DB 16 mm (SD 40) | C34: 8.82 | D34: ตัน | E34: 21541 | F34: =+E34*C34 -> 189991.62 | G34: 3300 | H34: =+G34*C34 -> 29106 | I34: =+H34+F34 -> 219097.62
B35: DB 20 mm (SD 40) | C35: 1.53 | D35: ตัน | E35: 21425 | F35: =+E35*C35 -> 32780.25 | G35: 2900 | H35: =+G35*C35 -> 4437 | I35: =+H35+F35 -> 37217.25
B36: - พื้นสำเร็จรูปชนิดท้องเรียบ หนา 0.05 ม. รับน้ำหนักบรรทุกได้ไม่น้อยกว่า | C36: 786 | D36: ตร.ม. | E36: 250 | F36: =+E36*C36 -> 196500 | G36: 25 | H36: =+G36*C36 -> 19650 | I36: =+H36+F36 -> 216150
B37: 200 กก./ตร.ม.
B38: - WIRE MESH Ø 4 มม. @ 0.20 ม. # | C38: 786 | D38: ตร.ม. | E38: 47 | F38: =+E38*C38 -> 36942 | G38: 5 | H38: =+G38*C38 -> 3930 | I38: =+H38+F38 -> 40872
B39: - คอนกรีตทับหน้า | C39: 42 | D39: ลบ.ม. | E39: 2141 | F39: =+E39*C39 -> 89922 | G39: 485 | H39: =+G39*C39 -> 20370 | I39: =+H39+F39 -> 110292
B40: - ลวดผูกเหล็ก | C40: 795 | D40: กก. | E40: 31 | F40: =+E40*C40 -> 24645 | G40: 0 | H40: =+G40*C40 -> 0 | I40: =+H40+F40 -> 24645
B41: - ตะปู | C41: 620 | D41: กก. | E41: 47 | F41: =+E41*C41 -> 29140 | G41: 0 | H41: =+G41*C41 -> 0 | I41: =+H41+F41 -> 29140
B44: รวม | F44: =SUM(F28:F43) -> 1911650.3 | H44: =SUM(H28:H43) -> 575112 | K44: =+H44+F44 -> 2486762.3
B45: รวมเงินหน้านี้ | I45: =SUM(I28:I43) -> 2486762.3
B46: งานโครงสร้างหลังคาเหล็กรูปพรรณ
B47: - WF 200x100x21.3 kg/m. | C47: 767 | D47: กก. | E47: 21 | F47: =+E47*C47 -> 16107 | G47: 0 | H47: =+G47*C47 -> 0 | I47: =+H47+F47 -> 16107
B48: - [] 150x150x6mm. | C48: 177 | D48: กก. | E48: 21 | F48: =+E48*C48 -> 3717 | G48: 0 | H48: =+G48*C48 -> 0 | I48: =+H48+F48 -> 3717
B49: - [] 150x50x3.2mm. | C49: =2962+36 -> 2998 | D49: กก. | E49: 21 | F49: =+E49*C49 -> 62958 | G49: 0 | H49: =+G49*C49 -> 0 | I49: =+H49+F49 -> 62958
B50: - [] 100x50x3.2mm. | C50: =143+130+620 -> 893 | D50: กก. | E50: 21 | F50: =+E50*C50 -> 18753 | G50: 0 | H50: =+G50*C50 -> 0 | I50: =+H50+F50 -> 18753
B51: - [ 100x50x20x2.3mm. | C51: 3422 | D51: กก. | E51: 21 | F51: =+E51*C51 -> 71862 | G51: 0 | H51: =+G51*C51 -> 0 | I51: =+H51+F51 -> 71862
B52: - L50x50x4mm. | C52: =11+12 -> 23 | D52: กก. | E52: 21 | F52: =+E52*C52 -> 483 | G52: 0 | H52: =+G52*C52 -> 0 | I52: =+H52+F52 -> 483
B53: - PL 250x250x8มม. พร้อม 8 DB 16 Ancher Steel | C53: 2 | D53: ชุด | E53: 830 | F53: =+E53*C53 -> 1660 | G53: 0 | H53: =+G53*C53 -> 0 | I53: =+H53+F53 -> 1660 | K53: =0.25*0.25*8*7.85*50 -> 196.25 | L53: =1.58*0.5*100 -> 79 | M53: =+L53*8 -> 632 | N53: =+K53+M53 -> 828.25
B54: - PL 200x200x8มม. พร้อม 4 DB 16 Ancher Steel และ PL สามเหลี่ยม | C54: 30 | D54: ชุด | E54: 510 | F54: =+E54*C54 -> 15300 | G54: 0 | H54: =+G54*C54 -> 0 | I54: =+H54+F54 -> 15300 | K54: =0.2*0.2*8*7.85*50 -> 125.6 | L54: =1.58*0.5*100 -> 79 | M54: =+L54*4 -> 316 | N54: =+M54+K54 -> 441.6 | O54: =0.1*0.2*8*7.85*50 -> 62.8 | P54: =+O54+N54 -> 504.4
B55: ขนาดฐาน 100 มม. สูง 200 มม. หนา 8 มม.
B56: - PL 200x200x8มม. | C56: 4 | D56: ชุด | E56: 130 | F56: =+E56*C56 -> 520 | G56: 0 | H56: =+G56*C56 -> 0 | I56: =+H56+F56 -> 520 | K56: =0.2*0.2*8*7.85*50 -> 125.6
B57: - PL 200x100x8มม. | C57: 13 | D57: ชุด | E57: 70 | F57: =+E57*C57 -> 910 | G57: 0 | H57: =+G57*C57 -> 0 | I57: =+H57+F57 -> 910 | K57: =0.2*0.1*8*7.85*50 -> 62.8
B58: - Non Shrink | C58: 1 | D58: งาน | E58: 5000 | F58: =+E58*C58 -> 5000 | G58: วัสดุ + | H58: แรงงาน | I58: =+F58 -> 5000 | K58: 12 | L58: =5000/K58 -> 416.66667
B59: - ค่าแรงประกอบ | C59: 8280 | D59: กก. | E59: 0 | F59: =+E59*C59 -> 0 | G59: 12 | H59: =+G59*C59 -> 99360 | I59: =+H59+F59 -> 99360 | K59: =+C47+C48+C49+C50+C51+C52 -> 8280
B60: - สีกันสนิมและสีน้ำมันทับหน้า | C60: 587 | D60: ตร.ม. | E60: 150 | F60: =+E60*C60 -> 88050 | G60: วัสดุ + | H60: แรงงาน | I60: =SUM(F60) -> 88050 | K60: =6+395+5.5+26+4+120+2+28 -> 586.5
B63: รวม | F63: =SUM(F47:F62) -> 285320 | H63: =SUM(H47:H62) -> 99360 | K63: =+H63+F63 -> 384680
B64: รวมเงินหน้านี้ | I64: =SUM(I47:I62) -> 384680
B65: งานมุงหลังคา | K65: =K63+K44+K25 -> 4159447.3
B66: - หลังคาเหล็กชุบสังกะสีเคลือบสี ความหนารวมชั้นเคลือบไม่น้อยกว่า 0.50 มม. | C66: 897 | D66: ตร.ม. | E66: 335 | F66: =SUM(C66*E66) -> 300495 | G66: 70 | H66: =SUM(C66*G66) -> 62790 | I66: =SUM(F66+H66) -> 363285 | L66: =790-70 -> 720
B67: - ครอบหลังคาเหล็กชุบสังกะสีเคลือบสีสันกลางหลังคา | C67: 56 | D67: ม. | E67: 265 | F67: =SUM(C67*E67) -> 14840 | G67: 50 | H67: =SUM(C67*G67) -> 2800 | I67: =SUM(F67+H67) -> 17640
B68: - ครอบสันหลังคาเหล็กชุบสังกะสีเคลือบสี | C68: 60 | D68: ม. | E68: 265 | F68: =SUM(C68*E68) -> 15900 | G68: 50 | H68: =SUM(C68*G68) -> 3000 | I68: =SUM(F68+H68) -> 18900
B69: - ฉนวนกันความร้อนใต้หลังคา | C69: 897 | D69: ตร.ม. | E69: 70 | F69: =SUM(C69*E69) -> 62790 | G69: วัสดุ + | H69: แรงงาน | I69: =+F69 -> 62790
B82: รวม | F82: =SUM(F66:F78) -> 394025 | H82: =SUM(H66:H78) -> 68590 | K82: =+H82+F82 -> 462615
B83: รวมเงินหน้านี้ | I83: =SUM(I66:I78) -> 462615
B84: งานฝ้าเพดาน
B85: - ฝ้ายิปซั่มบอร์ดหนา 9 มม.ขอบลาดฉาบเรียบโครงคร่าวเหล็กชุบสังกะสี | C85: 470 | D85: ตร.ม. | E85: 305 | F85: =+E85*C85 -> 143350 | G85: 75 | H85: =+G85*E85 -> 22875 | I85: =+H85+F85 -> 166225 | K85: =SUM(C85:C88) -> 1111
B86: - ฝ้ายิปซั่มบอร์ดหนา 9 มม.ชนิดทนชื้นขอบลาดฉาบเรียบโครงคร่าวเหล็กชุบสังกะสี | C86: 165 | D86: ตร.ม. | E86: 335 | F86: =+E86*C86 -> 55275 | G86: 75 | H86: =+G86*E86 -> 25125 | I86: =+H86+F86 -> 80400
B87: - ฝ้าเพดานไม้เทียม WPC (WOOD PLASTIC COMPOSITE) | C87: 376 | D87: ตร.ม. | E87: 510 | F87: =+E87*C87 -> 191760 | G87: 75 | H87: =+G87*E87 -> 38250 | I87: =+H87+F87 -> 230010
B88: - ฝ้าเพดานฉาบปูนเรียบ | C88: 100 | D88: ตร.ม. | E88: 90 | F88: =+E88*C88 -> 9000 | G88: 82 | H88: =+G88*E88 -> 7380 | I88: =+H88+F88 -> 16380
B90: งานผนังและฝา
B91: - ผนังก่ออิฐมวลเบา | C91: 1780 | D91: ตร.ม. | E91: 250 | F91: =+E91*C91 -> 445000 | G91: 56 | H91: =+G91*C91 -> 99680 | I91: =+H91+F91 -> 544680 | K91: =20*8.33 -> 166.6 | L91: =+K91+80 -> 246.6
B92: - ผนังฉาบเรียบภายนอก | C92: 1015 | D92: ตร.ม. | E92: 90 | F92: =+E92*C92 -> 91350 | G92: 95 | H92: =+G92*C92 -> 96425 | I92: =+H92+F92 -> 187775
B93: - ผนังฉาบปูนเรียบภายใน | C93: 2710 | D93: ตร.ม. | E93: 90 | F93: =+E93*C93 -> 243900 | G93: 82 | H93: =+G93*C93 -> 222220 | I93: =+H93+F93 -> 466120
B94: - ผนังกรุกระเบื้องเซรามิคขนาด 0.20x0.40 ม. | C94: 313 | D94: ตร.ม. | E94: 300 | F94: =+E94*C94 -> 93900 | G94: 181 | H94: =+G94*C94 -> 56653 | I94: =+H94+F94 -> 150553
B95: - ผนังไม้ตกแต่งไฟเบอร์ซีเมนต์ ลายริธั่ม ขนาด1.50x0.20 ม. | C95: 70 | D95: ตร.ม. | E95: =1000+220 -> 1220 | F95: =+E95*C95 -> 85400 | G95: 95 | H95: =+G95*C95 -> 6650 | I95: =+H95+F95 -> 92050 | K95: พร้อมโครง
B96: - ผนังทำผิวขัดมันเรียบ | C96: 189 | D96: ตร.ม. | E96: 100 | F96: =+E96*C96 -> 18900 | G96: 87 | H96: =+G96*C96 -> 16443 | I96: =+H96+F96 -> 35343
B97: - ผนังทำผิวทรายล้าง | C97: 110 | D97: ตร.ม. | E97: 550 | F97: =+E97*C97 -> 60500 | G97: วัสดุ + แรงงาน | I97: =+H97+F97 -> 60500
B98: - บัวปูนปั้น | C98: 90 | D98: ม. | E98: 250 | F98: =SUM(C98*E98) -> 22500 | G98: วัสดุ + แรงงาน | I98: =SUM(F98+H98) -> 22500
B99: - ราวกันตกเหล็กทาสี แบบที่ 1,2,3 | C99: 72 | D99: ม. | E99: 1800 | F99: =SUM(C99*E99) -> 129600 | G99: วัสดุ + แรงงาน | I99: =SUM(F99+H99) -> 129600
B100: - เซาะร่อง(ผนังภายนอก) | C100: 145 | D100: ตร.ม. | E100: 0 | F100: =SUM(C100*E100) -> 0 | G100: 113 | H100: =SUM(C100*G100) -> 16385 | I100: =SUM(F100+H100) -> 16385
B101: รวม | F101: =SUM(F84:F100) -> 1590435 | H101: =SUM(H84:H100) -> 608086 | K101: =+H101+F101 -> 2198521
B102: รวมเงินหน้านี้ | I102: =SUM(I84:I100) -> 2198521
B103: ประตู-หน้าต่าง
B104: - ป1 | C104: 21 | D104: ชุด | E104: 7700 | F104: =+E104*C104 -> 161700 | G104: วัสดุ + แรงงาน | I104: =+H104+F104 -> 161700 | K104: 8500 | L104: =+K104/1.1 -> 7727.2727
B105: - ป2 | C105: 2 | D105: ชุด | E105: 11000 | F105: =+E105*C105 -> 22000 | G105: วัสดุ + แรงงาน | I105: =+H105+F105 -> 22000 | K105: 13000 | L105: =+K105/1.1 -> 11818.182
B106: - ป3 | C106: 23 | D106: ชุด | E106: 7200 | F106: =+E106*C106 -> 165600 | G106: วัสดุ + แรงงาน | I106: =+H106+F106 -> 165600 | K106: 8000 | L106: =+K106/1.1 -> 7272.7273
B107: - ป4 | C107: 22 | D107: ชุด | E107: 15000 | F107: =+E107*C107 -> 330000 | G107: วัสดุ + แรงงาน | I107: =+H107+F107 -> 330000 | K107: 17500 | L107: =+K107/1.1 -> 15909.091
B108: - ป5 | C108: 11 | D108: ชุด | E108: 5900 | F108: =+E108*C108 -> 64900 | G108: วัสดุ + แรงงาน | I108: =+H108+F108 -> 64900 | K108: 6500 | L108: =+K108/1.1 -> 5909.0909
B109: - ป6 | C109: 2 | D109: ชุด | E109: 4000 | F109: =+E109*C109 -> 8000 | G109: วัสดุ + แรงงาน | I109: =+H109+F109 -> 8000 | K109: 4500 | L109: =+K109/1.1 -> 4090.9091
B110: - น1 | C110: 22 | D110: ชุด | E110: 8100 | F110: =+E110*C110 -> 178200 | G110: วัสดุ + แรงงาน | I110: =+H110+F110 -> 178200 | K110: 9000 | L110: =+K110/1.1 -> 8181.8182
B111: - น2 | C111: 10 | D111: ชุด | E111: 16000 | F111: =+E111*C111 -> 160000 | G111: วัสดุ + แรงงาน | I111: =+H111+F111 -> 160000 | K111: 18000 | L111: =+K111/1.1 -> 16363.636
B112: - น3 | C112: 24 | D112: ชุด | E112: 6300 | F112: =+E112*C112 -> 151200 | G112: วัสดุ + แรงงาน | I112: =+H112+F112 -> 151200 | K112: 7000 | L112: =+K112/1.1 -> 6363.6364
B113: - น4 | C113: 1 | D113: ชุด | E113: 18000 | F113: =+E113*C113 -> 18000 | G113: วัสดุ + แรงงาน | I113: =+H113+F113 -> 18000 | K113: 20000 | L113: =+K113/1.1 -> 18181.818
B114: - น5 | C114: 2 | D114: ชุด | E114: 8100 | F114: =+E114*C114 -> 16200 | G114: วัสดุ + แรงงาน | I114: =+H114+F114 -> 16200 | K114: 9000 | L114: =+K114/1.1 -> 8181.8182
B115: - น6 | C115: 7 | D115: ชุด | E115: 5400 | F115: =+E115*C115 -> 37800 | G115: วัสดุ + แรงงาน | I115: =+H115+F115 -> 37800 | K115: 6000 | L115: =+K115/1.1 -> 5454.5455
B120: รวม | F120: =SUM(F104:F119) -> 1313600 | H120: =SUM(H104:H119) -> 0 | K120: =+H120+F120 -> 1313600
B121: รวมเงินหน้านี้ | I121: =SUM(I104:I119) -> 1313600
B122: งานสุขภัณฑ์
B123: - โถส้วมนั่งราบพร้อมหม้อน้ำ | C123: 23 | D123: ชุด | E123: 5200 | F123: =+E123*C123 -> 119600 | G123: 450 | H123: =+G123*C123 -> 10350 | I123: =+H123+F123 -> 129950
...

Sheet แบบ ปร.4_ประปา
A1: แบบแสดงรายการปริมาณงานและราคา
A2: กลุ่มงาน | B2: ='ใบสรุปแบบ ปร.5 (ก) '!B2 -> งานอาคาร
A3: ชื่อโครงการ | B3: =+'แบบ ปร.6'!B2 -> งานจ้างก่อสร้างอาคารพักนายทหารประทวนโสด (NCOQ) พร้อมสิ่งอำนวยความสะดวก ของ สอ.รฝ. จำนวน 2 หลัง | C3: แบบเลขที่ | D3: =+'แบบ ปร.6'!B4 -> 62-2-101,63-5-006,62-4-030
A4: สถานที่ | B4: =+'แบบ ปร.6'!B3 -> จ.ชลบุรี | C4: หน่วยงานเจ้าของโครงการ | F4: =+'แบบ ปร.6'!C5 -> สอ.รฝ.
A5: คำนวณโดย | B5: ติ๊ก | C5: =+'แบบ ปร.6'!B7 -> 0
A6: ลำดับที่ | B6: รายการ | C6: จำนวน | D6: หน่วย | E6: ค่าวัสดุ (บาท ) | G6: ค่าแรงงาน (บาท ) | I6: รวม (บาท ) | J6: หมายเหตุ
E7: ราคาหน่วยละ | F7: จำนวนเงิน | G7: ราคาหน่วยละ | H7: จำนวนเงิน | I7: วัสดุและแรงงาน
B8: งานระบบประปาภายใน
B9: - บ่อบำบัดน้ำเสียขนาด 1000 ลิตร พร้อมฐาน ค.ส.ล. และติดตั้ง | C9: 1 | D9: ชุด | E9: 12500 | F9: =SUM(C9*E9) -> 12500 | G9: วัสดุ + แรงงาน | I9: =SUM(F9+H9) -> 12500
B10: - ถังเก็บน้ำขนาด 1000 ลิตร พร้อมฐาน ค.ส.ล. และติดตั้ง | C10: 1 | D10: ชุด | E10: 8000 | F10: =SUM(C10*E10) -> 8000 | G10: วัสดุ + แรงงาน | I10: =SUM(F10+H10) -> 8000
B11: - บ่อกระจายน้ำ | C11: 1 | D11: ชุด | E11: 4500 | F11: =SUM(C11*E11) -> 4500 | G11: วัสดุ + แรงงาน | I11: =SUM(F11+H11) -> 4500
B12: - มิเตอร์ ขนาด f 3/4" | C12: 1 | D12: ชุด | E12: 1500 | F12: =SUM(C12*E12) -> 1500 | G12: วัสดุ + แรงงาน | I12: =SUM(F12+H12) -> 1500
B13: - งานติดตั้งระบบท่อประปาและสุขาภิบาลภายในอาคาร | C13: 1 | D13: งาน | E13: 15000 | F13: =SUM(C13*E13) -> 15000 | G13: วัสดุ + แรงงาน | I13: =SUM(F13+H13) -> 15000
B29: รวม | F29: =SUM(F9:F28) -> 41500 | H29: =SUM(H9:H28) -> 0 | K29: =+H29+F29 -> 41500
B30: รวมเงินหน้านี้ | I30: =SUM(I9:I28) -> 41500

Sheet แบบ ปร.4_ไฟฟ้า
A1: แบบแสดงรายการปริมาณงานและราคา
A2: กลุ่มงาน | B2: ='ใบสรุปแบบ ปร.5 (ก) '!B2 -> งานอาคาร
A3: ชื่อโครงการ | B3: =+'แบบ ปร.6'!B2 -> งานจ้างก่อสร้างอาคารพักนายทหารประทวนโสด (NCOQ) พร้อมสิ่งอำนวยความสะดวก ของ สอ.รฝ. จำนวน 2 หลัง | C3: แบบเลขที่ | D3: =+'แบบ ปร.6'!B4 -> 62-2-101,63-5-006,62-4-030
A4: สถานที่ | B4: =+'แบบ ปร.6'!B3 -> จ.ชลบุรี | C4: หน่วยงานเจ้าของโครงการ | F4: =+'แบบ ปร.6'!C5 -> สอ.รฝ.
A5: คำนวณโดย | B5: พี่โชติ | C5: =+'แบบ ปร.6'!B7 -> 0
A6: ลำดับที่ | B6: รายการ | C6: จำนวน | D6: หน่วย | E6: ค่าวัสดุ (บาท ) | G6: ค่าแรงงาน (บาท ) | I6: รวม (บาท ) | J6: หมายเหตุ
E7: ราคาหน่วยละ | F7: จำนวนเงิน | G7: ราคาหน่วยละ | H7: จำนวนเงิน | I7: วัสดุและแรงงาน
B8: งานไฟฟ้าภายใน
B9: - โคมโลเบย์(ฝาชี)หลอดเมทัลอาไลด์ขนาด 70W.220V.AC.
B10: ขั้วหลอดทำจาก PORCELAIN สามารถทน PULSE ได้ 3.5 KV. | C10: 11 | D10: ชุด | E10: 4500 | F10: =SUM(C10*E10) -> 49500 | G10: 0 | H10: =SUM(C10*G10) -> 0 | I10: =SUM(F10) -> 49500
B11: - โคมไฟหลอดฟูลออเรสเชนต์ฐานโลหะเคลือบสีขั้วดันสปริง 2X36 W. 220V.AC. | C11: 8 | D11: ชุด | E11: 1500 | F11: =SUM(C11*E11) -> 12000 | G11: 0 | H11: =SUM(C11*G11) -> 0 | I11: =SUM(F11) -> 12000
B12: - โคมไฟหลอดฟูลออเรสเชนต์ฐานโลหะเคลือบสีขั้วดันสปริง 1X36 W. 220V.AC. | C12: 18 | D12: ชุด | E12: 1300 | F12: =SUM(C12*E12) -> 23400 | G12: 0 | H12: =SUM(C12*G12) -> 0 | I12: =SUM(F12) -> 23400
B13: - ดวงโคมดาวไลด์ขนาด 11 W. WARWHITE หลอดคอมแพค | C13: 1 | D13: ชุด | E13: 1000 | F13: =SUM(C13*E13) -> 1000 | G13: 0 | H13: =SUM(C13*G13) -> 0 | I13: =SUM(F13) -> 1000
B14: - สวิทช์เปิด-ปิดดวงโคมชนิดพร้อมกล่องขนาด 15 A. 250 V.AC. | C14: 15 | D14: ชุด | E14: 60 | F14: =C14*E14 -> 900 | G14: 80 | H14: =C14*G14 -> 1200 | I14: =SUM(F14+H14) -> 2100
B15: - เต้ารับคู่แบบมีสายกราวด์ (2P+G) ขนาด 15 A. 250 V.AC.50HZ. | C15: 21 | D15: ชุด | E15: 200 | F15: =C15*E15 -> 4200 | G15: 90 | H15: =C15*G15 -> 1890 | I15: =SUM(F15+H15) -> 6090
B16: - สายไฟฟ้าขนาด 1.5 Sq.mm. THW | C16: 10 | D16: ม้วน | E16: 566 | F16: =C16*E16 -> 5660 | G16: 500 | H16: =C16*G16 -> 5000 | I16: =SUM(F16+H16) -> 10660
B17: - สายไฟฟ้าขนาด 2.5 Sq.mm. THW | C17: 8 | D17: ม้วน | E17: 838 | F17: =C17*E17 -> 6704 | G17: 700 | H17: =C17*G17 -> 5600 | I17: =SUM(F17+H17) -> 12304
B18: - สายไฟฟ้าขนาด 4 Sq.mm. THW | C18: 10 | D18: ม้วน | E18: 1264 | F18: =C18*E18 -> 12640 | G18: 1000 | H18: =C18*G18 -> 10000 | I18: =SUM(F18+H18) -> 22640
B19: - ท่อ EMT ¾" | C19: 50 | D19: ท่อน | E19: 110 | F19: =C19*E19 -> 5500 | G19: 72 | H19: =C19*G19 -> 3600 | I19: =SUM(F19+H19) -> 9100
B20: - ท่อ EMT½" | C20: 100 | D20: ท่อน | E20: 76 | F20: =C20*E20 -> 7600 | G20: 66 | H20: =C20*G20 -> 6600 | I20: =SUM(F20+H20) -> 14200
B21: - ท่อ EMT 1" | C21: 30 | D21: ท่อน | E21: 157 | F21: =C21*E21 -> 4710 | G21: 84 | H21: =C21*G21 -> 2520 | I21: =SUM(F21+H21) -> 7230
B22: - ท่อ IMC 1½" | C22: 8 | D22: ท่อน | E22: 461 | F22: =C22*E22 -> 3688 | G22: 126 | H22: =C22*G22 -> 1008 | I22: =SUM(F22+H22) -> 4696
B23: - หัวงูเห่าขนาด 1½" | C23: 3 | D23: หัว | E23: 90 | F23: =C23*E23 -> 270 | G23: 50 | H23: =C23*G23 -> 150 | I23: =SUM(F23+H23) -> 420
B24: - 'ตู้ LOAD PANEL ขนาด 18 วงจรย่อยพร้อมเมนเบรคเกอร์ | C24: 1 | D24: ชุด | E24: 10360 | F24: =SUM(C24*E24) -> 10360 | G24: 1000 | H24: =C24*G24 -> 1000 | I24: =SUM(F24+H24) -> 11360
B25: - ระบบกราวด์แรงต่ำ (Triple Ground ) | C25: 1 | D25: ชุด | E25: 2200 | F25: =SUM(C25*E25) -> 2200 | G25: 300 | H25: =C25*G25 -> 300 | I25: =SUM(F25+H25) -> 2500
B26: - RACK 7 ช่อง 4 SPOOL พร้อมลูกแรคอย่างหนา | C26: 5 | D26: ชุด | E26: 400 | F26: =SUM(C26*E26) -> 2000 | G26: 100 | H26: =C26*G26 -> 500 | I26: =SUM(F26+H26) -> 2500
B27: - พัดลมดูดอากาศขนาด 8" | C27: 2 | D27: ท่อน | E27: 1000 | F27: =C27*E27 -> 2000 | G27: 400 | H27: =C27*G27 -> 800 | I27: =SUM(F27+H27) -> 2800
B28: - ค่าแรงติดตั้งเครื่องปรับอากาศ | C28: 2 | D28: ชุด | E28: 0 | F28: =SUM(A28*E28) -> 0 | G28: 3000 | H28: =SUM(C28*G28) -> 6000 | I28: =SUM(H28) -> 6000
B29: รวม | F29: =SUM(F9:F28) -> 154332 | H29: =SUM(H9:H28) -> 46168 | K29: =+H29+F29 -> 200500
B30: รวมเงินหน้านี้ | I30: =SUM(I9:I28) -> 200500

Sheet แบบ ปร.4_ฟฟ_ภายนอก
A1: แบบแสดงรายการปริมาณงานและราคา
A2: กลุ่มงาน | B2: ='ใบสรุปแบบ ปร.5 (ก) '!B2 -> งานอาคาร
A3: ชื่อโครงการ | B3: =+'แบบ ปร.6'!B2 -> งานจ้างก่อสร้างอาคารพักนายทหารประทวนโสด (NCOQ) พร้อมสิ่งอำนวยความสะดวก ของ สอ.รฝ. จำนวน 2 หลัง | C3: แบบเลขที่ | D3: =+'แบบ ปร.6'!B4 -> 62-2-101,63-5-006,62-4-030
A4: สถานที่ | B4: =+'แบบ ปร.6'!B3 -> จ.ชลบุรี | C4: หน่วยงานเจ้าของโครงการ | F4: =+'แบบ ปร.6'!C5 -> สอ.รฝ.
A5: คำนวณโดย | B5: น.อ.เกรียงศักดิ์ พลหาญ, ร.อ.เฉลิมชัย เมืองคล้าย | C5: =+'แบบ ปร.6'!B7 -> 0
A6: ลำดับที่ | B6: รายการ | C6: จำนวน | D6: หน่วย | E6: ค่าวัสดุ (บาท ) | G6: ค่าแรงงาน (บาท ) | I6: รวม (บาท ) | J6: หมายเหตุ
E7: ราคาหน่วยละ | F7: จำนวนเงิน | G7: ราคาหน่วยละ | H7: จำนวนเงิน | I7: วัสดุและแรงงาน
B8: งานไฟฟ้าภายนอก
B9: งานระบบไฟฟ้าภายนอกอาคาร
B10: ปักเสา/พาดสายไฟฟ้า
B11: - เสาคอนกรีต คอร. ขนาด 12.00 เมตร มาตรฐานการไฟฟ้าฯ (Electric Pole,EP-) | C11: 3 | D11: ต้น | E11: 5100 | F11: =SUM(C11*E11) -> 15300 | G11: 1500 | H11: =G11*C11 -> 4500 | I11: =F11+H11 -> 19800
B12: - Pin Post Insulator | C12: 34 | D12: ลูก | E12: 1050 | F12: =E12*C12 -> 35700 | G12: 250 | H12: =G12*C12 -> 8500 | I12: =F12+H12 -> 44200
B13: - Suspension Insulator | C13: 24 | D13: ลูก | E13: 550 | F13: =E13*C13 -> 13200 | G13: 250 | H13: =G13*C13 -> 6000 | I13: =F13+H13 -> 19200
B14: - Crossarm Steel Channel L2.5m | C14: 6 | D14: ตัว | E14: 1250 | F14: =SUM(C14*E14) -> 7500 | G14: 300 | H14: =G14*C14 -> 1800 | I14: =F14+H14 -> 9300
B15: - Crossarm Steel Channel L4.5m | C15: 2 | D15: ชุด | E15: 3500 | F15: =SUM(C15*E15) -> 7000 | G15: 500 | H15: =G15*C15 -> 1000 | I15: =F15+H15 -> 8000
B16: - 3-50 sq.mm.24kV.Outdoor Terminations | C16: 2 | D16: ชุด | E16: 9240 | F16: =SUM(C16*E16) -> 18480 | G16: 200 | H16: =G16*C16 -> 400 | I16: =F16+H16 -> 18880
B17: - 100A. 27kV. 125kV.BIL. 10kA. Drop Fuse Cutout | C17: 6 | D17: ชุด | E17: 3100 | F17: =E17*C17 -> 18600 | G17: 500 | H17: =G17*C17 -> 3000 | I17: =F17+H17 -> 21600
B18: - Lightning Arrestor 5kA. 21kV. | C18: 6 | D18: ชุด | E18: 2200 | F18: =E18*C18 -> 13200 | G18: 300 | H18: =G18*C18 -> 1800 | I18: =F18+H18 -> 15000
B19: - 3-Single Pole Disconnecting Switch 400A. 25kV. 150kV.BIL.40kA. | C19: 1 | D19: ชุด | E19: 18000 | F19: =E19*C19 -> 18000 | G19: 3000 | H19: =G19*C19 -> 3000 | I19: =F19+H19 -> 21000
B20: - 50 sq.mm. SAC 25 kV. | C20: 1500 | D20: เมตร | E20: 120 | F20: =SUM(C20*E20) -> 180000 | G20: 15 | H20: =G20*C20 -> 22500 | I20: =F20+H20 -> 202500
B21: - งานรื้อถอนฯ (เสา,สายไฟ,หม้อแปลง,อุปกรณ์ประกอบ) | C21: 1 | D21: งาน | G21: 40000 | H21: =G21*C21 -> 40000 | I21: =F21+H21 -> 40000
B22: - งานติดตั้งหม้อแปลงไฟฟ้าขนาด 400 kVA. | C22: 1 | D22: งาน | G22: 15000 | H22: =G22*C22 -> 15000 | I22: =F22+H22 -> 15000
B23: - HV.Grounding System | C23: 1 | D23: งาน | E23: 15000 | F23: =E23*C23 -> 15000 | G23: 5000 | H23: =G23*C23 -> 5000 | I23: =F23+H23 -> 20000
B24: - Accessories | C24: 1 | D24: งาน | E24: 30000 | F24: =E24*C24 -> 30000 | I24: =F24+H24 -> 30000
B26: รวม | F26: =SUM(F9:F25) -> 371980 | H26: =SUM(H9:H25) -> 112500 | K26: =+H26+F26 -> 484480
B27: รวมเงินหน้านี้ | I27: =SUM(I9:I25) -> 484480
B28: หม้อแปลงไฟฟ้า
B29: งานปรับปรุงระบบไฟฟ้าแรงต่ำ
B30: - 120 sq.mm. CV 0.6/1kV | C30: 680 | D30: เมตร | E30: 392 | F30: =SUM(C30*E30) -> 266560 | G30: 35 | H30: =G30*C30 -> 23800 | I30: =F30+H30 -> 290360
B31: - 35 sq.mm. CV | C31: 100 | D31: เมตร | E31: 104 | F31: =SUM(C31*E31) -> 10400 | G31: 10 | H31: =G31*C31 -> 1000 | I31: =F31+H31 -> 11400
B32: - W0.3m. Cable Ladder | C32: 75 | D32: เมตร | E32: 380 | F32: =SUM(C32*E32) -> 28500 | G32: 150 | H32: =G32*C32 -> 11250 | I32: =F32+H32 -> 39750
B33: - MDB Cubicle with Meterings,Outdoor Type | C33: 1 | D33: ชุด | E33: 55000 | F33: =SUM(C33*E33) -> 55000 | G33: 5000 | H33: =G33*C33 -> 5000 | I33: =F33+H33 -> 60000
B34: - 600A.3P.MCCB.35kA.IC. | C34: 1 | D34: ชุด | E34: 11250 | F34: =SUM(C34*E34) -> 11250 | G34: 100 | H34: =G34*C34 -> 100 | I34: =F34+H34 -> 11350
B35: - 400A.3P.MCCB.25kA.IC. | C35: 1 | D35: ชุด | E35: 10500 | F35: =SUM(C35*E35) -> 10500 | G35: 100 | H35: =G35*C35 -> 100 | I35: =F35+H35 -> 10600
B36: - 160A.3P.MCCB.25kA.IC. | C36: 3 | D36: ชุด | E36: 2350 | F36: =SUM(C36*E36) -> 7050 | G36: 100 | H36: =G36*C36 -> 300 | I36: =F36+H36 -> 7350
B37: - LV.Grounding System | C37: 1 | D37: งาน | E37: 2500 | F37: =E37*C37 -> 2500 | G37: 1500 | H37: =G37*C37 -> 1500 | I37: =F37+H37 -> 4000
B47: รวม | F47: =SUM(F29:F46) -> 391760 | H47: =SUM(H29:H46) -> 43050 | K47: =+H47+F47 -> 434810
B48: รวมเงินหน้านี้ | I48: =SUM(I29:I46) -> 434810
K49: =+I48+I27 -> 919290 | L49: <----- รวมงาน SHEET นี้

Sheet แบบ ปร.4_ปป_ภายนอก
A1: แบบแสดงรายการปริมาณงานและราคา
A2: กลุ่มงาน | B2: ='ใบสรุปแบบ ปร.5 (ก) '!B2 -> งานอาคาร
A3: ชื่อโครงการ | B3: =+'แบบ ปร.6'!B2 -> งานจ้างก่อสร้างอาคารพักนายทหารประทวนโสด (NCOQ) พร้อมสิ่งอำนวยความสะดวก ของ สอ.รฝ. จำนวน 2 หลัง | C3: แบบเลขที่ | D3: =+'แบบ ปร.6'!B4 -> 62-2-101,63-5-006,62-4-030
A4: สถานที่ | B4: =+'แบบ ปร.6'!B3 -> จ.ชลบุรี | C4: หน่วยงานเจ้าของโครงการ | F4: =+'แบบ ปร.6'!C5 -> สอ.รฝ.
A5: คำนวณโดย | B5: ติ๊ก | C5: =+'แบบ ปร.6'!B7 -> 0
A6: ลำดับที่ | B6: รายการ | C6: จำนวน | D6: หน่วย | E6: ค่าวัสดุ (บาท ) | G6: ค่าแรงงาน (บาท ) | I6: รวม (บาท ) | J6: หมายเหตุ
E7: ราคาหน่วยละ | F7: จำนวนเงิน | G7: ราคาหน่วยละ | H7: จำนวนเงิน | I7: วัสดุและแรงงาน
B8: งานประปาภายนอก
B9: งานฐานราก
B29: รวม | F29: =SUM(F10:F28) -> 0 | H29: =SUM(H10:H28) -> 0 | K29: =+H29+F29 -> 0
B30: รวมเงินหน้านี้ | I30: =SUM(I10:I28) -> 0

Sheet ไฟฟ้าใน
A1: แบบแสดงรายการปริมาณงานและราคา
A2: กลุ่มงาน | B2: ='ใบสรุปแบบ ปร.5 (ก) '!B2 -> งานอาคาร | C2: แบบเลขที่ | D2: =+'แบบ ปร.6'!B4 -> 62-2-101,63-5-006,62-4-030
A3: ชื่อโครงการ | B3: =+'แบบ ปร.6'!B2 -> งานจ้างก่อสร้างอาคารพักนายทหารประทวนโสด (NCOQ) พร้อมสิ่งอำนวยความสะดวก ของ สอ.รฝ. จำนวน 2 หลัง
A4: สถานที่ | B4: =+'แบบ ปร.6'!B3 -> จ.ชลบุรี | C4: หน่วยงานเจ้าของโครงการ
A6: ลำดับที่ | B6: รายการ | C6: จำนวน | D6: หน่วย | E6: ค่าวัสดุ (บาท ) | G6: ค่าแรงงาน (บาท ) | I6: รวม (บาท ) | J6: หมายเหตุ
E7: ราคาหน่วยละ | F7: จำนวนเงิน | G7: ราคาหน่วยละ | H7: จำนวนเงิน | I7: วัสดุและแรงงาน | K7: =+I86+I99+I117+I142 -> 22660
B8: งานระบบไฟฟ้าภายใน
B9: - ACRYLIC DIFFUSER LUMINAIRE (RECESS TYPE)
B10: 2x~16-18W. LED TUBE LAMP ( 0.30X1.20 m.) | C10: 14 | D10: ชุด | E10: 1990 | F10: =SUM(C10*E10) -> 27860 | G10: 150 | H10: =SUM(C10*G10) -> 2100 | I10: =SUM(F10+H10) -> 29960
B11: - U-SHAPE ACRYLIC DIFFUSER LUMINAIRE 1x~8-10W.
B12: LED TUBE LAMP | C12: 2 | D12: ชุด | E12: 980 | F12: =SUM(C12*E12) -> 1960 | G12: 135 | H12: =SUM(C12*G12) -> 270 | I12: =SUM(F12+H12) -> 2230
B13: - LED CELING MOUNTED LUMINAIRE (SURFACE TYPE) Dia
B14: ~ 220 mm.,~20W.LED CHIP (~1,400 lm.)6,500k | C14: 44 | D14: ชุด | E14: 690 | F14: =SUM(C14*E14) -> 30360 | G14: 165 | H14: =SUM(C14*G14) -> 7260 | I14: =SUM(F14+H14) -> 37620
B15: - LED CELING MOUNTED LUMINAIRE (SURFACE TYPE) Dia
B16: ~ 180 mm.,1x~6W.LED CHIP 4,000k | C16: 22 | D16: ชุด | E16: 490 | F16: =SUM(C16*E16) -> 10780 | G16: 115 | H16: =SUM(C16*G16) -> 2530 | I16: =SUM(F16+H16) -> 13310
B17: - DOWNLIGHT LUMINAIR (ERECESS TYPE)1x ~12 W. LED
B18: BULB LAMP (1,080 lm.) | C18: 52 | D18: ชุด | E18: 500 | F18: =SUM(C18*E18) -> 26000 | G18: 115 | H18: =SUM(C18*G18) -> 5980 | I18: =SUM(F18+H18) -> 31980
B19: - WALL MOUNT LUMINAIRE (SURFACE TYPE)1x~8W. LED BULB LAMP | C19: 2 | D19: ชุด | E19: 3000 | F19: =C19*E19 -> 6000 | G19: 165 | H19: =SUM(C19*G19) -> 330 | I19: =SUM(F19+H19) -> 6330
B20: - 9W. LED DOWNLIGHT EMERGENCY LIGHT /w. 2 Hrs. BATTERY BACKUP | C20: 12 | D20: ชุด | E20: 1150 | F20: =SUM(C20*E20) -> 13800 | G20: 115 | H20: =SUM(C20*G20) -> 1380 | I20: =SUM(F20+H20) -> 15180
B21: - 1 SIDE GO STRAIGHT EXIT SIGN, 6W. LED /w. 2 Hrs. BATTERY BACKUP | C21: 3 | D21: ชุด | E21: 1500 | F21: =C21*E21 -> 4500 | G21: 200 | H21: =SUM(G21*C21) -> 600 | I21: =SUM(H21+F21) -> 5100
B22: - 2 TURN LEFT EXIT SIGN, 6W. LED /w. 2 Hrs. BATTERY BACKUP | C22: 1 | D22: ชุด | E22: 2600 | F22: =C22*E22 -> 2600 | G22: 200 | H22: =SUM(G22*C22) -> 200 | I22: =SUM(H22+F22) -> 2800
B23: - 16A. 250 V.AC. ONE WAY SWITCH NUMBER "X" /w. BOX | C23: 102 | D23: ชุด | E23: 60 | F23: =C23*E23 -> 6120 | G23: 80 | H23: =SUM(G23*C23) -> 8160 | I23: =SUM(H23+F23) -> 14280
B24: - 16A. 250 V.AC. THREE WAY SWITCH NUMBER "X" /w. BOX | C24: 2 | D24: ชุด | E24: 96 | F24: =SUM(C24*E24) -> 192 | G24: 85 | H24: =SUM(C24*G24) -> 170 | I24: =SUM(F24+H24) -> 362
B26: รวม | F26: =SUM(F10:F25) -> 130172 | H26: =SUM(H10:H25) -> 28980 | K26: =+H26+F26 -> 159152
B27: รวมเงินหน้านี้ | I27: =SUM(I10:I25) -> 159152
B28: งานระบบไฟฟ้าภายใน
B29: - 16A. 250V.AC. DUPLEX RECEPTACLE (2P+G) UNIVERSAL TYPE | C29: 111 | D29: ชุด | E29: 200 | F29: =SUM(C29*E29) -> 22200 | G29: 90 | H29: =SUM(G29*C29) -> 9990 | I29: =SUM(H29+F29) -> 32190
B30: - 16A. 250V.AC. DUPLEX RECEPTACLE (2P+G) UNIVERSAL TYPE Wp. | C30: 22 | D30: ชุด | E30: 450 | F30: =SUM(C30*E30) -> 9900 | G30: 115 | H30: =SUM(G30*C30) -> 2530 | I30: =SUM(H30+F30) -> 12430
B31: - 10A. 250V.AC. SINGLE RECEPTACLE (2P+G)
B32: UNIVERSAL TYPE CEILING MTD. | C32: 4 | D32: ชุด | E32: 110 | F32: =C32*E32 -> 440 | G32: 90 | H32: =SUM(G32*C32) -> 360 | I32: =SUM(H32+F32) -> 800
B33: - 16" CEILING FAN | C33: 22 | D33: ชุด | E33: 1920 | F33: =SUM(C33*E33) -> 42240 | G33: 400 | H33: =SUM(G33*C33) -> 8800 | I33: =SUM(H33+F33) -> 51040
B34: ตู้ MDB.
B35: - ตู้ MAIN DISTRIBUTION BOARD 3Ph - 4W. FN/HG. | C35: 1 | D35: ชุด | E35: 40000 | F35: =C35*E35 -> 40000 | G35: 8000 | H35: =SUM(C35*G35) -> 8000 | I35: =SUM(F35+H35) -> 48000
B36: - 250AT. 3P. MCCB. 25kA.IC. | C36: 1 | D36: ชุด | E36: 8071 | F36: =C36*E36 -> 8071 | G36: - | H36: - | I36: =SUM(F36) -> 8071
B37: - PILOT LAMP | C37: 3 | D37: ชุด | E37: 280 | F37: =C37*E37 -> 840 | G37: - | H37: - | I37: =SUM(F37) -> 840
B38: - 3x6A. FUSES | C38: 1 | D38: ชุด | E38: 500 | F38: =C38*E38 -> 500 | G38: - | H38: - | I38: =SUM(F38) -> 500
B39: - 60A. HRC FUSES | C39: 3 | D39: ชุด | E39: 350 | F39: =C39*E39 -> 1050 | G39: - | H39: - | I39: =SUM(F39) -> 1050
B40: - 250/5A. CURRENT TRANSFORMER | C40: 3 | D40: ชุด | E40: 950 | F40: =C40*E40 -> 2850 | G40: - | H40: - | I40: =SUM(F40) -> 2850
B41: - 3PHASE DIGITAL ENERGY METER /w CT. | C41: 1 | D41: ชุด | E41: 15600 | F41: =SUM(C41*E41) -> 15600 | G41: - | H41: - | I41: =SUM(F41) -> 15600
B42: - 40A. 1PHASE DIGITAL ENERGY METER | C42: 22 | D42: ชุด | E42: 3480 | F42: =SUM(C42*E42) -> 76560 | G42: - | H42: - | I42: =SUM(F42) -> 76560
B43: - 40kA.3Ø-4W. SURGE PROTECTION | C43: 1 | D43: ชุด | E43: 40000 | F43: =C43*E43 -> 40000 | G43: - | H43: - | I43: =SUM(F43) -> 40000 | L43: ราคาตู้รวม | M43: =SUM(F35:F43) -> 185471
B44: - GROUNDING SYSTEM | C44: 1 | D44: ชุด | E44: 2200 | F44: =SUM(C44*E44) -> 2200 | G44: 300 | H44: =SUM(C44*G44) -> 300 | I44: =SUM(F44+H44) -> 2500
B46: รวม | F46: =SUM(F29:F44) -> 262451 | H46: =SUM(H29:H44) -> 29980 | K46: =+H46+F46 -> 292431
B47: รวมเงินหน้านี้ | I47: =SUM(I29:I45) -> 292431
B48: ตู้ LC
B49: - ตู้ LOAD CENTER ชนิดมี 42 ช่อง พร้อม MAIN LUG | C49: 1 | D49: ชุด | E49: 8680 | F49: =C49*E49 -> 8680 | G49: 2000 | H49: =SUM(C49*G49) -> 2000 | I49: =SUM(F49+H49) -> 10680
B50: - BRANCH BREAKER 16AT. 1P. 6kA. | C50: 8 | D50: ชุด | E50: 158 | F50: =C50*E50 -> 1264 | G50: - | H50: - | I50: =SUM(F50) -> 1264
B51: - BRANCH BREAKER 32AT. 1P. 10kA. | C51: 22 | D51: ชุด | E51: 158 | F51: =C51*E51 -> 3476 | G51: - | H51: - | I51: =SUM(F51) -> 3476
B52: ตู้ CU.01- CU.22
B53: - ตู้ CONSUMER UNIT ชนิด 4 ช่อง พร้อม MAIN CIRCUIT BREAKER
B54: 32AT. 2P. MCB. 10kA.IC. | C54: 22 | D54: ตู้ | E54: 2478 | F54: =C54*E54 -> 54516 | G54: 800 | H54: =SUM(C54*G54) -> 17600 | I54: =SUM(F54+H54) -> 72116 | K54: 1x22 ห้อง
B55: - BRANCH BREAKER 10AT. 1P. 6 kA. | C55: 22 | D55: ชุด | E55: 158 | F55: =C55*E55 -> 3476 | G55: - | H55: - | I55: =SUM(F55) -> 3476 | K55: 1x22
B56: - BRANCH BREAKER 16AT. 1P. 6 kA. | C56: 22 | D56: ชุด | E56: 158 | F56: =C56*E56 -> 3476 | G56: - | H56: - | I56: =SUM(F56) -> 3476 | K56: 1x22
B57: - BRANCH BREAKER 20AT. 1P. 6kA. RCBO | C57: 22 | D57: ชุด | E57: 1533 | F57: =C57*E57 -> 33726 | G57: - | H57: - | I57: =SUM(F57) -> 33726 | K57: 1x22
B58: - 30A.600V.AC.3P HEAVY DUTY INDOOR TYTPE SAFETY SWITCH/w | C58: 1 | D58: ชุด | E58: 9064 | F58: =C58*E58 -> 9064 | G58: 500 | H58: =SUM(C58*G58) -> 500 | I58: =SUM(F58+H58) -> 9564
B59: FUSIBLE
B60: สายไฟฟ้าและท่อร้อยสายไฟฟ้า
B61: - 1.5 Sq.mm. IEC-01 | C61: 3111 | D61: เมตร | E61: 6 | F61: =C61*E61 -> 18666 | G61: 5 | H61: =SUM(C61*G61) -> 15555 | I61: =SUM(F61+H61) -> 34221
B62: - 2.5 Sq.mm. IEC-01 | C62: 3149 | D62: เมตร | E62: 8 | F62: =C62*E62 -> 25192 | G62: 7 | H62: =SUM(C62*G62) -> 22043 | I62: =SUM(F62+H62) -> 47235
B63: - 4 Sq.mm. IEC-01 | C63: 1134 | D63: เมตร | E63: 12 | F63: =C63*E63 -> 13608 | G63: 10 | H63: =SUM(C63*G63) -> 11340 | I63: =SUM(F63+H63) -> 24948
B64: - 10 Sq.mm. IEC-01 | C64: 2391 | D64: เมตร | E64: 35 | F64: =C64*E64 -> 83685 | G64: 16 | H64: =SUM(C64*G64) -> 38256 | I64: =SUM(F64+H64) -> 121941
B65: - ท่อ ø 15 mm. EMT. | C65: 740 | D65: ท่อน | E65: 76 | F65: =C65*E65 -> 56240 | G65: 66 | H65: =SUM(C65*G65) -> 48840 | I65: =SUM(F65+H65) -> 105080
B67: รวม | F67: =SUM(F48:F66) -> 315069 | H67: =SUM(H48:H66) -> 156134 | K67: =+H67+F67 -> 471203
B68: รวมเงินหน้านี้ | I68: =SUM(I48:I67) -> 471203 | L68: รวมเงิน | M68: =SUM(K26+K46+K67) -> 922786
B69: สายไฟฟ้าและท่อร้อยสายไฟฟ้า(ต่อ)
B70: - ท่อ ø 20 mm. IMC. | C70: 248 | D70: ท่อน | E70: 216 | F70: =C70*E70 -> 53568 | G70: 84 | H70: =SUM(C70*G70) -> 20832 | I70: =SUM(F70+H70) -> 74400
B71: - ท่อ ø 25 mm. IMC. | C71: 8 | D71: ท่อน | E71: 291 | F71: =C71*E71 -> 2328 | G71: 96 | H71: =SUM(C71*G71) -> 768 | I71: =SUM(F71+H71) -> 3096
B72: - WIRE WAY 100 x 100 x 1.2 มม. | C72: 10 | D72: เมตร | E72: 580 | F72: =SUM(C72*E72) -> 5800 | G72: 45 | H72: =SUM(C72*G72) -> 450 | I72: =SUM(F72+H72) -> 6250
B73: - อุปกรณ์ประกอบและอื่น ๆ | C73: 1 | D73: งาน | E73: 80000 | F73: =SUM(C73*E73) -> 80000 | G73: - | H73: - | I73: =SUM(F73) -> 80000 | L73: 763,474x12%
B75: ระบบโทรศัพท์
B76: - 10 Pairs TELEPHONE DISCONNECTION BOX | C76: 1 | D76: ตู้ | E76: 3000 | F76: =SUM(C76*E76) -> 3000 | G76: 500 | H76: =SUM(C76*G76) -> 500 | I76: =SUM(F76+H76) -> 3500
B77: - BACK MOUNT FRAME 3 POS. | C77: 1 | D77: ชุด | E77: 75 | F77: =SUM(C77*E77) -> 75 | G77: - | H77: - | I77: =SUM(F77) -> 75
B78: - CONNECTION TERMINAL/w SURGE ARRESTOR | C78: 1 | D78: ชุด | E78: 370 | F78: =SUM(C78*E78) -> 370 | G78: - | H78: - | I78: =SUM(F78) -> 370
B79: - CONNECTION TERMINAL | C79: 2 | D79: ชุด | E79: 550 | F79: =SUM(C79*E79) -> 1100 | G79: - | H79: - | I79: =SUM(F79) -> 1100
B80: - TELEPHONE OUTLET (MODULAR JACK TYPE) 6P4C | C80: 2 | D80: ชุด | E80: 180 | F80: =SUM(C80*E80) -> 360 | G80: 90 | H80: =SUM(C80*G80) -> 180 | I80: =SUM(F80+H80) -> 540
B81: - สายโทรศัพท์ 6C - 0.65 mm. TIEV. | C81: 30 | D81: เมตร | E81: 14 | F81: =SUM(C81*E81) -> 420 | G81: 7 | H81: =SUM(C81*G81) -> 210 | I81: =SUM(F81+H81) -> 630
B82: - ท่อ Ø 15 mm. EMT | C82: 10 | D82: ท่อน | E82: 76 | F82: =SUM(C82*E82) -> 760 | G82: 54 | H82: =SUM(C82*G82) -> 540 | I82: =SUM(F82+H82) -> 1300
B83: - อุปกรณ์ประกอบและอื่น ๆ | C83: 1 | D83: งาน | E83: 1000 | F83: =SUM(C83*E83) -> 1000 | G83: - | H83: - | I83: =SUM(F83) -> 1000 | K83: 0.15
B87: รวม | F87: =SUM(F69:F86) -> 148781 | H87: =SUM(H69:H86) -> 23480 | K87: =+H87+F87 -> 172261
B88: รวมเงินหน้านี้ | I88: =SUM(I69:I87) -> 172261 | L88: รวมเงิน | M88: =SUM(I88) -> 172261
B89: ระบบโทรทัศน์
B90: - 7 FEETS SATELLITE DISH | C90: 1 | D90: ชุด | E90: 7500 | F90: =SUM(C90*E90) -> 7500 | G90: วัสดุ + แรงงาน | I90: =SUM(F90+H90) -> 7500
B91: - 5 IN 12 OUT MULTI SWITCH | C91: 2 | D91: ชุด | E91: 2300 | F91: =SUM(C91*E91) -> 4600 | G91: 500 | H91: =SUM(C91*G91) -> 1000 | I91: =SUM(F91+H91) -> 5600
B92: - STEEL BOX MULTI SWITCH | C92: 2 | D92: ชุด | E92: 1500 | F92: =SUM(C92*E92) -> 3000 | G92: 300 | H92: =SUM(C92*G92) -> 600 | I92: =SUM(F92+H92) -> 3600
B93: - DIGITAL RECEIVER | C93: 22 | D93: ชุด | E93: 1000 | F93: =SUM(C93*E93) -> 22000 | G93: วัสดุ + แรงงาน | I93: =SUM(F93+H93) -> 22000
B94: - TELEVISION OUTLET | C94: 22 | D94: ชุด | E94: 200 | F94: =SUM(C94*E94) -> 4400 | G94: 90 | H94: =SUM(C94*G94) -> 1980 | I94: =SUM(F94+H94) -> 6380
B95: - RG-6 | C95: 587 | D95: เมตร | E95: 13 | F95: =SUM(C95*E95) -> 7631 | G95: 7 | H95: =SUM(C95*G95) -> 4109 | I95: =SUM(F95+H95) -> 11740
B96: - RG-11 | C96: 50 | D96: เมตร | E96: 34 | F96: =SUM(C96*E96) -> 1700 | G96: 10 | H96: =SUM(C96*G96) -> 500 | I96: =SUM(F96+H96) -> 2200
B97: - ท่อ ø 15 mm. EMT. | C97: 196 | D97: ท่อน | E97: 76 | F97: =SUM(C97*E97) -> 14896 | G97: 66 | H97: =SUM(C97*G97) -> 12936 | I97: =SUM(F97+H97) -> 27832
B98: - WIRE WAY 100 x 100 x 1.2 มม. (ใช้ร่วมกับระบบโทรศัพท์) | C98: 10 | D98: เมตร | E98: 580 | F98: =SUM(C98*E98) -> 5800 | G98: 45 | H98: =SUM(C98*G98) -> 450 | I98: =SUM(F98+H98) -> 6250
B99: - อุปกรณ์ประกอบและอื่น ๆ | C99: 1 | D99: งาน | E99: 10000 | F99: =SUM(C99*E99) -> 10000 | G99: - | H99: - | I99: =SUM(F99) -> 10000 | K99: 0.12
B107: รวม | F107: =SUM(F90:F105) -> 81527 | H107: =SUM(H90:H105) -> 21575 | K107: =+H107+F107 -> 103102
B108: รวมเงินหน้านี้ | I108: =SUM(I90:I106) -> 103102 | L108: รวมเงิน | M108: =SUM(I108) -> 103102
B109: ระบบสัญญาณเตือนอัคคีภัย
B110: - 5 ZONES FIRE ALARM CONTROL PANEL | C110: 1 | D110: ตู้ | E110: 24500 | F110: =SUM(C110*E110) -> 24500 | G110: 7000 | H110: =SUM(C110*G110) -> 7000 | I110: =SUM(F110+H110) -> 31500
B111: - 5 ZONE GRAPHIC ANNUNCIATOR | C111: 1 | D111: ชุด | E111: 16900 | F111: =C111*E111 -> 16900 | G111: 2000 | H111: =SUM(C111*G111) -> 2000 | I111: =SUM(F111+H111) -> 18900
B112: - MANUAL STATION | C112: 5 | D112: ชุด | E112: 1495 | F112: =SUM(C112*E112) -> 7475 | G112: 200 | H112: =SUM(C112*G112) -> 1000 | I112: =SUM(F112+H112) -> 8475 | K112: M
B113: - ALARM BELL | C113: 4 | D113: ชุด | E113: 767 | F113: =SUM(C113*E113) -> 3068 | G113: 150 | H113: =SUM(C113*G113) -> 600 | I113: =SUM(F113+H113) -> 3668 | K113: B
B114: - PHOTO ELECTRIC SMOKE DETECTOR | C114: 24 | D114: ชุด | E114: 1300 | F114: =SUM(C114*E114) -> 31200 | G114: 150 | H114: =SUM(C114*G114) -> 3600 | I114: =SUM(F114+H114) -> 34800
B115: - RATE OF RISE HEAT DETECTOR | C115: 2 | D115: ชุด | E115: 485 | F115: =SUM(C115*E115) -> 970 | G115: 150 | H115: =SUM(C115*G115) -> 300 | I115: =SUM(F115+H115) -> 1270
...

Sheet ประปาใน
A1: แบบแสดงรายการปริมาณงานและราคา
A2: กลุ่มงาน | B2: ='ใบสรุปแบบ ปร.5 (ก) '!B2 -> งานอาคาร | C2: แบบเลขที่ | D2: =+'แบบ ปร.6'!B4 -> 62-2-101,63-5-006,62-4-030
A3: ชื่อโครงการ | B3: =+'แบบ ปร.6'!B2 -> งานจ้างก่อสร้างอาคารพักนายทหารประทวนโสด (NCOQ) พร้อมสิ่งอำนวยความสะดวก ของ สอ.รฝ. จำนวน 2 หลัง
A4: สถานที่ | B4: =+'แบบ ปร.6'!B3 -> จ.ชลบุรี | C4: หน่วยงานเจ้าของโครงการ
A6: ลำดับที่ | B6: รายการ | C6: จำนวน | D6: หน่วย | E6: ค่าวัสดุ (บาท ) | G6: ค่าแรงงาน (บาท ) | I6: รวม (บาท ) | J6: หมายเหตุ
E7: ราคาหน่วยละ | F7: จำนวนเงิน | G7: ราคาหน่วยละ | H7: จำนวนเงิน | I7: วัสดุและแรงงาน
B8: งานระบบประปาภายใน
B9: PVC 13.5
B10: - Ø 1/2" | C10: 385 | D10: เมตร | E10: 13 | F10: =SUM(E10*C10) -> 5005 | G10: 30 | H10: =SUM(G10*C10) -> 11550 | I10: =SUM(H10+F10) -> 16555
B11: - Ø 3/4" | C11: 281 | D11: เมตร | E11: 16 | F11: =SUM(E11*C11) -> 4496 | G11: 30 | H11: =SUM(G11*C11) -> 8430 | I11: =SUM(H11+F11) -> 12926
B12: อุปกรณ์ข้อต่อ PVC ( หนา )
B13: - ข้อต่องอ 90 º Ø 1/2" | C13: 184 | D13: อัน | E13: 4 | F13: =SUM(C13*E13) -> 736 | G13: - | H13: - | I13: =SUM(F13) -> 736
B14: - ข้อต่องอ 90 º Ø 3/4" | C14: 139 | D14: อัน | E14: 5 | F14: =SUM(C14*E14) -> 695 | G14: - | H14: - | I14: =SUM(F14) -> 695
B15: - ข้อต่องอ 90° ลด Ø 3/4" x 1/2" | C15: 23 | D15: อัน | E15: 5 | F15: =SUM(C15*E15) -> 115 | G15: - | H15: - | I15: =SUM(F15) -> 115
B16: - ข้อต่อ 3 ทาง T Ø 1/2 " | C16: 138 | D16: อัน | E16: 5 | F16: =SUM(C16*E16) -> 690 | G16: - | H16: - | I16: =SUM(F16) -> 690
B17: - ข้อต่อ 3 ทาง T Ø 3/4 " | C17: 23 | D17: อัน | E17: 7 | F17: =SUM(C17*E17) -> 161 | G17: - | H17: - | I17: =SUM(F17) -> 161
B18: - ข้อต่อ 3 ทาง T ลด Ø 3/4" x 1/2" | C18: 46 | D18: อัน | E18: 7 | F18: =SUM(C18*E18) -> 322 | G18: - | H18: - | I18: =SUM(F18) -> 322
B19: - ข้อต่อตรง Ø 3/4" | C19: 23 | D19: อัน | E19: 4 | F19: =SUM(C19*E19) -> 92 | G19: - | H19: - | I19: =SUM(F19) -> 92
B20: - ข้อต่อตรงลด Ø 3/4" x 1/2" | C20: 23 | D20: อัน | E20: 4 | F20: =SUM(C20*E20) -> 92 | G20: - | H20: - | I20: =SUM(F20) -> 92
B21: - ข้อต่อยูเนี่ยน Ø 3/4" | C21: 96 | D21: อัน | E21: 59 | F21: =SUM(C21*E21) -> 5664 | G21: - | H21: - | I21: =SUM(F21) -> 5664
B22: - ฝาครอบปิดปลายท่อ Ø 1/2" | C22: 115 | D22: อัน | E22: 3 | F22: =SUM(C22*E22) -> 345 | G22: - | H22: - | I22: =SUM(F22) -> 345
B23: - STOP VALVE Ø 1/2" | C23: 46 | D23: อัน | E23: 250 | F23: =SUM(C23*E23) -> 11500 | G23: 50 | H23: =SUM(G23*C23) -> 2300 | I23: =SUM(H23+F23) -> 13800
B25: รวม | F25: =SUM(F9:F23) -> 29913 | H25: =SUM(H9:H23) -> 22280 | K25: =+H25+F25 -> 52193
B26: รวมเงินหน้านี้ | I26: =SUM(I9:I23) -> 52193
B27: งานระบบประปาภายใน
B28: อุปกรณ์ประกอบ PVC
B29: HOSEE BIBB
B30: - Ø 1/2" | C30: 23 | D30: อัน | E30: 240 | F30: =SUM(E30*C30) -> 5520 | G30: 50 | H30: =SUM(G30*C30) -> 1150 | I30: =SUM(H30+F30) -> 6670
B31: มาตรวัดน้ำประปาประจำห้อง
B32: - WATER METER Ø 3/4" | C32: 23 | D32: ชุด | E32: 1150 | F32: =SUM(E32*C32) -> 26450 | G32: 150 | H32: =SUM(G32*C32) -> 3450 | I32: =SUM(H32+F32) -> 29900
B33: - GATE VALVE Ø 3/4" | C33: 46 | D33: ชุด | E33: 510 | F33: =SUM(E33*C33) -> 23460 | G33: 150 | H33: =SUM(G33*C33) -> 6900 | I33: =SUM(H33+F33) -> 30360
B34: - UNION Ø 3/4" | C34: 46 | D34: อัน | E34: 59 | F34: =SUM(E34*C34) -> 2714 | G34: - | H34: - | I34: =SUM(F34) -> 2714
B35: PE_LSP CLASS M
B36: - Ø 1" | C36: 10 | D36: เมตร | E36: 240 | F36: =SUM(E36*C36) -> 2400 | G36: - | H36: - | I36: =SUM(F36) -> 2400
B37: - Ø 1 1/2" | C37: 63 | D37: เมตร | E37: 381 | F37: =SUM(E37*C37) -> 24003 | G37: - | H37: - | I37: =SUM(F37) -> 24003
B38: - Ø 2" | C38: 20 | D38: เมตร | E38: 485 | F38: =SUM(E38*C38) -> 9700 | G38: - | H38: - | I38: =SUM(F38) -> 9700
B39: - Ø 2 1/2" | C39: 33 | D39: เมตร | E39: 658 | F39: =SUM(E39*C39) -> 21714 | G39: - | H39: - | I39: =SUM(F39) -> 21714
B40: - Ø 3" | C40: 3 | D40: เมตร | E40: 836 | F40: =SUM(E40*C40) -> 2508 | G40: - | H40: - | I40: =SUM(F40) -> 2508 | K40: =SUM(I36:I40) -> 60325
B44: รวม | F44: =SUM(F28:F43) -> 118469 | H44: =SUM(H28:H43) -> 11500 | K44: =+H44+F44 -> 129969
B45: รวมเงินหน้านี้ | I45: =SUM(I28:I43) -> 129969
B46: งานระบบประปาภายใน
B47: อุปกรณ์ข้อต่อ PE
B48: - ข้อต่องอ 90 º Ø 1 1/2" | C48: 2 | D48: อัน | E48: 135 | F48: =SUM(C48*E48) -> 270 | G48: - | H48: - | I48: =SUM(F48) -> 270
B49: - ข้อต่องอ 90 º Ø 2 1/2" | C49: 3 | D49: อัน | E49: 330 | F49: =SUM(C49*E49) -> 990 | G49: - | H49: - | I49: =SUM(F49) -> 990
B50: - ข้อต่องอ 90° ลด Ø 1" x 3/4" | C50: 6 | D50: อัน | E50: 75 | F50: =SUM(C50*E50) -> 450 | G50: - | H50: - | I50: =SUM(F50) -> 450
B51: - ข้อต่องอ 90° ลด Ø 1 1/2" x 3/4" | C51: 6 | D51: อัน | E51: 135 | F51: =SUM(C51*E51) -> 810 | G51: - | H51: - | I51: =SUM(F51) -> 810
B52: - ข้อต่อ 3 ทาง T Ø 1 1/2 " | C52: 4 | D52: อัน | E52: 179 | F52: =SUM(C52*E52) -> 716 | G52: - | H52: - | I52: =SUM(F52) -> 716
B53: - ข้อต่อ 3 ทาง T ลด Ø 1" x 3/4" | C53: 6 | D53: อัน | E53: 96 | F53: =SUM(C53*E53) -> 576 | G53: - | H53: - | I53: =SUM(F53) -> 576
B54: - ข้อต่อ 3 ทาง T ลด Ø 1 1/2" x 3/4" | C54: 6 | D54: อัน | E54: 177 | F54: =SUM(C54*E54) -> 1062 | G54: - | H54: - | I54: =SUM(F54) -> 1062
B55: - ข้อต่อ 3 ทาง T ลด Ø 3" x 2 1/2" | C55: 1 | D55: อัน | E55: 772 | F55: =SUM(C55*E55) -> 772 | G55: - | H55: - | I55: =SUM(F55) -> 772
B56: - ข้อต่อตรงลด Ø 1 1/2" x 1" | C56: 6 | D56: อัน | E56: 107 | F56: =SUM(C56*E56) -> 642 | G56: - | H56: - | I56: =SUM(F56) -> 642
B57: - ข้อต่อตรงลด Ø 2" x 1 1/2" | C57: 4 | D57: อัน | E57: 163 | F57: =SUM(C57*E57) -> 652 | G57: - | H57: - | I57: =SUM(F57) -> 652
B58: - ข้อต่อตรงลด Ø 2 1/2" x 2" | C58: 2 | D58: อัน | E58: 257 | F58: =SUM(C58*E58) -> 514 | G58: - | H58: - | I58: =SUM(F58) -> 514
B59: - ข้อต่อตรงลด Ø 3" x 2 1/2" | C59: 1 | D59: อัน | E59: 372 | F59: =SUM(C59*E59) -> 372 | G59: - | H59: - | I59: =SUM(F59) -> 372
B63: รวม | F63: =SUM(F47:F62) -> 7826 | H63: =SUM(H47:H62) -> 0 | K63: =+H63+F63 -> 7826
B64: รวมเงินหน้านี้ | I64: =SUM(I47:I62) -> 7826
B65: งานระบบประปาภายใน
B66: HDPE PE100,PN10
B67: - Ø 63 mm. | C67: 52 | D67: เมตร | E67: 86 | F67: =SUM(E67*C67) -> 4472 | G67: 75 | H67: =SUM(G67*C67) -> 3900 | I67: =SUM(H67+F67) -> 8372
B68: - Ø 90 mm. | C68: 22 | D68: เมตร | E68: 166 | F68: =SUM(E68*C68) -> 3652 | G68: 150 | H68: =SUM(G68*C68) -> 3300 | I68: =SUM(H68+F68) -> 6952
B69: อุปกรณ์ข้อต่อ HDPE (สวมอัด)
B70: - ข้อต่อตรง Ø 63 x 63 mm. | C70: 6 | D70: อัน | E70: 320 | F70: =SUM(C70*E70) -> 1920 | G70: - | H70: - | I70: =SUM(F70) -> 1920
B71: - ข้อต่องตรงลด Ø 90 x 63 mm. | C71: 2 | D71: อัน | E71: 550 | F71: =SUM(C71*E71) -> 1100 | G71: - | H71: - | I71: =SUM(F71) -> 1100
B72: - ข้อต่องอ 90° Ø 63 x 63 mm. | C72: 3 | D72: อัน | E72: 340 | F72: =SUM(C72*E72) -> 1020 | G72: - | H72: - | I72: =SUM(F72) -> 1020
B73: - ข้อต่องอ 90° Ø 90 x 90 mm. | C73: 2 | D73: อัน | E73: 600 | F73: =SUM(C73*E73) -> 1200 | G73: - | H73: - | I73: =SUM(F73) -> 1200
B74: - ข้อต่อ 3 ทาง T Ø 63 x 63 x 63 mm. | C74: 1 | D74: อัน | E74: 480 | F74: =SUM(C74*E74) -> 480 | G74: - | H74: - | I74: =SUM(F74) -> 480
B75: - ข้อต่อ 3 ทาง T Ø 90 x 90 x 90 mm. | C75: 3 | D75: อัน | E75: 1000 | F75: =SUM(C75*E75) -> 3000 | G75: - | H75: - | I75: =SUM(F75) -> 3000
B76: - แคล้มรัดท่อแยกเกลียวใน Ø 90 x 2" | C76: 1 | D76: อัน | E76: 130 | F76: =SUM(C76*E76) -> 130 | G76: - | H76: - | I76: =SUM(F76) -> 130
B77: - STUBEND Ø 63 x 63 mm. | C77: 7 | D77: ชุด | E77: 689 | F77: =SUM(C77*E77) -> 4823 | G77: - | H77: - | I77: =SUM(F77) -> 4823
B78: - STUBEND Ø 90 x 90 mm. | C78: 5 | D78: ชุด | E78: 1114 | F78: =SUM(C78*E78) -> 5570 | G78: - | H78: - | I78: =SUM(F78) -> 5570
B82: รวม | F82: =SUM(F66:F81) -> 27367 | H82: =SUM(H66:H81) -> 7200 | K82: =+H82+F82 -> 34567
B83: รวมเงินหน้านี้ | I83: =SUM(I66:I81) -> 34567
B84: งานระบบประปาภายใน
B85: อุปกรณ์ประกอบ HDPE
B86: GATE VALVE
B87: - Ø 2" w/ หีบกุญแจสำเร็จรูป | C87: 1 | D87: ชุด | E87: 3415 | F87: =SUM(E87*C87) -> 3415 | G87: - | H87: - | I87: =SUM(F87) -> 3415 | K87: 1915
B88: MODULATING FLOAT VALVE
B89: - Ø 2" | C89: 1 | D89: ชุด | E89: 22000 | F89: =SUM(E89*C89) -> 22000 | G89: - | H89: - | I89: =SUM(F89) -> 22000
B90: FOOT VALVE
B91: - Ø 3" | C91: 2 | D91: ชุด | E91: 4600 | F91: =SUM(E91*C91) -> 9200 | G91: - | H91: - | I91: =SUM(F91) -> 9200
B92: มาตรวัดน้ำประปา
B93: - WATER METER Ø 2" | C93: 1 | D93: ชุด | E93: 7800 | F93: =SUM(E93*C93) -> 7800 | G93: 400 | H93: =SUM(G93*C93) -> 400 | I93: =SUM(H93+F93) -> 8200
B94: - GATE VALVE Ø 2" | C94: 2 | D94: ชุด | E94: 1915 | F94: =SUM(E94*C94) -> 3830 | G94: 400 | H94: =SUM(G94*C94) -> 800 | I94: =SUM(H94+F94) -> 4630
B95: - CHECK VALVE Ø 2" | C95: 1 | D95: ชุด | E95: 2275 | F95: =SUM(E95*C95) -> 2275 | G95: 400 | H95: =SUM(G95*C95) -> 400 | I95: =SUM(H95+F95) -> 2675
B96: - STRAINER Ø 2" | C96: 1 | D96: ชุด | E96: 3035 | F96: =SUM(E96*C96) -> 3035 | G96: 400 | H96: =SUM(G96*C96) -> 400 | I96: =SUM(H96+F96) -> 3435
B97: - UNION Ø 2" | C97: 2 | D97: อัน | E97: 107 | F97: =SUM(E97*C97) -> 214 | G97: - | H97: - | I97: =SUM(F97) -> 214
B98: - SUPPORT ค.ส.ล. | C98: 1 | D98: งาน | E98: 1500 | F98: =SUM(E98*C98) -> 1500 | G98: วัสดุ+แรงงาน | I98: =SUM(H98+F98) -> 1500
B101: รวม | F101: =SUM(F85:F100) -> 53269 | H101: =SUM(H85:H100) -> 2000 | K101: =+H101+F101 -> 55269
B102: รวมเงินหน้านี้ | I102: =SUM(I85:I100) -> 55269
B103: งานระบบประปาภายใน
B104: BY PASS | K104: 210000
B105: - Gate Valve Ø 2" | C105: 2 | D105: ชุด | E105: 1915 | F105: =SUM(E105*C105) -> 3830 | G105: 400 | H105: =SUM(G105*C105) -> 800 | I105: =SUM(H105+F105) -> 4630 | K105: =SUM(F108) -> 33000
B106: - Check Valve Ø 2" | C106: 1 | D106: ชุด | E106: 2275 | F106: =SUM(E106*C106) -> 2275 | G106: 400 | H106: =SUM(G106*C106) -> 400 | I106: =SUM(H106+F106) -> 2675 | K106: =SUM(F111) -> 45660
B107: อุปกรณ์ประกอบชุด PACKGED BOOSTER PUMP SET | K107: =SUM(F113:F115) -> 32528
B108: - ถังอัดแรงดันชนิดไดอะแฟรม ปริมาตรถังไม่น้อยกว่า 200 ลิตร/ถัง | C108: 2 | D108: ถัง | E108: 16500 | F108: =SUM(E108*C108) -> 33000 | G108: - | H108: - | I108: =SUM(F108) -> 33000 | K108: =SUM(K105:K107) -> 111188 | L108: 98812
B109: แรงดันใช้งานไม่น้อยกว่า 10 บาร์ (ตามรายการประกอบแบบ)
B110: - Gate Valve Ø 2" (ปกติปิด) | C110: 2 | D110: ชุด | E110: 1915 | F110: =SUM(E110*C110) -> 3830 | G110: 400 | H110: =SUM(G110*C110) -> 800 | I110: =SUM(H110+F110) -> 4630
B111: - Gate Valve Ø 3" | C111: 5 | D111: ชุด | E111: 9132 | F111: =SUM(E111*C111) -> 45660 | G111: - | H111: - | I111: =SUM(F111) -> 45660 | K111: 11415 | L111: 0.2 | M111: 2283
B112: - Check Valve Ø 2" | C112: 1 | D112: ชุด | E112: 2275 | F112: =SUM(E112*C112) -> 2275 | G112: 400 | H112: =SUM(G112*C112) -> 400 | I112: =SUM(H112+F112) -> 2675
B113: - Check Valve Ø 3" | C113: 3 | D113: ชุด | E113: 5200 | F113: =SUM(E113*C113) -> 15600 | G113: 600 | H113: =SUM(G113*C113) -> 1800 | I113: =SUM(H113+F113) -> 17400
...

Sheet งานภูมิทัศน์
A1: แบบแสดงรายการปริมาณงานและราคา
A2: กลุ่มงาน | B2: ='ใบสรุปแบบ ปร.5 (ก) '!B2 -> งานอาคาร | C2: แบบเลขที่ | D2: =+'แบบ ปร.6'!B4 -> 62-2-101,63-5-006,62-4-030
A3: ชื่อโครงการ | B3: =+'แบบ ปร.6'!B2 -> งานจ้างก่อสร้างอาคารพักนายทหารประทวนโสด (NCOQ) พร้อมสิ่งอำนวยความสะดวก ของ สอ.รฝ. จำนวน 2 หลัง
A4: สถานที่ | B4: =+'แบบ ปร.6'!B3 -> จ.ชลบุรี | C4: หน่วยงานเจ้าของโครงการ
A6: ลำดับที่ | B6: รายการ | C6: จำนวน | D6: หน่วย | E6: ค่าวัสดุ (บาท ) | G6: ค่าแรงงาน (บาท ) | I6: รวม (บาท ) | J6: หมายเหตุ
E7: ราคาหน่วยละ | F7: จำนวนเงิน | G7: ราคาหน่วยละ | H7: จำนวนเงิน | I7: วัสดุและแรงงาน
B8: งานปรับถมดิน ถนนลาดยาง
B9: - งานปรับสภาพพื้น | C9: 4600 | D9: ตร.ม. | E9: 0 | F9: =SUM(C9*E9) -> 0 | G9: 25 | H9: =SUM(C9*G9) -> 115000 | I9: =SUM(H9) -> 115000
B10: - งานถมดิน | C10: 2950 | D10: ลบ.ม. | E10: 200 | F10: =SUM(C10*E10) -> 590000 | G10: 0 | H10: =SUM(C10*G10) -> 0 | I10: =SUM(F10+H10) -> 590000
B11: - งานบดอัด | C11: 4600 | D11: ตร.ม. | E11: 0 | F11: =SUM(C11*E11) -> 0 | G11: 20 | H11: =SUM(C11*G11) -> 92000 | I11: =SUM(H11) -> 92000 | K11: =SUM(I9:I11) -> 797000
B12: - งานถนนหินคลุกราดน้ำยาง | C12: 1758 | D12: ตร.ม. | E12: 280 | F12: =SUM(C12*E12) -> 492240 | G12: วัสดุ + แรงงาน | I12: =SUM(F12+H12) -> 492240 | K12: =I12/C12 -> 280 | L12: =+K12-350+30 -> -40
B13: - งานปลูกหญ้านวลน้อย | C13: 300 | D13: ตร.ม. | E13: 60 | F13: =SUM(C13*E13) -> 18000 | G13: วัสดุ + แรงงาน | I13: =SUM(F13+H13) -> 18000
B14: - คันขอบ ค.ส.ล.สำเร็จรูป | C14: 275 | D14: ม. | E14: 180 | F14: =SUM(C14*E14) -> 49500 | G14: 70 | H14: =SUM(C14*G14) -> 19250 | I14: =SUM(F14+H14) -> 68750
B15: - งานทดสอบความหนาแน่นบดอัด ชั้นดินเดิมหรือดินถม,ชั้นดินลูกรัง และชั้นหินคลุก | C15: 1 | D15: งาน | E15: 12000 | F15: =SUM(C15*E15) -> 12000 | G15: วัสดุ + แรงงาน | I15: =SUM(F15) -> 12000
B16: - งานกำจัดปลวกโดยดำเนินการฉีดน้ำยากำจัดปลวกลงในดินใต้อาคาร ที่ก่อสร้างและโดยรอบอีก 3 เมตร | C16: 3000 | D16: ตร.ม. | E16: 55 | F16: =SUM(C16*E16) -> 165000 | G16: วัสดุ + แรงงาน | I16: =SUM(F16+H16) -> 165000 | K16: =SUM(I14:I16) -> 245750
B23: รวม | F23: =SUM(F8:F22) -> 1326740 | H23: =SUM(H8:H22) -> 226250 | K23: =+H23+F23 -> 1552990
B24: รวมเงินหน้านี้ | I24: =SUM(I8:I22) -> 1552990
A49: =+#REF!+#REF! -> #REF!
K52: =#REF!+#REF!+#REF!+#REF!+#REF! -> #REF! | L52: <----- รวมงาน SHEET นี้

Sheet ไฟฟ้านอก
A1: แบบแสดงรายการปริมาณงานและราคา
A2: กลุ่มงาน | B2: ='ใบสรุปแบบ ปร.5 (ก) '!B2 -> งานอาคาร | C2: แบบเลขที่ | D2: =+'แบบ ปร.6'!B4 -> 62-2-101,63-5-006,62-4-030
A3: ชื่อโครงการ | B3: =+'แบบ ปร.6'!B2 -> งานจ้างก่อสร้างอาคารพักนายทหารประทวนโสด (NCOQ) พร้อมสิ่งอำนวยความสะดวก ของ สอ.รฝ. จำนวน 2 หลัง
A4: สถานที่ | B4: =+'แบบ ปร.6'!B3 -> จ.ชลบุรี | C4: หน่วยงานเจ้าของโครงการ
A6: ลำดับที่ | B6: รายการ | C6: จำนวน | D6: หน่วย | E6: ค่าวัสดุ (บาท ) | G6: ค่าแรงงาน (บาท ) | I6: รวม (บาท ) | J6: หมายเหตุ
E7: ราคาหน่วยละ | F7: จำนวนเงิน | G7: ราคาหน่วยละ | H7: จำนวนเงิน | I7: วัสดุและแรงงาน
B8: ระบบไฟฟ้าภายนอกอาคาร
B9: - เสาไฟฟ้าแรงสูง คอร. ขนาด 12.00 ม. | C9: 9 | D9: ต้น | E9: 5800 | F9: =C9*E9 -> 52200 | G9: - | H9: - | I9: =SUM(F9) -> 52200 | K9: 25KV.
B10: - คอนนั่งร้านหม้อแปลงไฟฟ้า คอร. | C10: 2 | D10: ชุด | E10: 2200 | F10: =C10*E10 -> 4400 | G10: - | H10: - | I10: =SUM(F10) -> 4400
B11: - คอนรับสายลงหม้อแปลงไฟฟ้า คอร. | C11: 2 | D11: ชุด | E11: 715 | F11: =C11*E11 -> 1430 | G11: - | H11: - | I11: =SUM(F11) -> 1430
B12: - เหล็กหูช้างรับคานนั่งร้าน | C12: 4 | D12: ชุด | E12: 1340 | F12: =C12*E12 -> 5360 | G12: - | H12: - | I12: =SUM(F12) -> 5360
B13: - คอนสปั่นรับสายแรงสูง คอร | C13: 16 | D13: ชุด | E13: 410 | F13: =C13*E13 -> 6560 | G13: - | H13: - | I13: =SUM(F13) -> 6560
B14: - เหล็กประกับไม้คอน. ขนาด 1 1/4" x 1/4" x 36" | C14: 24 | D14: ชุด | E14: 100 | F14: =C14*E14 -> 2400 | G14: - | H14: - | I14: =SUM(F14) -> 2400
B15: - ฮอทไลท์แคล้มป์ | C15: 6 | D15: ชุด | E15: 255 | F15: =C15*E15 -> 1530 | G15: - | H15: - | I15: =SUM(F15) -> 1530
B16: - เบลแคล้มป์ | C16: 6 | D16: ชุด | E16: 320 | F16: =C16*E16 -> 1920 | G16: - | H16: - | I16: =SUM(F16) -> 1920
B17: - DROP FUSE | C17: 6 | D17: ชุด | E17: 5900 | F17: =C17*E17 -> 35400 | G17: - | H17: - | I17: =SUM(F17) -> 35400
B18: - FUSE LINK | C18: 6 | D18: ชุด | E18: 250 | F18: =C18*E18 -> 1500 | G18: - | H18: - | I18: =SUM(F18) -> 1500
B19: - LIGHTNING ARRESTER ( HV) | C19: 3 | D19: ชุด | E19: 4200 | F19: =C19*E19 -> 12600 | G19: - | H19: - | I19: =SUM(F19) -> 12600
B20: - PIN POST INSULATOR | C20: 30 | D20: ชุด | E20: 1280 | F20: =C20*E20 -> 38400 | G20: - | H20: - | I20: =SUM(F20) -> 38400
B21: - SUSPENSION INSULATOR | C21: 48 | D21: ชุด | E21: 480 | F21: =C21*E21 -> 23040 | G21: - | H21: - | I21: =SUM(F21) -> 23040
B22: - 250 KVA. 22KV.-230/400 V.AC .3Ph4W.50Hz OI-SC HERMETTICALLY
B23: SEALED TYPE NO SINGLE POLE TRANSFORMER | C23: 1 | D23: ชุด | E23: 272000 | F23: =SUM(C23*E23) -> 272000 | G23: - | H23: - | I23: =SUM(F23) -> 272000
B24: - GROUND ROD LOW HIGH VOLTAGE | C24: 1 | D24: ชุด | E24: 5600 | F24: =SUM(C24*E24) -> 5600 | G24: - | H24: - | I24: =SUM(F24) -> 5600
B25: - CABLE TRAY 300 mm. HDG. | C25: 5 | D25: เมตร | E25: 1900 | F25: =SUM(C25*E25) -> 9500 | G25: - | H25: - | I25: =SUM(F25) -> 9500
B27: รวม | F27: =SUM(F9:F26) -> 473840 | H27: =SUM(H9:H26) -> 0 | K27: =+H27+F27 -> 473840
B28: รวมเงินหน้านี้ | I28: =SUM(I9:I27) -> 473840
B29: ระบบไฟฟ้าภายนอกอาคาร
B30: - สายล่อฟ้า 25 Sq.mm. OHGW | C30: 317 | D30: เมตร | E30: 22 | F30: =C30*E30 -> 6974 | G30: - | H30: - | I30: =SUM(F30) -> 6974
B31: - OVER HEAD BAYONET 65X65X6X2250 mm. | C31: 8 | D31: ชุด | E31: 1000 | F31: =SUM(C31*E31) -> 8000 | G31: - | H31: - | I31: =SUM(F31) -> 8000 | L31: กลาง
B32: - CORNER BAYONET 65X65X6X2150 mm. | C32: 1 | D32: ชุด | E32: 1120 | F32: =SUM(C32*E32) -> 1120 | G32: - | H32: - | I32: =SUM(F32) -> 1120 | L32: มุม
B33: - DEAD END BAYONET 65X65X6X2250 mm. | C33: 1 | D33: ชุด | E33: 1344 | F33: =SUM(C33*E33) -> 1344 | G33: - | H33: - | I33: =SUM(F33) -> 1344 | L33: ปลาย
B34: - GROUND SYSTEM FROM OHGW | C34: 1 | D34: ชุด | E34: 1500 | F34: =SUM(C34*E34) -> 1500 | G34: - | H34: - | I34: =SUM(F34) -> 1500
B35: - สายยึดโยง (GUY WIRE) | C35: 3 | D35: ชุด | E35: 3500 | F35: =SUM(C35*E35) -> 10500 | G35: - | H35: - | I35: =SUM(F35) -> 10500
B36: - STREET LIGHTING CABINET (รายละเอียดตามแบบ) | C36: 1 | D36: ชุด | E36: 25000 | F36: =C36*E36 -> 25000 | G36: - | H36: - | I36: =SUM(F36) -> 25000
B37: - 5 mm. THICK HEAVY TYPE RACK 2 SPOOL | C37: 8 | D37: ชุด | E37: 180 | F37: =C37*E37 -> 1440 | G37: - | H37: - | I37: =SUM(F37) -> 1440
B38: - SPOOL INSULATOR (53-2) | C38: 8 | D38: ชุด | E38: 30 | F38: =C38*E38 -> 240 | G38: - | H38: - | I38: =SUM(F38) -> 240
B39: - โคมไฟถนนหลอด LED ขนาด 80 W | C39: 7 | D39: ชุด | E39: 10800 | F39: =C39*E39 -> 75600 | G39: - | H39: - | I39: =SUM(F39) -> 75600
B40: - กิ่งโคม Dia. 2" ยาว 3.00 เมตร | C40: 7 | D40: ชุด | E40: 1220 | F40: =C40*E40 -> 8540 | G40: - | H40: - | I40: =SUM(F40) -> 8540
B41: - สายไฟฟ้า 50 Sq.mm. SAC 25 kV. | C41: 969 | D41: เมตร | E41: 136 | F41: =C41*E41 -> 131784 | G41: - | H41: - | I41: =SUM(F41) -> 131784
B42: - สายไฟฟ้า 10 Sq.mm. IEC-01 | C42: 536 | D42: เมตร | E42: 35 | F42: =SUM(C42*E42) -> 18760 | G42: - | H42: - | I42: =SUM(F42) -> 18760
B43: - สายไฟฟ้า 16 Sq.mm. IEC-01 | C43: 34 | D43: เมตร | E43: 55 | F43: =SUM(C43*E43) -> 1870 | G43: - | H43: - | I43: =SUM(F43) -> 1870
B44: - สายไฟฟ้า 120 Sq.mm. IEC-01 | C44: 92 | D44: เมตร | E44: 409 | F44: =SUM(C44*E44) -> 37628 | G44: - | H44: - | I44: =SUM(F44) -> 37628
B45: - สายไฟฟ้า 150 Sq.mm. NYY-1C | C45: 450 | D45: เมตร | E45: 537 | F45: =SUM(C45*E45) -> 241650 | G45: - | H45: - | I45: =SUM(F45) -> 241650
B46: - ท่อ 20 mm. IMC | C46: 2 | D46: ท่อน | E46: 216 | F46: =SUM(C46*E46) -> 432 | G46: - | H46: - | I46: =SUM(F46) -> 432
B47: - ท่อ 80 mm. IMC | C47: 4 | D47: ท่อน | E47: 1846 | F47: =SUM(C47*E47) -> 7384 | G47: - | H47: - | I47: =SUM(F47) -> 7384
B48: รวม | F48: =SUM(F30:F47) -> 579766 | H48: =SUM(H30:H47) -> 0 | K48: =+H48+F48 -> 579766
B49: รวมเงินหน้านี้ | I49: =SUM(I30:I48) -> 579766
B50: ระบบไฟฟ้าภายนอกอาคาร
B51: - ท่อ ขนาด 125 mm. HDPE | C51: 110 | D51: เมตร | E51: 318 | F51: =C51*E51 -> 34980 | G51: - | H51: - | I51: =SUM(F51) -> 34980
B52: - PREFORMED 50 Sq.mm. | C52: 12 | D52: ชุด | E52: 166 | F52: =C52*E52 -> 1992 | G52: - | H52: - | I52: =SUM(F52) -> 1992
B53: - SERVICE ENTRANCE 20 mm. | C53: 1 | D53: ชุด | E53: 45 | F53: =C53*E53 -> 45 | G53: - | H53: - | I53: =SUM(F53) -> 45
B54: - SERVICE ENTRANCE 80 mm. | C54: 2 | D54: ชุด | E54: 440 | F54: =C54*E54 -> 880 | G54: - | H54: - | I54: =SUM(F54) -> 880
B55: - HAND HOLE TYPE | C55: 3 | D55: ชุด | E55: 6000 | F55: =SUM(C55*E55) -> 18000 | G55: วัสดุ + แรงงาน | I55: =SUM(F55) -> 18000
B56: - อุปกรณ์ประกอบและอื่น ๆ | C56: 1 | D56: งาน | E56: 50000 | F56: =SUM(C56*E56) -> 50000 | G56: - | H56: - | I56: =SUM(F56) -> 50000 | L56: x5%
B57: - ค่าแรงระบบไฟฟ้าภายนอกอาคาร | C57: 1 | D57: งาน | E57: - | F57: - | G57: 80000 | H57: =SUM(G57*C57) -> 80000 | I57: =SUM(H57) -> 80000 | L57: x10%
B69: รวม | F69: =SUM(F51:F68) -> 105897 | H69: =SUM(H51:H68) -> 80000 | K69: =+H69+F69 -> 185897
B70: รวมเงินหน้านี้ | I70: =SUM(I51:I69) -> 185897 | K70: =+I70+I49+I28 -> 1239503 | M70: รวมเงิน | N70: =SUM(K27+K48+K69) -> 1239503

Sheet ประปานอก
A1: แบบแสดงรายการปริมาณงานและราคา
A2: กลุ่มงาน | B2: ='ใบสรุปแบบ ปร.5 (ก) '!B2 -> งานอาคาร | C2: แบบเลขที่ | D2: =+'แบบ ปร.6'!B4 -> 62-2-101,63-5-006,62-4-030
A3: ชื่อโครงการ | B3: =+'แบบ ปร.6'!B2 -> งานจ้างก่อสร้างอาคารพักนายทหารประทวนโสด (NCOQ) พร้อมสิ่งอำนวยความสะดวก ของ สอ.รฝ. จำนวน 2 หลัง
A4: สถานที่ | B4: =+'แบบ ปร.6'!B3 -> จ.ชลบุรี | C4: หน่วยงานเจ้าของโครงการ
A6: ลำดับที่ | B6: รายการ | C6: จำนวน | D6: หน่วย | E6: ค่าวัสดุ (บาท ) | G6: ค่าแรงงาน (บาท ) | I6: รวม (บาท ) | J6: หมายเหตุ
E7: ราคาหน่วยละ | F7: จำนวนเงิน | G7: ราคาหน่วยละ | H7: จำนวนเงิน | I7: วัสดุและแรงงาน
B8: งานประปาภายนอก
B9: HDPE PE100,PN10
B10: - Ø 63 mm. | C10: 45 | D10: เมตร | E10: 86 | F10: =SUM(E10*C10) -> 3870 | G10: 75 | H10: =SUM(G10*C10) -> 3375 | I10: =SUM(H10+F10) -> 7245
B11: - Ø 110 mm. | C11: 175 | D11: เมตร | E11: 248 | F11: =SUM(E11*C11) -> 43400 | G11: 150 | H11: =SUM(G11*C11) -> 26250 | I11: =SUM(H11+F11) -> 69650
B12: อุปกรณ์ข้อต่อ HDPE (สวมอัด)
B13: - ข้อต่อตรง Ø 63 x 63 mm. | C13: 6 | D13: อัน | E13: 320 | F13: =SUM(C13*E13) -> 1920 | G13: - | H13: - | I13: =SUM(F13) -> 1920
B14: - ข้อต่อตรง Ø 110 x 110 mm. | C14: 11 | D14: อัน | E14: 1000 | F14: =SUM(C14*E14) -> 11000 | G14: - | H14: - | I14: =SUM(F14) -> 11000
B15: - ข้อต่องตรงลด Ø 75 x 63 mm. | C15: 4 | D15: อัน | E15: 400 | F15: =SUM(C15*E15) -> 1600 | G15: - | H15: - | I15: =SUM(F15) -> 1600
B16: - ข้อต่องตรงลด Ø 90 x 63 mm. | C16: 2 | D16: อัน | E16: 550 | F16: =SUM(C16*E16) -> 1100 | G16: - | H16: - | I16: =SUM(F16) -> 1100
B17: - ข้อต่องตรงลด Ø 110 x 90 mm. | C17: 2 | D17: อัน | E17: 900 | F17: =SUM(C17*E17) -> 1800 | G17: - | H17: - | I17: =SUM(F17) -> 1800
B18: - ข้อต่อ 3 ทาง T Ø 110 x 110 x 110 mm. | C18: 4 | D18: อัน | E18: 1250 | F18: =SUM(C18*E18) -> 5000 | G18: - | H18: - | I18: =SUM(F18) -> 5000
B19: - แคล้มรัดท่อแยกเกลียวใน Ø 110 x 3/4" | C19: 1 | D19: อัน | E19: 150 | F19: =SUM(C19*E19) -> 150 | G19: - | H19: - | I19: =SUM(F19) -> 150
B20: อุปกรณ์ประกอบ
B21: GATE VALVE
B22: - Ø 2 1/2" w/ หีบกุญแจสำเร็จรูป | C22: 2 | D22: ชุด | E22: 5850 | F22: =SUM(E22*C22) -> 11700 | G22: - | H22: - | I22: =SUM(F22) -> 11700 | K22: 4350
B23: - Ø 4" w/ หีบกุญแจสำเร็จรูป | C23: 1 | D23: ชุด | E23: 17840 | F23: =SUM(E23*C23) -> 17840 | G23: - | H23: - | I23: =SUM(F23) -> 17840 | K23: 16340
B25: รวม | F25: =SUM(F9:F23) -> 99380 | H25: =SUM(H9:H23) -> 29625 | K25: =+H25+F25 -> 129005
B26: รวมเงินหน้านี้ | I26: =SUM(I9:I23) -> 129005
B27: งานประปาภายนอก
B28: อุปกรณ์ประกอบ
B29: - AIR VALVE Ø 1" (ตามรายการประกอบแบบ) | C29: 1 | D29: ชุด | E29: 9500 | F29: =SUM(E29*C29) -> 9500 | G29: - | H29: - | I29: =SUM(F29) -> 9500 | K29: 4100+900+4500
B30: VALVE BOX 1
B31: - บ่อ VALVE (รายละเอียดตามแบบ) | C31: 1 | D31: บ่อ | E31: 2500 | F31: =SUM(E31*C31) -> 2500 | G31: วัสดุ+แรงงาน | I31: =SUM(H31+F31) -> 2500
B32: - ท่อ GSP Ø 4" | C32: 1.5 | D32: เมตร | E32: 453.9 | F32: =SUM(E32*C32) -> 680.85 | G32: 250 | H32: =SUM(G32*C32) -> 375 | I32: =SUM(H32+F32) -> 1055.85
B33: - ท่อ HDPE Ø 110 mm. | C33: 1 | D33: เมตร | E33: 248 | F33: =SUM(E33*C33) -> 248 | G33: 150 | H33: =SUM(G33*C33) -> 150 | I33: =SUM(H33+F33) -> 398
B34: - GATE VALVE Ø 4" | C34: 1 | D34: ชุด | E34: 16340 | F34: =SUM(E34*C34) -> 16340 | G34: 800 | H34: =SUM(G34*C34) -> 800 | I34: =SUM(H34+F34) -> 17140
B35: - FLEXIBLE CONNECTOR Ø 4" | C35: 1 | D35: ชุด | E35: 3120 | F35: =SUM(E35*C35) -> 3120 | G35: 800 | H35: =SUM(G35*C35) -> 800 | I35: =SUM(H35+F35) -> 3920
B37: - ป้ายบอกแนวท่อ | C37: 2 | D37: งาน | E37: 1350 | F37: =SUM(E37*C37) -> 2700 | G37: วัสดุ+แรงงาน | I37: =SUM(H37+F37) -> 2700
B38: - ดินขุดกลบคืน | C38: 27 | D38: ลบ.ม. | E38: - | F38: - | G38: 99 | H38: =SUM(G38*C38) -> 2673 | I38: =SUM(H38) -> 2673
B39: - ทรายหยาบอัดแน่น | C39: 11 | D39: ลบ.ม. | E39: 537 | F39: =SUM(E39*C39) -> 5907 | G39: 91 | H39: =SUM(G39*C39) -> 1001 | I39: =SUM(H39+F39) -> 6908
B44: รวม | F44: =SUM(F28:F43) -> 40995.85 | H44: =SUM(H28:H43) -> 5799 | K44: =+H44+F44 -> 46794.85
B45: รวมเงินหน้านี้ | I45: =SUM(I28:I43) -> 46794.85
B46: งานดับเพลิง
B47: หัวดับเพลิง | K47: 1 ชุด
B48: - ท่อ SP Ø 4" | C48: 4 | D48: เมตร | E48: 693 | F48: =SUM(E48*C48) -> 2772 | G48: 280 | H48: =SUM(G48*C48) -> 1120 | I48: =SUM(H48+F48) -> 3892 | K48: 2
B49: - หัวแกละดับเพลิง | C49: 2 | D49: ชุด | E49: 2750 | F49: =SUM(E49*C49) -> 5500 | G49: - | H49: - | I49: =SUM(F49) -> 5500 | K49: 1
B50: - SURFACE BOX | C50: 2 | D50: อัน | E50: 280 | F50: =SUM(E50*C50) -> 560 | G50: - | H50: - | I50: =SUM(F50) -> 560 | K50: 1
B51: - หลอดกันดิน | C51: 2 | D51: อัน | E51: 950 | F51: =SUM(E51*C51) -> 1900 | G51: - | H51: - | I51: =SUM(F51) -> 1900 | K51: 1
B52: - GATE VALVE Ø 4" (Non-Rising) | C52: 2 | D52: ชุด | E52: 25600 | F52: =SUM(E52*C52) -> 51200 | G52: - | H52: - | I52: =SUM(F52) -> 51200 | K52: 1 | L52: 32000 | M52: 0.2
B53: - ท่อโค้งตีนเป็ด 90° x 100 mm. | C53: 2 | D53: อัน | E53: 2400 | F53: =SUM(E53*C53) -> 4800 | G53: - | H53: - | I53: =SUM(F53) -> 4800 | K53: 1
B54: - ท่อโค้ง 90° x 100 mm.หน้าจานคู่ | C54: 2 | D54: อัน | E54: 2900 | F54: =SUM(E54*C54) -> 5800 | G54: - | H54: - | I54: =SUM(F54) -> 5800 | K54: 1
B55: - ท่อสั้นหน้าจานคู่ Ø 110 mm. | C55: 4 | D55: อัน | E55: 1640 | F55: =SUM(E55*C55) -> 6560 | G55: - | H55: - | I55: =SUM(F55) -> 6560 | K55: 2
B56: - แท่น ค.ส.ล. ขนาด 0.60×0.85×0.15 m.เสริมเหล็ก Ø 6 mm.@ 0.15 m. | C56: 2 | D56: งาน | E56: 950 | F56: =SUM(E56*C56) -> 1900 | G56: วัสดุ+แรงงาน | I56: =SUM(H56+F56) -> 1900 | K56: 1
B57: - แท่น ค.ส.ล.ขนาด 0.40×0.40×0.15 m.เสริมเหล็ก Ø 9 mm.@ 0.15 m. | C57: 2 | D57: งาน | E57: 750 | F57: =SUM(E57*C57) -> 1500 | G57: วัสดุ+แรงงาน | I57: =SUM(H57+F57) -> 1500 | K57: 1
B58: - แท่น ค.ส.ล. รองรับประตูน้ำ เสริมเหล็ก Ø 9 mm.@ 0.15 m. | C58: 2 | D58: งาน | E58: 500 | F58: =SUM(E58*C58) -> 1000 | G58: วัสดุ+แรงงาน | I58: =SUM(H58+F58) -> 1000 | K58: 1
B63: รวม | F63: =SUM(F47:F62) -> 83492 | H63: =SUM(H47:H62) -> 1120 | K63: =+H63+F63 -> 84612
B64: รวมเงินหน้านี้ | I64: =SUM(I47:I62) -> 84612 | K64: =I64+I45+I26 -> 260411.85
B65: งานระบบระบายน้ำ
B66: ท่อ ค.ส.ล. ชั้น 2
B67: - Ø 0.40 m. | C67: 28 | D67: ท่อน | E67: 519 | F67: =SUM(E67*C67) -> 14532 | G67: - | H67: - | I67: =SUM(F67) -> 14532
B68: ท่อ ค.ส.ล. ชั้น 3
B69: - Ø 0.40 m. | C69: 249 | D69: ท่อน | E69: 432 | F69: =SUM(E69*C69) -> 107568 | G69: - | H69: - | I69: =SUM(F69) -> 107568
B70: - Ø 0.50 m. | C70: 69 | D70: ท่อน | E70: 601 | F70: =SUM(E70*C70) -> 41469 | G70: - | H70: - | I70: =SUM(F70) -> 41469
B71: รางระบายน้ำ
B72: - รางระบายน้ำ ค.ส.ล. ขนาดกว้างภายใน 0.30 ม. ฝา D2 (ตามแบบ) | C72: 149 | D72: เมตร | E72: 1210 | F72: =SUM(E72*C72) -> 180290 | G72: วัสดุ+แรงงาน | I72: =SUM(H72+F72) -> 180290
B73: - รางระบายน้ำดินขุดเดิม ความยาวประมาณ 80 m. ขุดลอกใหม่ให้พร้อม | C73: 1 | D73: งาน | E73: 12000 | F73: =SUM(E73*C73) -> 12000 | G73: วัสดุ+แรงงาน | I73: =SUM(H73+F73) -> 12000 | K73: 150/ม.
B74: ใช้งาน (ตามรายการประกอบแบบ)
B75: - รางระบายน้ำดินขุด พร้อมขุดดิน,งานปรับพื้นผิว | C75: 160 | D75: เมตร | E75: 380 | F75: =SUM(E75*C75) -> 60800 | G75: วัสดุ+แรงงาน | I75: =SUM(H75+F75) -> 60800 | K75: จากเดิมเป็นงานหินเรียง | M75: 380/ม.
B76: (ตามรายการประกอบแบบ)
B77: - ท่อ ค.ส.ล. ขนาด 0.60 m.(ความยาวประมาณ 7 m./จุด) พร้อมกำแพง | C77: 1 | D77: งาน | E77: 56000 | F77: =SUM(E77*C77) -> 56000 | G77: วัสดุ+แรงงาน | I77: =SUM(H77+F77) -> 56000 | K77: 32420 | L77: ค่าท่อ799.21
B78: กันน้ำเซาะที่ปลายท่อ จำนวน 4 ชุด (รายละเอียดตามแบบ) | K78: 2200
B82: รวม | F82: =SUM(F66:F81) -> 472659 | H82: =SUM(H66:H81) -> 0 | K82: =+H82+F82 -> 472659
B83: รวมเงินหน้านี้ | I83: =SUM(I66:I81) -> 472659
B84: งานระบบระบายน้ำ
B85: บ่อพักน้ำ
B86: บ่อพักน้ำ ค.ส.ล. ฝาตะแกรงเหล็ก
B87: - MH 3 | C87: 4 | D87: บ่อ | E87: 5280 | F87: =SUM(E87*C87) -> 21120 | G87: วัสดุ+แรงงาน | I87: =SUM(H87+F87) -> 21120
B88: - MH 4 | C88: 8 | D88: บ่อ | E88: 13200 | F88: =SUM(E88*C88) -> 105600 | G88: วัสดุ+แรงงาน | I88: =SUM(H88+F88) -> 105600
B89: - MH 5 | C89: 4 | D89: บ่อ | E89: 19800 | F89: =SUM(E89*C89) -> 79200 | G89: วัสดุ+แรงงาน | I89: =SUM(H89+F89) -> 79200
B90: บ่อพักน้ำ ค.ส.ล. ฝาคอนกรีตเสริมเหล็ก
B91: - MH 3 | C91: 40 | D91: บ่อ | E91: 4961 | F91: =SUM(E91*C91) -> 198440 | G91: วัสดุ+แรงงาน | I91: =SUM(H91+F91) -> 198440
B92: - MH 4 | C92: 4 | D92: บ่อ | E92: 12100 | F92: =SUM(E92*C92) -> 48400 | G92: วัสดุ+แรงงาน | I92: =SUM(H92+F92) -> 48400
B93: - ปูนยาแนวท่อ | C93: 1 | D93: งาน | E93: 33714 | F93: =SUM(E93*C93) -> 33714 | G93: วัสดุ+แรงงาน | I93: =SUM(H93+F93) -> 33714 | K93: =SUM(C67:C70) -> 346 | L93: 28 | M93: =SUM(K93:L93) -> 374
B94: - ดินขุดกลบคืน | C94: 438 | D94: ลบ.ม. | E94: - | F94: - | G94: 99 | H94: =SUM(G94*C94) -> 43362 | I94: =SUM(H94) -> 43362
B95: - ทรายหยาบอัดแน่น | C95: 185 | D95: ลบ.ม. | E95: 537 | F95: =SUM(E95*C95) -> 99345 | G95: 91 | H95: =SUM(G95*C95) -> 16835 | I95: =SUM(H95+F95) -> 116180
B101: รวม | F101: =SUM(F85:F100) -> 585819 | H101: =SUM(H85:H100) -> 60197 | K101: =+H101+F101 -> 646016
B102: รวมเงินหน้านี้ | I102: =SUM(I85:I100) -> 646016 | K102: =+I102+I83+I64+I45+I26 -> 1379086.9 | L102: >>รวมประปาภายนอก
K104: =I102+I83 -> 1118675

Sheet แบบ ปร.4_ครุภัณฑ์
A1: แบบแสดงรายการปริมาณงานและราคา
A2: กลุ่มงาน | B2: ='ใบสรุปแบบ ปร.5 (ก) '!B2 -> งานอาคาร
A3: ชื่อโครงการ | B3: =+'แบบ ปร.6'!B2 -> งานจ้างก่อสร้างอาคารพักนายทหารประทวนโสด (NCOQ) พร้อมสิ่งอำนวยความสะดวก ของ สอ.รฝ. จำนวน 2 หลัง | C3: แบบเลขที่ | D3: =+'แบบ ปร.6'!B4 -> 62-2-101,63-5-006,62-4-030
A4: สถานที่ | B4: =+'แบบ ปร.6'!B3 -> จ.ชลบุรี | C4: หน่วยงานเจ้าของโครงการ | F4: =+'แบบ ปร.6'!C5 -> สอ.รฝ.
A5: คำนวณโดย | B5: พี่ชาติ | C5: =+'แบบ ปร.6'!B7 -> 0
A6: ลำดับที่ | B6: รายการ | C6: จำนวน | D6: หน่วย | E6: ค่าวัสดุ (บาท ) | G6: ค่าแรงงาน (บาท ) | I6: รวม (บาท ) | J6: หมายเหตุ
E7: ราคาหน่วยละ | F7: จำนวนเงิน | G7: ราคาหน่วยละ | H7: จำนวนเงิน | I7: วัสดุและแรงงาน
B8: งานครุภัณฑ์ประจำอาคาร
B29: รวม | F29: =SUM(F9:F28) -> 0 | H29: =SUM(H10:H28) -> 0 | K29: =+H29+F29 -> 0
B30: รวมเงินหน้านี้ | I30: =SUM(I9:I28) -> 0

Sheet แบบ ปร.4(พ)
A1: แบบแสดงรายการปริมาณงานและราคา
A2: (ค่าใช้จ่ายพิเศษตามข้อกำหนดและค่าใช้จ่ายอื่นที่จำเป็นต้องมี)
A3: กลุ่มงาน | B3: ='ใบสรุปแบบ ปร.5 (ก) '!B2 -> งานอาคาร
A4: ชื่อโครงการ | B4: =+'แบบ ปร.6'!B2 -> งานจ้างก่อสร้างอาคารพักนายทหารประทวนโสด (NCOQ) พร้อมสิ่งอำนวยความสะดวก ของ สอ.รฝ. จำนวน 2 หลัง | C4: แบบเลขที่ | D4: =+'แบบ ปร.6'!B4 -> 62-2-101,63-5-006,62-4-030
A5: สถานที่ | B5: =+'แบบ ปร.6'!B3 -> จ.ชลบุรี | C5: หน่วยงานเจ้าของโครงการ | E5: =+'แบบ ปร.6'!C5 -> สอ.รฝ.
A6: คำนวณราคาโดย | B6: พี่ชาติ | C6: =+'แบบ ปร.6'!B7 -> 0
A7: ลำดับที่ | B7: รายการ | C7: จำนวน | D7: หน่วย | E7: ค่าใช้จ่ายรวม (บาท ) | F7: หมายเหตุ
E8: ( ค่าก่อสร้าง )
A9: 1 | C9: 1 | D9: งาน | E9: 5000
A10: 2 | C10: 2 | D10: งาน | E10: 3000
A11: 3 | C11: 3 | D11: งาน | E11: 2000
A12: 4 | C12: 2 | D12: งาน | E12: 1000
B27: รวมเงิน ค่าใช้จ่ายพิเศษตามข้อกำหนดทุกรายการ | E27: =SUM(E4:E26) -> 11000

Sheet แบบแสดงการคำนวณ ฯ(พ)ตามข้อกำหนด
A1: หน้าที่ 11
A2: แบบแสดงการคำนวณและเหตุผลความจำเป็น
A3: สำหรับค่าใช้จ่ายพิเศษตามข้อกำหนดฯ
A4: รายการ (ระบุรายการค่าใช้จ่ายพิเศษตามข้อกำหนด)
A5: ชื่อโครงการ | D5: =+'แบบ ปร.6'!B2 -> งานจ้างก่อสร้างอาคารพักนายทหารประทวนโสด (NCOQ) พร้อมสิ่งอำนวยความสะดวก ของ สอ.รฝ. จำนวน 2 หลัง
A6: สถานที่ก่อสร้าง | D6: =+'แบบ ปร.6'!B3 -> จ.ชลบุรี | G6: แบบเลขที่ | H6: =+'แบบ ปร.6'!B4 -> 62-2-101,63-5-006,62-4-030
A7: หน่วยงานเจ้าของโครงการ | D7: =+'แบบ ปร.6'!C5 -> สอ.รฝ.
A8: คำนวณราคากลางโดย | D8: พี่ชาติ | H8: =+'แบบ ปร.6'!B7 -> 0
A9: 1. เหตุผลและความจำเป็นที่ต้องมีค่าใช้จ่ายพิเศษตามข้อกำหนดฯ รายการนี้
A10: เป็นงานก่อสร้างที่อยู่บนเกาะ ห่างจากฝั่งประมาณ 20 ไมล์ทะเล ต้องลำเลียงวัสดุจากฝั่งไปยังพื้นที่ก่อสร้างและขนจากเรือขึ้นฝั่งบนเกาะ
A11: การลำเลียงวัสดุจากฝั่งต้องใช้ท่าเทียบเรือของเอกชนหรือของกรมเจ้าท่าซึ่งต้องเสียค่าธรรมเนียม งานขนส่งเสาเข็มยาวต้องใช้โป๊ะขนาดใหญ่
A12: รวมทั้งเรือลำเลียงวัสดุ(เรือบาธ)ควรมีขนาดใหญ่ เพื่อความคุ้มค่าในการส่งวัสดุแต่ละครั้ง นอกจากนี้ พื้นที่ก่อสร้างอยู่บริเวณปลายเกาะ
A13: ไม่มีทางรถยนต์เข้าถึง เข้าดืทางเรือเท่านั้น และเป็นพื้นที่ทุรกันดารน้ำจืดไม่เพียงพอต่อการอุปโภค-บริโภค ไม่มีไฟฟ้าใช้
A14: ต้องจัดหาเครื่องกำเนิดไฟฟ้าและ จัดส่งน้ำจืดจากฝั่งเพื่อไปใช้ในงานก่อสร้าง สำหรับการก่อสร้างสะพานท่าเทียบเรือต้องก่อสร้างในทะเลน้ำลึก
A15: จำเป็นต้องมีงานนั่งร้านพิเศษเพิ่มเติมจากงานไม้แบบทั่วไป และการทำงานในน้ำจะได้ปริมาณงานน้อยกว่าทำบนฝั่งจึงมีค่าแรงที่เพิ่มสูงขึ้น
A16: 2. รายละเอียดการคำนวณ
A17: ที่ | B17: รายการค่าใช้จ่าย | H17: จำนวน | I17: หน่วย | J17: ราคาต่อหน่วย | K17: ราคารวม | L17: หมายเหตุ
A18: 1 | B18: งานเจาะสำรวจดิน
A19: 1.1 | B19: ค่าเจาะสำรวจดินในทะเล | I19: หลุม | J19: 15000 | K19: =H19*J19 -> 0
A20: 1.2 | B20: ค่าขนส่งเครื่องมือ ไป-กลับ | I20: งาน | J20: 50000 | K20: =H20*J20 -> 0
A21: 1.3 | B21: ค่าเดินทาง ค่าขนส่งตัวอย่างทดสอบ ค่ารายงานผล | I21: งาน | J21: 20000 | K21: =H21*J21 -> 0
A22: 1.4 | B22: ค่าโป๊ะหรือแพสำหรับตั้งเครื่องเจาะและเรือลาก | I22: งาน | J22: 80000 | K22: =H22*J22 -> 0
B23: รวมค่าใช้จ่ายพิเศษในงานเจาะสำรวจดิน | K23: =SUM(K19:K22) -> 0
A24: 3 | B24: ค่าลำเลียงวัสดุ และขนข้ายเครื่องมือเครื่องจักรทุ่นแรง
A25: 3.1 | B25: ค่าลากเรือลำเลียงและโป๊ะ กรุงเทพ-เกาะกูด(ไป-กลับ) | I25: ไมล์ | J25: 2500 | K25: =H25*J25 -> 0
A26: 3.2 | B26: ค่าเช่าเรือลำเลียงและค่าเรือลากจูง | I26: เดือน | J26: 150000 | K26: =H26*J26 -> 0
A27: 3.3 | B27: ค่าใช้จ่ายในการขนวัสดุระหว่างฝั่ง-เกาะ(เดือนละ2เที่ยว)
B28: ตลอดระยะเวลาก่อสร้าง( คิดเฉลี่ยประมาณ 6 เดือน ) | I28: เที่ยว | J28: 30000 | K28: =H28*J28 -> 0
A29: 3.5 | B29: ค่าเครนยกวัสดุลงเรือบาธ+ค่าธรรมเนียมการใช้ท่าเรือ | I29: เที่ยว | J29: 25000 | K29: =H29*J29 -> 0 | M29: ค่าเครน 15,000 ค่าธรรมเนียม 10,000
A30: 3.6 | B30: ค่าขนวัสดุจากเรือลำเลียงขึ้นฝั่งบนเกาะ | I30: งาน | J30: =0.05*10400000 -> 520000 | K30: =H30*J30 -> 0 | M30: ประมาณ 5 % ของค่าวัสดุ ทั้งโครงการ ( ค่าวัสดุทั้งหมด 10.4 ล้าน )
A31: 3.7 | B31: ค่าลำเลียงวัสดุและค่าประกอบติดตั้งงานโครงสร้างในน้ำ | I31: งาน | J31: =0.35*600000 -> 210000 | K31: =H31*J31 -> 0 | M31: ค่าแรงเพิ่มอีก 35 % ของค่าแรงปกติ เฉพาะงานโครงสร้างท่าเรือ (ค่าแรง = 600,000)
B32: รวมค่าใช้จ่ายพิเศษ การลำเลียงวัสดุ | K32: =SUM(K25:K31) -> 0
A33: 4 | B33: ค่าเช่าเครื่องกำเนิดไฟฟ้า + ค่าเชื้อเพลิง | I33: เดือน | J33: 51000 | K33: =H33*J33 -> 0 | M33: ค่าเช่า 15,000/ เดือน ค่าน้ำมัน 1,200 / วัน
A34: 5 | B34: ค่านั่งร้านทำงานในน้ำ | I34: ตรม. | J34: 1500 | K34: =H34*J34 -> 0
E36: รวมค่าใช้จ่าย
E37: ค่าภาษีมูลค่าเพิ่ม
E38: สรปค่าใช้จ่ายพิเศษ

Sheet F_Advance(งานอาคาร)
A1: 1 | B1: 2 | C1: 3 | D1: 4 | E1: 5 | F1: 6 | G1: 7 | H1: 8 | I1: 9 | J1: 10 | K1: 11 | L1: 12 | M1: 13 | N1: 14 | O1: 15 | P1: 16 | Q1: 17
A2: ประกันผลงาน | B2: 0 | F2: 0.05 | J2: 0.1
B3: Advance | F3: Advance | J3: Advance
A4: BUDJET | B4: 0 | C4: 0.05 | D4: 0.1 | E4: 0.15 | F4: 0 | G4: 0.05 | H4: 0.1 | I4: 0.15 | J4: 0 | K4: 0.05 | L4: 0.1 | M4: 0.15
A5: 0 | B5: 1.3074 | C5: 1.3065 | D5: 1.3055 | E5: 1.3046 | F5: 1.3078 | G5: 1.3069 | H5: 1.3059 | I5: 1.305 | J5: 1.3082 | K5: 1.3073 | L5: 1.3063 | M5: 1.3054
A6: 0.5 | B6: 1.3074 | C6: 1.3065 | D6: 1.3055 | E6: 1.3046 | F6: 1.3078 | G6: 1.3069 | H6: 1.3059 | I6: 1.305 | J6: 1.3082 | K6: 1.3073 | L6: 1.3063 | M6: 1.3054
A7: 1 | B7: 1.305 | C7: 1.304 | D7: 1.3029 | E7: 1.3018 | F7: 1.3056 | G7: 1.3045 | H7: 1.3034 | I7: 1.3024 | J7: 1.3061 | K7: 1.305 | L7: 1.304 | M7: 1.3029
A8: 2 | B8: 1.3035 | C8: 1.3023 | D8: 1.3011 | E8: 1.2999 | F8: 1.3042 | G8: 1.303 | H8: 1.3018 | I8: 1.3006 | J8: 1.3049 | K8: 1.3036 | L8: 1.3024 | M8: 1.3012
A9: 5 | B9: 1.3003 | C9: 1.2987 | D9: 1.2971 | E9: 1.2955 | F9: 1.3014 | G9: 1.2998 | H9: 1.2982 | I9: 1.2966 | J9: 1.3025 | K9: 1.3009 | L9: 1.2993 | M9: 1.2976
A10: 10 | B10: 1.2943 | C10: 1.2922 | D10: 1.2901 | E10: 1.2879 | F10: 1.296 | G10: 1.2938 | H10: 1.2917 | I10: 1.2895 | J10: 1.2976 | K10: 1.2954 | L10: 1.2933 | M10: 1.2911
A11: 15 | B11: 1.2594 | C11: 1.2573 | D11: 1.2551 | E11: 1.253 | F11: 1.261 | G11: 1.2589 | H11: 1.2567 | I11: 1.2546 | J11: 1.2626 | K11: 1.2605 | L11: 1.2583 | M11: 1.2562
A12: 20 | B12: 1.2518 | C12: 1.2495 | D12: 1.2472 | E12: 1.245 | F12: 1.2535 | G12: 1.2513 | H12: 1.249 | I12: 1.2467 | J12: 1.2553 | K12: 1.253 | L12: 1.2057 | M12: 1.2484
A13: 25 | B13: 1.2248 | C13: 1.2225 | D13: 1.2203 | E13: 1.218 | F13: 1.2266 | G13: 1.2243 | H13: 1.222 | I13: 1.2197 | J13: 1.2283 | K13: 1.226 | L13: 1.2237 | M13: 1.2215
A14: 30 | B14: 1.2164 | C14: 1.214 | D14: 1.2116 | E14: 1.2092 | F14: 1.2183 | G14: 1.2159 | H14: 1.2135 | I14: 1.2111 | J14: 1.2202 | K14: 1.2178 | L14: 1.2154 | M14: 1.213
A15: 40 | B15: 1.2161 | C15: 1.2136 | D15: 1.2112 | E15: 1.2088 | F15: 1.2179 | G15: 1.2155 | H15: 1.2131 | I15: 1.2107 | J15: 1.2198 | K15: 1.2174 | L15: 1.215 | M15: 1.2126
A16: 50 | B16: 1.2159 | C16: 1.2133 | D16: 1.2106 | E16: 1.2079 | F16: 1.2181 | G16: 1.2154 | H16: 1.2127 | I16: 1.2101 | J16: 1.2202 | K16: 1.2175 | L16: 1.2149 | M16: 1.2122
... A28: 500 | B28: 1.1853 | C28: 1.1801 | D28: 1.1749 | E28: 1.1696 | F28: 1.19 | G28: 1.1848 | H28: 1.1795 | I28: 1.1743 | J28: 1.1946 | K28: 1.1894 | L28: 1.1842 | M28: 1.179
A29: >500 | B29: 1.1788 | C29: 1.1733 | D29: 1.1678 | E29: 1.1624 | F29: 1.1838 | G29: 1.1783 | H29: 1.1728 | I29: 1.1673 | J29: 1.1887 | K29: 1.1832 | L29: 1.1777 | M29: 1.1723

Sheet F_Advance(งานทาง)
A1: 1 | B1: 2 | C1: 3 | D1: 4 | E1: 5 | F1: 6 | G1: 7 | H1: 8 | I1: 9 | J1: 10 | K1: 11 | L1: 12 | M1: 13 | N1: 14 | O1: 15 | P1: 16 | Q1: 17 | R1: 18 | S1: 19 | T1: 20 | U1: 21 | V1: 22 | W1: 23 | X1: 24 | Y1: 25 | Z1: 26 | AA1: 27 | AB1: 28 | AC1: 29 | AD1: 30 | AE1: 31 | AF1: 32 | AG1: 33 | AH1: 34 | AI1: 35 | AJ1: 36 | AK1: 37
A2: ประกันผลงาน | B2: 0 | N2: 0.05 | Z2: 0.1
B3: Advance | N3: Advance | Z3: Advance
B4: 0 | E4: 0.05 | H4: 0.1 | K4: 0.15 | N4: 0 | Q4: 0.05 | T4: 0.1 | W4: 0.15 | Z4: 0 | AC4: 0.05 | AF4: 0.1 | AI4: 0.15
A5: BUDJET | B5: ปกติ | C5: ฝนชุก1 | D5: ฝนชุก2 | E5: ปกติ | F5: ฝนชุก1 | G5: ฝนชุก2 | H5: ปกติ | I5: ฝนชุก1 | J5: ฝนชุก2 | K5: ปกติ | L5: ฝนชุก1 | M5: ฝนชุก2 | N5: ปกติ | O5: ฝนชุก1 | P5: ฝนชุก2 | Q5: ปกติ | R5: ฝนชุก1 | S5: ฝนชุก2 | T5: ปกติ | U5: ฝนชุก1 | V5: ฝนชุก2 | W5: ปกติ | X5: ฝนชุก1 | Y5: ฝนชุก2 | Z5: ปกติ | AA5: ฝนชุก1 | AB5: ฝนชุก2 | AC5: ปกติ | AD5: ฝนชุก1 | AE5: ฝนชุก2 | AF5: ปกติ | AG5: ฝนชุก1 | AH5: ฝนชุก2 | AI5: ปกติ | AJ5: ฝนชุก1 | AK5: ฝนชุก2
A6: 0 | B6: 1.3624 | C6: 1.3822 | D6: 1.4019 | E6: 1.3614 | F6: 1.3811 | G6: 1.4008 | H6: 1.3603 | I6: 1.38 | J6: 1.3997 | K6: 1.3592 | L6: 1.3789 | M6: 1.3987 | N6: 1.363 | O6: 1.3827 | P6: 1.4024 | Q6: 1.3619 | R6: 1.3816 | S6: 1.4013 | T6: 1.3608 | U6: 1.3805 | V6: 1.4003 | W6: 1.3598 | X6: 1.3795 | Y6: 1.3992 | Z6: 1.3635 | AA6: 1.3832 | AB6: 1.4029 | AC6: 1.3624 | AD6: 1.3822 | AE6: 1.4019 | AF6: 1.3614 | AG6: 1.3811 | AH6: 1.1008 | AI6: 1.3603 | AJ6: 1.38 | AK6: 1.3997
A7: 5 | B7: 1.3624 | C7: 1.3822 | D7: 1.4019 | E7: 1.3614 | F7: 1.3811 | G7: 1.4008 | H7: 1.3603 | I7: 1.38 | J7: 1.3997 | K7: 1.3592 | L7: 1.3789 | M7: 1.3987 | N7: 1.363 | O7: 1.3827 | P7: 1.4024 | Q7: 1.3619 | R7: 1.3816 | S7: 1.4013 | T7: 1.3608 | U7: 1.3805 | V7: 1.4003 | W7: 1.3598 | X7: 1.3795 | Y7: 1.3992 | Z7: 1.3635 | AA7: 1.3832 | AB7: 1.4029 | AC7: 1.3624 | AD7: 1.3822 | AE7: 1.4019 | AF7: 1.3614 | AG7: 1.3811 | AH7: 1.4008 | AI7: 1.3603 | AJ7: 1.38 | AK7: 1.3997
A8: 10 | B8: 1.3116 | C8: 1.3319 | D8: 1.3522 | E8: 1.3103 | F8: 1.3306 | G8: 1.3509 | H8: 1.3089 | I8: 1.3292 | J8: 1.3496 | K8: 1.3076 | L8: 1.328 | M8: 1.3483 | N8: 1.3125 | O8: 1.3328 | P8: 1.3531 | Q8: 1.3111 | R8: 1.3314 | S8: 1.3517 | T8: 1.3098 | U8: 1.3301 | V8: 1.3504 | W8: 1.3084 | X8: 1.3287 | Y8: 1.349 | Z8: 1.3132 | AA8: 1.3335 | AB8: 1.3538 | AC8: 1.3119 | AD8: 1.3322 | AE8: 1.3526 | AF8: 1.3105 | AG8: 1.3308 | AH8: 1.3512 | AI8: 1.3093 | AJ8: 1.3296 | AK8: 1.3499
A9: 20 | B9: 1.2534 | C9: 1.12717 | D9: 1.2899 | E9: 1.2519 | F9: 1.2702 | G9: 1.2884 | H9: 1.2504 | I9: 1.2687 | J9: 1.2869 | K9: 1.249 | L9: 1.2673 | M9: 1.2855 | N9: 1.2544 | O9: 1.2726 | P9: 1.2909 | Q9: 1.2529 | R9: 1.2711 | S9: 1.2894 | T9: 1.2514 | U9: 1.2696 | V9: 1.2879 | W9: 1.2499 | X9: 1.2681 | Y9: 1.2864 | Z9: 1.2552 | AA9: 1.2735 | AB9: 1.2917 | AC9: 1.25378 | AD9: 1.2721 | AE9: 1.2903 | AF9: 1.2523 | AG9: 1.2706 | AH9: 1.2888 | AI9: 1.2508 | AJ9: 1.2691 | AK9: 1.2873
A10: 30 | B10: 1.2204 | C10: 1.2369 | D10: 1.2533 | E10: 1.2189 | F10: 1.2354 | G10: 1.2518 | H10: 1.2174 | I10: 1.2339 | J10: 1.2503 | K10: 1.2159 | L10: 1.2324 | M10: 1.2488 | N10: 1.2213 | O10: 1.2377 | P10: 1.2541 | Q10: 1.2199 | R10: 1.2363 | S10: 1.2527 | T10: 1.2184 | U10: 1.2348 | V10: 1.2512 | W10: 1.2169 | X10: 1.2333 | Y10: 1.2498 | Z10: 1.2223 | AA10: 1.2387 | AB10: 1.2551 | AC10: 1.2208 | AD10: 1.2372 | AE10: 1.2536 | AF10: 1.2194 | AG10: 1.2358 | AH10: 1.2522 | AI10: 1.2179 | AJ10: 1.2343 | AK10: 1.2507
A11: 40 | B11: 1.2137 | C11: 1.2316 | D11: 1.2496 | E11: 1.2119 | F11: 1.2298 | G11: 1.2478 | H11: 1.21 | I11: 1.2279 | J11: 1.2458 | K11: 1.2081 | L11: 1.2261 | M11: 1.244 | N11: 1.2151 | O11: 1.233 | P11: 1.251 | Q11: 1.2132 | R11: 1.2311 | S11: 1.249 | T11: 1.2113 | U11: 1.2293 | V11: 1.2472 | W11: 1.2094 | X11: 1.2274 | Y11: 1.2453 | Z11: 1.2164 | AA11: 1.2343 | AB11: 1.2522 | AC11: 1.2146 | AD11: 1.2325 | AE11: 1.2504 | AF11: 1.2126 | AG11: 1.2306 | AH11: 1.2485 | AI11: 1.2108 | AJ11: 1.2287 | AK11: 1.2467
A12: 50 | B12: 1.2085 | C12: 1.2265 | D12: 1.2445 | E12: 1.2064 | F12: 1.2245 | G12: 1.2425 | H12: 1.2045 | I12: 1.2225 | J12: 1.2406 | K12: 1.2025 | L12: 1.2205 | M12: 1.2385 | N12: 1.21 | O12: 1.228 | P12: 1.246 | Q12: 1.2079 | R12: 1.2259 | S12: 1.244 | T12: 1.2059 | U12: 1.2239 | V12: 1.2419 | W12: 1.204 | X12: 1.222 | Y12: 1.24 | Z12: 1.2115 | AA12: 1.2295 | AB12: 1.2475 | AC12: 1.2094 | AD12: 1.2274 | AE12: 1.2455 | AF12: 1.2074 | AG12: 1.2254 | AH12: 1.434 | AI12: 1.2054 | AJ12: 1.2234 | AK12: 1.2414
A13: 60 | B13: 1.2025 | C13: 1.2204 | D13: 1.2384 | E13: 1.2003 | F13: 1.2183 | G13: 1.2363 | H13: 1.1982 | I13: 1.2162 | J13: 1.2341 | K13: 1.196 | L13: 1.214 | M13: 1.232 | N13: 1.2041 | O13: 1.222 | P13: 1.24 | Q13: 1.2019 | R13: 1.2199 | S13: 1.2379 | T13: 1.1998 | U13: 1.2178 | V13: 1.2357 | W13: 1.1977 | X13: 1.2156 | Y13: 1.2336 | Z13: 1.2057 | AA13: 1.2236 | AB13: 1.2416 | AC13: 1.2035 | AD13: 1.2215 | AE13: 1.2395 | AF13: 1.2014 | AG13: 1.2194 | AH13: 1.2373 | AI13: 1.1993 | AJ13: 1.2172 | AK13: 1.2352
A14: 70 | B14: 1.1967 | C14: 1.2151 | D14: 1.2334 | E14: 1.1944 | F14: 1.2128 | G14: 1.2312 | H14: 1.1922 | I14: 1.2106 | J14: 1.229 | K14: 1.1899 | L14: 1.2083 | M14: 1.2267 | N14: 1.1985 | O14: 1.2169 | P14: 1.2353 | Q14: 1.1962 | R14: 1.2145 | S14: 1.2329 | T14: 1.1939 | U14: 1.2123 | V14: 1.2307 | W14: 1.1917 | X14: 1.21 | Y14: 1.2284 | Z14: 1.2002 | AA14: 1.2186 | AB14: 1.237 | AC14: 1.198 | AD14: 1.2164 | AE14: 1.2347 | AF14: 1.1956 | AG14: 1.214 | AH14: 1.2324 | AI14: 1.1934 | AJ14: 1.2118 | AK14: 1.2301
A15: 80 | B15: 1.1933 | C15: 1.2117 | D15: 1.2302 | E15: 1.1909 | F15: 1.2094 | G15: 1.2278 | H15: 1.1884 | I15: 1.2069 | J15: 1.2254 | K15: 1.1861 | L15: 1.2046 | M15: 1.223 | N15: 1.1952 | O15: 1.2137 | P15: 1.2321 | Q15: 1.1927 | R15: 1.2112 | S15: 1.2297 | T15: 1.1904 | U15: 1.2088 | V15: 1.2273 | W15: 1.1879 | X15: 1.2064 | Y15: 1.2248 | Z15: 1.197 | AA15: 1.2155 | AB15: 1.2339 | AC15: 1.1947 | AD15: 1.2131 | AE15: 1.2316 | AF15: 1.1922 | AG15: 1.2107 | AH15: 1.2291 | AI15: 1.1898 | AJ15: 1.2083 | AK15: 1.2268
A16: 90 | B16: 1.1874 | C16: 1.2052 | D16: 1.2231 | E16: 1.185 | F16: 1.2029 | G16: 1.2207 | H16: 1.1826 | I16: 1.2004 | J16: 1.2183 | K16: 1.1802 | L16: 1.1981 | M16: 1.2159 | N16: 1.1893 | O16: 1.2072 | P16: 1.225 | Q16: 1.1868 | R16: 1.2047 | S16: 1.2225 | T16: 1.1845 | U16: 1.2023 | V16: 1.2202 | W16: 1.182 | X16: 1.1999 | Y16: 1.2177 | Z16: 1.1911 | AA16: 1.209 | AB16: 1.2268 | AC16: 1.1888 | AD16: 1.2066 | AE16: 1.2245 | AF16: 1.1863 | AG16: 1.2042 | AH16: 1.222 | AI16: 1.184 | AJ16: 1.2018 | AK16: 1.2197
A17: 100 | B17: 1.1842 | C17: 1.2017 | D17: 1.2192 | E17: 1.1817 | F17: 1.1992 | G17: 1.2167 | H17: 1.1794 | I17: 1.1969 | J17: 1.2144 | K17: 1.1769 | L17: 1.1944 | M17: 1.2119 | N17: 1.186 | O17: 1.2035 | P17: 1.221 | Q17: 1.1836 | R17: 1.2011 | S17: 1.2187 | T17: 1.1812 | U17: 1.1987 | V17: 1.2162 | W17: 1.1788 | X17: 1.1963 | Y17: 1.2138 | Z17: 1.1879 | AA17: 1.2054 | AB17: 1.2229 | AC17: 1.1855 | AD17: 1.203 | AE17: 1.2205 | AF17: 1.1831 | AG17: 1.2006 | AH17: 1.2181 | AI17: 1.1806 | AJ17: 1.1982 | AK17: 1.2157
... A42: 700 | B42: 1.1478 | C42: 1.1641 | D42: 1.1805 | E42: 1.1443 | F42: 1.1606 | G42: 1.177 | H42: 1.1406 | I42: 1.157 | J42: 1.1733 | K42: 1.137 | L42: 1.1533 | M42: 1.1697 | N42: 1.1509 | O42: 1.1673 | P42: 1.1836 | Q42: 1.1473 | R42: 1.1636 | S42: 1.18 | T42: 1.1437 | U42: 1.1601 | V42: 1.1764 | W42: 1.1401 | X42: 1.1564 | Y42: 1.1728 | Z42: 1.154 | AA42: 1.1704 | AB42: 1.1867 | AC42: 1.1504 | AD42: 1.1667 | AE42: 1.1831 | AF42: 1.1467 | AG42: 1.1631 | AH42: 1.1791 | AI42: 1.1432 | AJ42: 1.1595 | AK42: 1.1759
A43: >700 | B43: 1.1478 | C43: 1.1641 | D43: 1.1805 | E43: 1.1443 | F43: 1.1606 | G43: 1.177 | H43: 1.1406 | I43: 1.157 | J43: 1.1733 | K43: 1.137 | L43: 1.1533 | M43: 1.1697 | N43: 1.1509 | O43: 1.1673 | P43: 1.1836 | Q43: 1.143 | R43: 1.1636 | S43: 1.18 | T43: 1.1437 | U43: 1.1601 | V43: 1.1764 | W43: 1.1401 | X43: 1.1564 | Y43: 1.1728 | Z43: 1.154 | AA43: 1.1704 | AB43: 1.1867 | AC43: 1.504 | AD43: 1.1667 | AE43: 1.1831 | AF43: 1.1467 | AG43: 1.1631 | AH43: 1.1794 | AI43: 1.1432 | AJ43: 1.1595 | AK43: 1.1759
A45: หมายเหตุ :
A46: ฝนชุก 1 ได้แก่ จังหวัด : | C46: กรุงเทพ,กระบี่,จันทบุรี,ชุมพร,เชียงราย,ตรัง,นครนายก,ปราจีนบุรี,พัทลุง,ภูเก็ต,ยะลา,สกลนคร,สตูล,หนองคาย
A47: ฝนชุก 2 ได้แก่ จังหวัด : | C47: ตราด,นครพนม,นครศรธรรมราช,นราธิวาส,บึงกาฬ,พังงา,ระนอง,สงขลา

Sheet F_Advance(สะพาน)
A1: 1 | B1: 2 | C1: 3 | D1: 4 | E1: 5 | F1: 6 | G1: 7 | H1: 8 | I1: 9 | J1: 10 | K1: 11 | L1: 12 | M1: 13 | N1: 14 | O1: 15 | P1: 16 | Q1: 17
A2: ประกันผลงาน | B2: 0 | F2: 0.05 | J2: 0.1
B3: Advance | F3: Advance | J3: Advance | N3: Advance
A4: BUDJET | B4: 0 | C4: 0.05 | D4: 0.1 | E4: 0.15 | F4: 0 | G4: 0.05 | H4: 0.1 | I4: 0.15 | J4: 0 | K4: 0.05 | L4: 0.1 | M4: 0.15 | N4: 0 | O4: 0.05 | P4: 0.1 | Q4: 0.15
A5: 0 | B5: 1.2782 | C5: 1.2772 | D5: 1.2761 | E5: 1.275 | F5: 1.2788 | G5: 1.2777 | H5: 1.2766 | I5: 1.2755 | J5: 1.2793 | K5: 1.2782 | L5: 1.2772 | M5: 1.2791
A6: 5 | B6: 1.2782 | C6: 1.2772 | D6: 1.2761 | E6: 1.275 | F6: 1.2788 | G6: 1.2777 | H6: 1.2766 | I6: 1.2755 | J6: 1.2793 | K6: 1.2782 | L6: 1.2772 | M6: 1.2791
A7: 10 | B7: 1.2446 | C7: 1.12432 | D7: 1.2419 | E7: 1.2406 | F7: 1.2454 | G7: 1.2441 | H7: 1.2427 | I7: 1.2414 | J7: 1.2462 | K7: 1.2448 | L7: 1.2436 | M7: 1.2422
A8: 15 | B8: 1.2375 | C8: 1.2359 | D8: 1.2342 | E8: 1.2326 | F8: 1.2385 | G8: 1.2369 | H8: 1.2353 | I8: 1.2337 | J8: 1.2396 | K8: 1.238 | L8: 1.2364 | M8: 1.2348
A9: 20 | B9: 1.2304 | C9: 1.2286 | D9: 1.2266 | E9: 1.2248 | F9: 1.2318 | G9: 1.2299 | H9: 1.228 | I9: 1.2261 | J9: 1.2331 | K9: 1.2312 | L9: 1.2292 | M9: 1.2275
A10: 25 | B10: 1.2145 | C10: 1.2125 | D10: 1.2107 | E10: 1.2088 | F10: 1.2157 | G10: 1.2139 | H10: 1.212 | I10: 1.2102 | J10: 1.2171 | K10: 1.2152 | L10: 1.2134 | M10: 1.2115
A11: 30 | B11: 1.2133 | C11: 1.211 | D11: 1.2088 | E11: 1.2064 | F11: 1.215 | G11: 1..2127 | H11: 1.2105 | I11: 1.2082 | J11: 1.2168 | K11: 1.2145 | L11: 1.2122 | M11: 1.21
A12: 35 | B12: 1.2079 | C12: 1.2055 | D12: 1.2031 | E12: 1.2006 | F12: 1.2097 | G12: 1.2074 | H12: 1.2049 | I12: 1.2026 | J12: 1.2117 | K12: 1.2092 | L12: 1.2069 | M12: 1.2044
A13: 40 | B13: 1.2001 | C13: 1.1977 | D13: 1.1953 | E13: 1.1928 | F13: 1.2019 | G13: 1.1996 | H13: 1.1971 | I13: 1.1948 | J13: 1.2039 | K13: 1.2014 | L13: 1.199 | M13: 1.1966
A14: 45 | B14: 1.1887 | C14: 1.1863 | D14: 1.1838 | E14: 1.1815 | F14: 1.1906 | G14: 1.1881 | H14: 1.1858 | I14: 1.1833 | J14: 1.1924 | K14: 1.1901 | L14: 1.1876 | M14: 1.1852
A15: 50 | B15: 1.1838 | C15: 1.1814 | D15: 1.179 | E15: 1.1766 | F15: 1.1857 | G15: 1.1833 | H15: 1.1809 | I15: 1.1785 | J15: 1.1876 | K15: 1.1851 | L15: 1.1828 | M15: 1.1803
A16: 55 | B16: 1.1826 | C16: 1.1801 | D16: 1.1777 | E16: 1.1753 | F16: 1.1844 | G16: 1.182 | H16: 1.1796 | I16: 1.1772 | J16: 1.1863 | K16: 1.1838 | L16: 1.1815 | M16: 1.179
A17: 60 | B17: 1.181 | C17: 1.1785 | D17: 1.1761 | E17: 1.1737 | F17: 1.1828 | G17: 1.1804 | H17: 1.178 | I17: 1.1756 | J17: 1.1847 | K17: 1.1822 | L17: 1.1799 | M17: 1.1774
A18: 65 | B18: 1.1776 | C18: 1.175 | D18: 1.1723 | E18: 1.1696 | F18: 1.1798 | G18: 1.1771 | H18: 1.1744 | I18: 1.1718 | J18: 1.1819 | K18: 1.1792 | L18: 1.1766 | M18: 1.1739
A19: 70 | B19: 1.1767 | C19: 1.1739 | D19: 1.1711 | E19: 1.1683 | F19: 1.179 | G19: 1.1761 | H19: 1.1734 | I19: 1.1706 | J19: 1.1813 | K19: 1.1785 | L19: 1.1756 | M19: 1.1728
A20: 75 | B20: 1.1742 | C20: 1.1714 | D20: 1.1685 | E20: 1.1658 | F20: 1.1765 | G20: 1.1737 | H20: 1.1709 | I20: 1.168 | J20: 1.1787 | K20: 1.1759 | L20: 1.1731 | M20: 1.1704
A21: 80 | B21: 1.1718 | C21: 1.169 | D21: 1.1661 | E21: 1.1633 | F21: 1.174 | G21: 1.1712 | H21: 1.1684 | I21: 1.1656 | J21: 1.763 | K21: 1.1735 | L21: 1.1707 | M21: 1.1679
A22: 85 | B22: 1.1696 | C22: 1.1667 | D22: 1.1639 | E22: 1.1612 | F22: 1.1719 | G22: 1.1691 | H22: 1.1662 | I22: 1.1634 | J22: 1.1741 | K22: 1.1713 | L22: 1.1685 | M22: 1.1657
A23: 90 | B23: 1.1687 | C23: 1.657 | D23: 1.1628 | E23: 1.1598 | F23: 1.171 | G23: 1.1681 | H23: 1.1654 | I23: 1.1622 | J23: 1.1735 | K23: 1.1705 | L23: 1.1676 | M23: 1.1646
... A44: 195 | B44: 1.1505 | C44: 1.1474 | D44: 1.1443 | E44: 1.1413 | F44: 1.153 | G44: 1.1499 | H44: 1.1468 | I44: 1.1437 | J44: 1.1555 | K44: 1.1525 | L44: 1.1494 | M44: 1.1463
A45: >200 | B45: 1.1499 | C45: 1.1468 | D45: 1.1438 | E45: 1.1407 | F45: 1.1525 | G45: 1.1494 | H45: 1.1463 | I45: 1.1433 | J45: 1.1551 | K45: 1.152 | L45: 1.1489 | M45: 1.1458

Sheet งวดงาน
E1: 23253000
B2: มูลค่างานในงวด | C2: ค่าใช้จ่ายพิเศษ | D2: รวมมูลค่างวด | E2: คิดเป็น | F2: ปรับเป็น
A3: 1 | B3: =1.2352*1000000 -> 1235200 | C3: 650000 | D3: =+C3+B3 -> 1885200 | E3: =+D3/$E$1 -> 0.08107341 | F3: 0.1
A4: 2 | B4: =2100000*1.2352 -> 2593920 | C4: 650000 | D4: =+C4+B4 -> 3243920 | E4: =+D4/$E$1 -> 0.13950544 | F4: 0.1
A5: 3 | B5: =1.2352*850000 -> 1049920 | C5: 400000 | D5: =+C5+B5 -> 1449920 | E5: =+D5/$E$1 -> 0.062354105 | F5: 0.08
A6: 4 | B6: =1.2352*1250000 -> 1544000 | C6: 400000 | D6: =+C6+B6 -> 1944000 | E6: =+D6/$E$1 -> 0.083602116 | F6: 0.08
A7: 5 | B7: =1.2352*1250000 -> 1544000 | C7: 400000 | D7: =+C7+B7 -> 1944000 | E7: =+D7/$E$1 -> 0.083602116 | F7: 0.08
A8: 6 | B8: =1.2352*1300000 -> 1605760 | C8: 400000 | D8: =+C8+B8 -> 2005760 | E8: =+D8/$E$1 -> 0.086258117 | F8: 0.08
A9: 7 | B9: =1.2352*800000 -> 988160 | C9: 400000 | D9: =+C9+B9 -> 1388160 | E9: =+D9/$E$1 -> 0.059698103 | F9: 0.06
A10: 8 | B10: =1.2352*400000 -> 494080 | C10: 400000 | D10: =+C10+B10 -> 894080 | E10: =+D10/$E$1 -> 0.038450092 | F10: 0.04
A11: 9 | B11: =1.2352*400000 -> 494080 | C11: 300000 | D11: =+C11+B11 -> 794080 | E11: =+D11/$E$1 -> 0.034149572 | F11: 0.04
A12: 10 | B12: =1.2352*1350000 -> 1667520 | C12: 300000 | D12: =+C12+B12 -> 1967520 | E12: =+D12/$E$1 -> 0.084613598 | F12: 0.08
A13: 11 | B13: =1.2352*1350000 -> 1667520 | C13: 300000 | D13: =+C13+B13 -> 1967520 | E13: =+D13/$E$1 -> 0.084613598 | F13: 0.08
A14: 12 | B14: =1.2352*1580000 -> 1951616 | C14: 300000 | D14: =+C14+B14 -> 2251616 | E14: =+D14/$E$1 -> 0.096831205 | F14: 0.08
A15: 13 | B15: =1.2352*1000000 -> 1235200 | C15: 300000 | D15: =+C15+B15 -> 1535200 | E15: =+D15/$E$1 -> 0.066021589 | F15: 0.1
B16: =SUM(B3:B15) -> 18070976 | C16: =SUM(C3:C15) -> 5200000 | D16: =+C16+B16 -> 23270976 | E16: =SUM(E3:E15) -> 1.0007731 | F16: =SUM(F3:F15) -> 1

Sheet ครุภัณฑ์
A1: แบบแสดงรายการปริมาณงานและราคา
A2: กลุ่มงาน | B2: ='ใบสรุปแบบ ปร.5 (ก) '!B2 -> งานอาคาร | C2: แบบเลขที่ | D2: =+'แบบ ปร.6'!B4 -> 62-2-101,63-5-006,62-4-030
A3: ชื่อโครงการ | B3: =+'แบบ ปร.6'!B2 -> งานจ้างก่อสร้างอาคารพักนายทหารประทวนโสด (NCOQ) พร้อมสิ่งอำนวยความสะดวก ของ สอ.รฝ. จำนวน 2 หลัง
A4: สถานที่ | B4: =+'แบบ ปร.6'!B3 -> จ.ชลบุรี | C4: หน่วยงานเจ้าของโครงการ
A6: ลำดับที่ | B6: รายการ | C6: จำนวน | D6: หน่วย | E6: ค่าวัสดุ (บาท ) | G6: ค่าแรงงาน (บาท ) | I6: รวม (บาท ) | J6: หมายเหตุ
E7: ราคาหน่วยละ | F7: จำนวนเงิน | G7: ราคาหน่วยละ | H7: จำนวนเงิน | I7: วัสดุและแรงงาน
B8: ครุภัณฑ์
B9: ครุภัณฑ์ระบบประปา
B10: ถังเก็บน้ำ (ใต้ดิน)
B11: - ถังเก็บน้ำสำเร็จรูป (ไฟเบอร์กลาสเสริมแรง) ทรงกระบอกหนาแนวนอน | C11: 1 | D11: ถัง | E11: 292859 | F11: =SUM(E11*C11) -> 292859 | G11: - | H11: - | I11: =SUM(F11) -> 292859 | K11: 418370 | L11: 0.3
B12: ชนิดวางใต้ดิน ขนาดความจุไม่น้อยกว่า 50 ลบ.ม.
B13: เครื่องสูบน้ำ
B14: - เครื่องสูบน้ำเสริมแรงดัน 1ชุด จำนวน 2 เครื่อง พร้อมระบบควบคุม | C14: 1 | D14: ชุด | E14: 98812 | F14: =SUM(E14*C14) -> 98812 | G14: - | H14: - | I14: =SUM(F14) -> 98812 | K14: =SUM('[1]แบบ ปร.4_ประปา'!L103) -> 0
B15: End Suction, Horizontal, Multistage or single stage, Close Coupled,
B16: Centrifugal Pumps
B17: อัตราการสูบจ่ายไม่น้อยกว่า 20 ลบ./ม. ต่อชั่วโมง ที่ TDH 30 ม.
B18: ขับด้วยมอเตอร์ไฟฟ้า (TEFC) ขนาดไม่น้อยกว่า 2.0 กิโลวัตต์/ชุด
B19: (รายละเอียดตามรายการประกอบแบบ)
B20: รวม | F20: =SUM(F8:F19) -> 391671 | H20: =SUM(H8:H19) -> 0
B21: รวมเงินหน้านี้ | I21: =SUM(I8:I20) -> 391671
B22: - ครุภัณฑ์ระบบประปา | C22: 1 | D22: หลัง | E22: =+F20 -> 391671 | F22: =+E22*C22 -> 391671 | G22: =+H20 -> 0 | H22: =+G22*C22 -> 0 | I22: =+H22+F22 -> 391671 | K22: =+G22+E22 -> 391671
B23: - ครุภัณฑ์ระบบประปา | C23: 2 | D23: หลัง | E23: =+F22 -> 391671 | F23: =+E23*C23 -> 783342 | G23: =+H22 -> 0 | H23: =+G23*C23 -> 0 | I23: =+H23+F23 -> 783342 | K23: =+G23+E23 -> 391671
B26: รวมเงินหน้านี้ | I26: =+I23 -> 783342
